| Back to Multiple platform build/check report for BioC 3.17 |
|
This page was generated on 2022-12-26 11:08:42 -0500 (Mon, 26 Dec 2022).
| Hostname | OS | Arch (*) | R version | Installed pkgs |
|---|---|---|---|---|
| nebbiolo1 | Linux (Ubuntu 22.04.1 LTS) | x86_64 | R Under development (unstable) (2022-12-10 r83428) -- "Unsuffered Consequences" | 4455 |
| palomino3 | Windows Server 2022 Datacenter | x64 | R Under development (unstable) (2022-12-10 r83428 ucrt) -- "Unsuffered Consequences" | 4199 |
| merida1 | macOS 10.14.6 Mojave | x86_64 | R Under development (unstable) (2022-12-10 r83428) -- "Unsuffered Consequences" | 4245 |
| Click on any hostname to see more info about the system (e.g. compilers) (*) as reported by 'uname -p', except on Windows and Mac OS X | ||||
|
To the developers/maintainers of the TypeInfo package: - Please allow up to 24 hours (and sometimes 48 hours) for your latest push to git@git.bioconductor.org:packages/TypeInfo.git to reflect on this report. See How and When does the builder pull? When will my changes propagate? for more information. - Make sure to use the following settings in order to reproduce any error or warning you see on this page. |
| Package 2093/2158 | Hostname | OS / Arch | INSTALL | BUILD | CHECK | BUILD BIN | ||||||||
| TypeInfo 1.65.0 (landing page) Duncan Temple Lang
| nebbiolo1 | Linux (Ubuntu 22.04.1 LTS) / x86_64 | OK | OK | OK | |||||||||
| palomino3 | Windows Server 2022 Datacenter / x64 | OK | OK | OK | OK | |||||||||
| merida1 | macOS 10.14.6 Mojave / x86_64 | OK | OK | OK | OK | |||||||||
| Package: TypeInfo |
| Version: 1.65.0 |
| Command: rm -rf TypeInfo.buildbin-libdir && mkdir TypeInfo.buildbin-libdir && F:\biocbuild\bbs-3.17-bioc\R\bin\R.exe CMD INSTALL --build --library=TypeInfo.buildbin-libdir TypeInfo_1.65.0.tar.gz |
| StartedAt: 2022-12-26 09:22:32 -0500 (Mon, 26 Dec 2022) |
| EndedAt: 2022-12-26 09:22:45 -0500 (Mon, 26 Dec 2022) |
| EllapsedTime: 12.8 seconds |
| RetCode: 0 |
| Status: OK |
| PackageFile: TypeInfo_1.65.0.zip |
| PackageFileSize: 336.1 KiB |
############################################################################## ############################################################################## ### ### Running command: ### ### rm -rf TypeInfo.buildbin-libdir && mkdir TypeInfo.buildbin-libdir && F:\biocbuild\bbs-3.17-bioc\R\bin\R.exe CMD INSTALL --build --library=TypeInfo.buildbin-libdir TypeInfo_1.65.0.tar.gz ### ############################################################################## ############################################################################## * installing *source* package 'TypeInfo' ... ** using staged installation ** R ** inst ** byte-compile and prepare package for lazy loading ** help *** installing help indices ** building package indices ** installing vignettes ** testing if installed package can be loaded from temporary location ** testing if installed package can be loaded from final location ** testing if installed package keeps a record of temporary installation path * MD5 sums packaged installation of 'TypeInfo' as TypeInfo_1.65.0.zip * DONE (TypeInfo)