| Back to Multiple platform build/check report for BioC 3.17: simplified long | 
  | 
This page was generated on 2023-10-16 11:35:51 -0400 (Mon, 16 Oct 2023).
| Hostname | OS | Arch (*) | R version | Installed pkgs | 
|---|---|---|---|---|
| nebbiolo1 | Linux (Ubuntu 22.04.2 LTS) | x86_64 | 4.3.1 (2023-06-16) -- "Beagle Scouts" | 4626 | 
| palomino3 | Windows Server 2022 Datacenter | x64 | 4.3.1 (2023-06-16 ucrt) -- "Beagle Scouts" | 4379 | 
| merida1 | macOS 12.6.4 Monterey | x86_64 | 4.3.1 (2023-06-16) -- "Beagle Scouts" | 4395 | 
| Click on any hostname to see more info about the system (e.g. compilers) (*) as reported by 'uname -p', except on Windows and Mac OS X | ||||
| Package 2123/2230 | Hostname | OS / Arch | INSTALL | BUILD | CHECK | BUILD BIN | ||||||||
| TrajectoryGeometry 1.8.0  (landing page) Michael Shapiro 
  | nebbiolo1 | Linux (Ubuntu 22.04.2 LTS) / x86_64 | OK | OK | OK | |||||||||
| palomino3 | Windows Server 2022 Datacenter / x64 | OK | OK | OK | OK | |||||||||
| merida1 | macOS 12.6.4 Monterey / x86_64 | OK | OK | OK | OK | |||||||||
| kjohnson2 | macOS 12.6.1 Monterey / arm64 | see weekly results here | ||||||||||||
| 
To the developers/maintainers of the TrajectoryGeometry package: - Allow up to 24 hours (and sometimes 48 hours) for your latest push to git@git.bioconductor.org:packages/TrajectoryGeometry.git to reflect on this report. See Troubleshooting Build Report for more information. - Use the following Renviron settings to reproduce errors and warnings. - If 'R CMD check' started to fail recently on the Linux builder(s) over a missing dependency, add the missing dependency to 'Suggests:' in your DESCRIPTION file. See Renviron.bioc for more information.  | 
| Package: TrajectoryGeometry | 
| Version: 1.8.0 | 
| Command: /home/biocbuild/bbs-3.17-bioc/R/bin/R CMD check --install=check:TrajectoryGeometry.install-out.txt --library=/home/biocbuild/bbs-3.17-bioc/R/site-library --timings TrajectoryGeometry_1.8.0.tar.gz | 
| StartedAt: 2023-10-16 01:49:56 -0400 (Mon, 16 Oct 2023) | 
| EndedAt: 2023-10-16 01:55:47 -0400 (Mon, 16 Oct 2023) | 
| EllapsedTime: 350.2 seconds | 
| RetCode: 0 | 
| Status: OK | 
| CheckDir: TrajectoryGeometry.Rcheck | 
| Warnings: 0 | 
##############################################################################
##############################################################################
###
### Running command:
###
###   /home/biocbuild/bbs-3.17-bioc/R/bin/R CMD check --install=check:TrajectoryGeometry.install-out.txt --library=/home/biocbuild/bbs-3.17-bioc/R/site-library --timings TrajectoryGeometry_1.8.0.tar.gz
###
##############################################################################
##############################################################################
* using log directory ‘/home/biocbuild/bbs-3.17-bioc/meat/TrajectoryGeometry.Rcheck’
* using R version 4.3.1 (2023-06-16)
* using platform: x86_64-pc-linux-gnu (64-bit)
* R was compiled by
    gcc (Ubuntu 11.3.0-1ubuntu1~22.04.1) 11.3.0
    GNU Fortran (Ubuntu 11.3.0-1ubuntu1~22.04.1) 11.3.0
* running under: Ubuntu 22.04.3 LTS
* using session charset: UTF-8
* checking for file ‘TrajectoryGeometry/DESCRIPTION’ ... OK
* this is package ‘TrajectoryGeometry’ version ‘1.8.0’
* package encoding: UTF-8
* checking package namespace information ... OK
* checking package dependencies ... OK
* checking if this is a source package ... OK
* checking if there is a namespace ... OK
* checking for hidden files and directories ... OK
* checking for portable file names ... OK
* checking for sufficient/correct file permissions ... OK
* checking whether package ‘TrajectoryGeometry’ can be installed ... OK
* checking installed package size ... OK
* checking package directory ... OK
* checking ‘build’ directory ... OK
* checking DESCRIPTION meta-information ... OK
* checking top-level files ... OK
* checking for left-over files ... OK
* checking index information ... OK
* checking package subdirectories ... OK
* checking R files for non-ASCII characters ... OK
* checking R files for syntax errors ... OK
* checking whether the package can be loaded ... OK
* checking whether the package can be loaded with stated dependencies ... OK
* checking whether the package can be unloaded cleanly ... OK
* checking whether the namespace can be loaded with stated dependencies ... OK
* checking whether the namespace can be unloaded cleanly ... OK
* checking loading without being on the library search path ... OK
* checking dependencies in R code ... OK
* checking S3 generic/method consistency ... OK
* checking replacement functions ... OK
* checking foreign function calls ... OK
* checking R code for possible problems ... NOTE
visualiseBranchPointStats: no visible binding for global variable
  ‘value’
visualiseBranchPointStats: no visible binding for global variable
  ‘logPValue’
visualiseTrajectoryStats: no visible binding for global variable ‘type’
visualiseTrajectoryStats: no visible binding for global variable
  ‘value’
Undefined global functions or variables:
  logPValue type value
* checking Rd files ... OK
* checking Rd metadata ... OK
* checking Rd cross-references ... OK
* checking for missing documentation entries ... OK
* checking for code/documentation mismatches ... OK
* checking Rd \usage sections ... OK
* checking Rd contents ... OK
* checking for unstated dependencies in examples ... OK
* checking contents of ‘data’ directory ... OK
* checking data for non-ASCII characters ... OK
* checking LazyData ... OK
* checking data for ASCII and uncompressed saves ... OK
* checking files in ‘vignettes’ ... OK
* checking examples ... OK
Examples with CPU (user + system) or elapsed time > 5s
                            user system elapsed
testPathForDirectionality 11.015   0.02  11.035
analyseBranchPoint        10.662   0.12  10.782
* checking for unstated dependencies in vignettes ... OK
* checking package vignettes in ‘inst/doc’ ... OK
* checking running R code from vignettes ...
  ‘SingleCellTrajectoryAnalysis.Rmd’ using ‘UTF-8’... OK
  ‘TrajectoryGeometry.Rmd’ using ‘UTF-8’... OK
 NONE
* checking re-building of vignette outputs ... OK
* checking PDF version of manual ... OK
* DONE
Status: 1 NOTE
See
  ‘/home/biocbuild/bbs-3.17-bioc/meat/TrajectoryGeometry.Rcheck/00check.log’
for details.
TrajectoryGeometry.Rcheck/00install.out
############################################################################## ############################################################################## ### ### Running command: ### ### /home/biocbuild/bbs-3.17-bioc/R/bin/R CMD INSTALL TrajectoryGeometry ### ############################################################################## ############################################################################## * installing to library ‘/home/biocbuild/bbs-3.17-bioc/R/site-library’ * installing *source* package ‘TrajectoryGeometry’ ... ** using staged installation ** R ** data *** moving datasets to lazyload DB ** inst ** byte-compile and prepare package for lazy loading ** help *** installing help indices ** building package indices ** installing vignettes ** testing if installed package can be loaded from temporary location ** testing if installed package can be loaded from final location ** testing if installed package keeps a record of temporary installation path * DONE (TrajectoryGeometry)
TrajectoryGeometry.Rcheck/TrajectoryGeometry-Ex.timings
| name | user | system | elapsed | |
| analyseBranchPoint | 10.662 | 0.120 | 10.782 | |
| analyseSingleCellTrajectory | 2.010 | 0.000 | 2.011 | |
| circleOnTheUnitSphere | 0.000 | 0.001 | 0.001 | |
| distanceBetweenTrajectories | 1.138 | 0.011 | 1.148 | |
| findSphereClusterCenter | 0.059 | 0.000 | 0.059 | |
| findSphericalDistance | 0.001 | 0.000 | 0.001 | |
| generateRandomPaths | 0.001 | 0.000 | 0.001 | |
| generateRandomUnitVector | 0.000 | 0.000 | 0.001 | |
| getDistanceDataForPaths | 0.337 | 0.003 | 0.340 | |
| getSphericalData | 0.111 | 0.008 | 0.118 | |
| getStepLengths | 0.001 | 0.000 | 0.001 | |
| orthonormalBasis | 0.001 | 0.000 | 0.001 | |
| pathProgression | 0.001 | 0.000 | 0.001 | |
| pathToSphericalData | 0.044 | 0.004 | 0.047 | |
| plotPathProjectionCenterAndCircle | 0.074 | 0.016 | 0.065 | |
| projectPathToSphere | 0.001 | 0.000 | 0.000 | |
| samplePath | 0.003 | 0.000 | 0.003 | |
| testPathForDirectionality | 11.015 | 0.020 | 11.035 | |
| visualiseBranchPointStats | 0.908 | 0.000 | 0.909 | |
| visualiseTrajectoryStats | 2.403 | 0.028 | 2.431 | |