| Back to Multiple platform build/check report for BioC 3.17: simplified long |
|
This page was generated on 2023-10-16 11:37:37 -0400 (Mon, 16 Oct 2023).
| Hostname | OS | Arch (*) | R version | Installed pkgs |
|---|---|---|---|---|
| nebbiolo1 | Linux (Ubuntu 22.04.2 LTS) | x86_64 | 4.3.1 (2023-06-16) -- "Beagle Scouts" | 4626 |
| palomino3 | Windows Server 2022 Datacenter | x64 | 4.3.1 (2023-06-16 ucrt) -- "Beagle Scouts" | 4379 |
| merida1 | macOS 12.6.4 Monterey | x86_64 | 4.3.1 (2023-06-16) -- "Beagle Scouts" | 4395 |
| Click on any hostname to see more info about the system (e.g. compilers) (*) as reported by 'uname -p', except on Windows and Mac OS X | ||||
| Package 2091/2230 | Hostname | OS / Arch | INSTALL | BUILD | CHECK | BUILD BIN | ||||||||
| TFutils 1.20.0 (landing page) Vincent Carey
| nebbiolo1 | Linux (Ubuntu 22.04.2 LTS) / x86_64 | OK | OK | OK | |||||||||
| palomino3 | Windows Server 2022 Datacenter / x64 | OK | OK | OK | OK | |||||||||
| merida1 | macOS 12.6.4 Monterey / x86_64 | OK | OK | OK | OK | |||||||||
| kjohnson2 | macOS 12.6.1 Monterey / arm64 | see weekly results here | ||||||||||||
|
To the developers/maintainers of the TFutils package: - Allow up to 24 hours (and sometimes 48 hours) for your latest push to git@git.bioconductor.org:packages/TFutils.git to reflect on this report. See Troubleshooting Build Report for more information. - Use the following Renviron settings to reproduce errors and warnings. - If 'R CMD check' started to fail recently on the Linux builder(s) over a missing dependency, add the missing dependency to 'Suggests:' in your DESCRIPTION file. See Renviron.bioc for more information. |
| Package: TFutils |
| Version: 1.20.0 |
| Command: /Library/Frameworks/R.framework/Resources/bin/R CMD check --install=check:TFutils.install-out.txt --library=/Library/Frameworks/R.framework/Resources/library --no-vignettes --timings TFutils_1.20.0.tar.gz |
| StartedAt: 2023-10-16 08:00:12 -0400 (Mon, 16 Oct 2023) |
| EndedAt: 2023-10-16 08:11:34 -0400 (Mon, 16 Oct 2023) |
| EllapsedTime: 682.8 seconds |
| RetCode: 0 |
| Status: OK |
| CheckDir: TFutils.Rcheck |
| Warnings: 0 |
##############################################################################
##############################################################################
###
### Running command:
###
### /Library/Frameworks/R.framework/Resources/bin/R CMD check --install=check:TFutils.install-out.txt --library=/Library/Frameworks/R.framework/Resources/library --no-vignettes --timings TFutils_1.20.0.tar.gz
###
##############################################################################
##############################################################################
* using log directory ‘/Users/biocbuild/bbs-3.17-bioc/meat/TFutils.Rcheck’
* using R version 4.3.1 (2023-06-16)
* using platform: x86_64-apple-darwin20 (64-bit)
* R was compiled by
Apple clang version 14.0.3 (clang-1403.0.22.14.1)
GNU Fortran (GCC) 12.2.0
* running under: macOS Monterey 12.6.4
* using session charset: UTF-8
* using option ‘--no-vignettes’
* checking for file ‘TFutils/DESCRIPTION’ ... OK
* this is package ‘TFutils’ version ‘1.20.0’
* package encoding: UTF-8
* checking package namespace information ... OK
* checking package dependencies ... OK
* checking if this is a source package ... OK
* checking if there is a namespace ... OK
* checking for hidden files and directories ... OK
* checking for portable file names ... OK
* checking for sufficient/correct file permissions ... OK
* checking whether package ‘TFutils’ can be installed ... OK
* checking installed package size ... NOTE
installed size is 5.4Mb
sub-directories of 1Mb or more:
data 3.5Mb
lambert 1.4Mb
* checking package directory ... OK
* checking ‘build’ directory ... OK
* checking DESCRIPTION meta-information ... OK
* checking top-level files ... OK
* checking for left-over files ... OK
* checking index information ... OK
* checking package subdirectories ... OK
* checking R files for non-ASCII characters ... OK
* checking R files for syntax errors ... OK
* checking whether the package can be loaded ... OK
* checking whether the package can be loaded with stated dependencies ... OK
* checking whether the package can be unloaded cleanly ... OK
* checking whether the namespace can be loaded with stated dependencies ... OK
* checking whether the namespace can be unloaded cleanly ... OK
* checking dependencies in R code ... OK
* checking S3 generic/method consistency ... OK
* checking replacement functions ... OK
* checking foreign function calls ... OK
* checking R code for possible problems ... NOTE
fimo_granges : proctext: warning in read.delim(con, h = FALSE,
stringsAsFactors = FALSE, sep = "\t"): partial argument match of 'h'
to 'header'
setupHIZE: warning in read.delim(txtfn, sep = "\t", skip = 3, h =
FALSE, stringsAsFactors = FALSE): partial argument match of 'h' to
'header'
directHitsInCISBP: no visible binding for global variable
‘DISEASE.TRAIT’
directHitsInCISBP: no visible binding for global variable ‘MAPPED_GENE’
directHitsInCISBP: no visible binding for global variable ‘cisbpTFcat’
directHitsInCISBP: no visible binding for global variable ‘HGNC’
directHitsInCISBP: no visible binding for global variable ‘Family_Name’
fimo_granges: no visible global function definition for ‘rowRanges<-’
fimo_granges: no visible global function definition for ‘reduceByRange’
fimo_granges : <anonymous>: no visible global function definition for
‘seqinfo<-’
tffamCirc.prep: no visible binding for global variable ‘TF family’
tffamCirc.prep: no visible binding for global variable ‘TFfamily’
tffamCirc.prep: no visible binding for global variable ‘Transcription
factor’
topTraitsOfTargets: no visible global function definition for ‘mcols’
topTraitsOfTargets: no visible binding for global variable
‘DISEASE.TRAIT’
Undefined global functions or variables:
DISEASE.TRAIT Family_Name HGNC MAPPED_GENE TF family TFfamily
Transcription factor cisbpTFcat mcols reduceByRange rowRanges<-
seqinfo<-
Consider adding
importFrom("base", "factor")
importFrom("stats", "family")
to your NAMESPACE file.
* checking Rd files ... OK
* checking Rd metadata ... OK
* checking Rd cross-references ... OK
* checking for missing documentation entries ... OK
* checking for code/documentation mismatches ... OK
* checking Rd \usage sections ... OK
* checking Rd contents ... OK
* checking for unstated dependencies in examples ... OK
* checking contents of ‘data’ directory ... OK
* checking data for non-ASCII characters ... NOTE
Note: found 62 marked UTF-8 strings
* checking LazyData ... OK
* checking data for ASCII and uncompressed saves ... OK
* checking line endings in Makefiles ... OK
* checking for GNU extensions in Makefiles ... OK
* checking include directives in Makefiles ... OK
* checking files in ‘vignettes’ ... OK
* checking examples ... OK
Examples with CPU (user + system) or elapsed time > 5s
user system elapsed
tffamCirc.plot 42.475 0.871 55.458
topTraitsOfTargets 22.152 0.586 29.401
tffamCirc.prep 21.141 0.148 27.228
fimo16 14.711 0.667 20.491
genemodForGviz 10.586 0.586 14.687
* checking for unstated dependencies in ‘tests’ ... OK
* checking tests ...
Running ‘testthat.R’
OK
* checking for unstated dependencies in vignettes ... OK
* checking package vignettes in ‘inst/doc’ ... OK
* checking running R code from vignettes ... SKIPPED
* checking re-building of vignette outputs ... SKIPPED
* checking PDF version of manual ... OK
* DONE
Status: 3 NOTEs
See
‘/Users/biocbuild/bbs-3.17-bioc/meat/TFutils.Rcheck/00check.log’
for details.
TFutils.Rcheck/00install.out
############################################################################## ############################################################################## ### ### Running command: ### ### /Library/Frameworks/R.framework/Resources/bin/R CMD INSTALL TFutils ### ############################################################################## ############################################################################## * installing to library ‘/Library/Frameworks/R.framework/Versions/4.3-x86_64/Resources/library’ * installing *source* package ‘TFutils’ ... ** using staged installation ** R ** data *** moving datasets to lazyload DB ** inst ** byte-compile and prepare package for lazy loading ** help *** installing help indices ** building package indices ** installing vignettes ** testing if installed package can be loaded from temporary location ** testing if installed package can be loaded from final location ** testing if installed package keeps a record of temporary installation path * DONE (TFutils)
TFutils.Rcheck/tests/testthat.Rout
R version 4.3.1 (2023-06-16) -- "Beagle Scouts"
Copyright (C) 2023 The R Foundation for Statistical Computing
Platform: x86_64-apple-darwin20 (64-bit)
R is free software and comes with ABSOLUTELY NO WARRANTY.
You are welcome to redistribute it under certain conditions.
Type 'license()' or 'licence()' for distribution details.
R is a collaborative project with many contributors.
Type 'contributors()' for more information and
'citation()' on how to cite R or R packages in publications.
Type 'demo()' for some demos, 'help()' for on-line help, or
'help.start()' for an HTML browser interface to help.
Type 'q()' to quit R.
> library(testthat)
> library(TFutils)
>
> test_check("TFutils")
[ FAIL 0 | WARN 0 | SKIP 0 | PASS 5 ]
>
>
> proc.time()
user system elapsed
29.094 1.565 39.795
TFutils.Rcheck/TFutils-Ex.timings
| name | user | system | elapsed | |
| HGNCmap | 0.000 | 0.001 | 0.001 | |
| TFCatalog | 0.908 | 0.031 | 1.393 | |
| TFtargs | 0.001 | 0.000 | 0.001 | |
| URL_s3_tf | 0.000 | 0.000 | 0.001 | |
| anchor_pmids | 0.008 | 0.001 | 0.013 | |
| browse_gotf_main | 0.000 | 0.000 | 0.001 | |
| browse_humantfs_main | 0.000 | 0.000 | 0.001 | |
| browse_lambert_gwaslinks | 0.000 | 0.001 | 0.000 | |
| browse_lambert_main | 0.000 | 0.001 | 0.001 | |
| cisbpTFcat | 0.069 | 0.008 | 0.141 | |
| cisbpTFcat_2.0 | 0.057 | 0.006 | 0.111 | |
| defaultCircosParms | 0.013 | 0.004 | 0.025 | |
| demo_fimo_granges | 0.014 | 0.001 | 0.048 | |
| directHitsInCISBP | 0.406 | 0.024 | 0.675 | |
| encode690 | 0.062 | 0.005 | 0.093 | |
| fimo16 | 14.711 | 0.667 | 20.491 | |
| fimoMap | 0.003 | 0.001 | 0.003 | |
| fimo_granges | 0.001 | 0.001 | 0.002 | |
| genemodForGviz | 10.586 | 0.586 | 14.687 | |
| genemodelDF | 0.208 | 0.003 | 0.260 | |
| get_rslocs_38 | 0.000 | 0.001 | 0.003 | |
| grabTab | 0.476 | 0.018 | 0.653 | |
| gwascat_hg19_chr17 | 0.082 | 0.003 | 0.110 | |
| hocomoco.mono | 0.007 | 0.002 | 0.011 | |
| hocomoco.mono.sep2018 | 0.008 | 0.001 | 0.012 | |
| importFIMO | 0.075 | 0.004 | 0.096 | |
| importFIMO_local_split | 0.021 | 0.016 | 0.050 | |
| lambert_snps | 0.354 | 0.022 | 0.490 | |
| metadata_tf | 0.015 | 0.022 | 0.046 | |
| named_tf | 0.016 | 0.042 | 0.079 | |
| retrieve_gotf_main | 0.000 | 0.000 | 0.002 | |
| retrieve_humantfs_main | 0.000 | 0.001 | 0.000 | |
| retrieve_lambert_main | 0.001 | 0.001 | 0.001 | |
| seqinfo_hg19_chr17 | 0.006 | 0.002 | 0.007 | |
| tffamCirc.plot | 42.475 | 0.871 | 55.458 | |
| tffamCirc.prep | 21.141 | 0.148 | 27.228 | |
| tfhash | 1.127 | 1.733 | 3.680 | |
| tftColl | 0.223 | 0.002 | 0.287 | |
| tftCollMap | 0.002 | 0.001 | 0.006 | |
| topTraitsOfTargets | 22.152 | 0.586 | 29.401 | |