| Back to Multiple platform build/check report for BioC 3.17: simplified long | 
  | 
This page was generated on 2023-10-16 11:36:44 -0400 (Mon, 16 Oct 2023).
| Hostname | OS | Arch (*) | R version | Installed pkgs | 
|---|---|---|---|---|
| nebbiolo1 | Linux (Ubuntu 22.04.2 LTS) | x86_64 | 4.3.1 (2023-06-16) -- "Beagle Scouts" | 4626 | 
| palomino3 | Windows Server 2022 Datacenter | x64 | 4.3.1 (2023-06-16 ucrt) -- "Beagle Scouts" | 4379 | 
| merida1 | macOS 12.6.4 Monterey | x86_64 | 4.3.1 (2023-06-16) -- "Beagle Scouts" | 4395 | 
| Click on any hostname to see more info about the system (e.g. compilers) (*) as reported by 'uname -p', except on Windows and Mac OS X | ||||
| Package 2088/2230 | Hostname | OS / Arch | INSTALL | BUILD | CHECK | BUILD BIN | ||||||||
| TFBSTools 1.38.0  (landing page) Ge Tan 
  | nebbiolo1 | Linux (Ubuntu 22.04.2 LTS) / x86_64 | OK | OK | OK | |||||||||
| palomino3 | Windows Server 2022 Datacenter / x64 | OK | OK | OK | OK | |||||||||
| merida1 | macOS 12.6.4 Monterey / x86_64 | OK | OK | OK | OK | |||||||||
| kjohnson2 | macOS 12.6.1 Monterey / arm64 | see weekly results here | ||||||||||||
| 
To the developers/maintainers of the TFBSTools package: - Allow up to 24 hours (and sometimes 48 hours) for your latest push to git@git.bioconductor.org:packages/TFBSTools.git to reflect on this report. See Troubleshooting Build Report for more information. - Use the following Renviron settings to reproduce errors and warnings. - If 'R CMD check' started to fail recently on the Linux builder(s) over a missing dependency, add the missing dependency to 'Suggests:' in your DESCRIPTION file. See Renviron.bioc for more information.  | 
| Package: TFBSTools | 
| Version: 1.38.0 | 
| Command: F:\biocbuild\bbs-3.17-bioc\R\bin\R.exe CMD check --no-multiarch --install=check:TFBSTools.install-out.txt --library=F:\biocbuild\bbs-3.17-bioc\R\library --no-vignettes --timings TFBSTools_1.38.0.tar.gz | 
| StartedAt: 2023-10-16 07:37:02 -0400 (Mon, 16 Oct 2023) | 
| EndedAt: 2023-10-16 07:42:48 -0400 (Mon, 16 Oct 2023) | 
| EllapsedTime: 346.3 seconds | 
| RetCode: 0 | 
| Status: OK | 
| CheckDir: TFBSTools.Rcheck | 
| Warnings: 0 | 
##############################################################################
##############################################################################
###
### Running command:
###
###   F:\biocbuild\bbs-3.17-bioc\R\bin\R.exe CMD check --no-multiarch --install=check:TFBSTools.install-out.txt --library=F:\biocbuild\bbs-3.17-bioc\R\library --no-vignettes --timings TFBSTools_1.38.0.tar.gz
###
##############################################################################
##############################################################################
* using log directory 'F:/biocbuild/bbs-3.17-bioc/meat/TFBSTools.Rcheck'
* using R version 4.3.1 (2023-06-16 ucrt)
* using platform: x86_64-w64-mingw32 (64-bit)
* R was compiled by
    gcc.exe (GCC) 12.2.0
    GNU Fortran (GCC) 12.2.0
* running under: Windows Server 2022 x64 (build 20348)
* using session charset: UTF-8
* using option '--no-vignettes'
* checking for file 'TFBSTools/DESCRIPTION' ... OK
* checking extension type ... Package
* this is package 'TFBSTools' version '1.38.0'
* checking package namespace information ... OK
* checking package dependencies ... OK
* checking if this is a source package ... OK
* checking if there is a namespace ... OK
* checking for hidden files and directories ... OK
* checking for portable file names ... OK
* checking whether package 'TFBSTools' can be installed ... OK
* used C compiler: 'gcc.exe (GCC) 12.2.0'
* checking installed package size ... OK
* checking package directory ... OK
* checking 'build' directory ... OK
* checking DESCRIPTION meta-information ... OK
* checking top-level files ... OK
* checking for left-over files ... OK
* checking index information ... OK
* checking package subdirectories ... OK
* checking R files for non-ASCII characters ... OK
* checking R files for syntax errors ... OK
* checking whether the package can be loaded ... OK
* checking whether the package can be loaded with stated dependencies ... OK
* checking whether the package can be unloaded cleanly ... OK
* checking whether the namespace can be loaded with stated dependencies ... OK
* checking whether the namespace can be unloaded cleanly ... OK
* checking dependencies in R code ... NOTE
Unexported objects imported by ':::' calls:
  'S4Vectors:::new_SimpleList_from_list' 'seqLogo:::pwm2ic'
  See the note in ?`:::` about the use of this operator.
* checking S3 generic/method consistency ... OK
* checking replacement functions ... OK
* checking foreign function calls ... OK
* checking R code for possible problems ... OK
* checking Rd files ... OK
* checking Rd metadata ... OK
* checking Rd cross-references ... OK
* checking for missing documentation entries ... OK
* checking for code/documentation mismatches ... OK
* checking Rd \usage sections ... OK
* checking Rd contents ... OK
* checking for unstated dependencies in examples ... OK
* checking contents of 'data' directory ... OK
* checking data for non-ASCII characters ... OK
* checking LazyData ... OK
* checking data for ASCII and uncompressed saves ... OK
* checking line endings in C/C++/Fortran sources/headers ... OK
* checking line endings in Makefiles ... OK
* checking compilation flags in Makevars ... OK
* checking for GNU extensions in Makefiles ... OK
* checking for portable use of $(BLAS_LIBS) and $(LAPACK_LIBS) ... OK
* checking use of PKG_*FLAGS in Makefiles ... OK
* checking compiled code ... NOTE
Note: information on .o files for x64 is not available
File 'F:/biocbuild/bbs-3.17-bioc/R/library/TFBSTools/libs/x64/TFBSTools.dll':
  Found 'abort', possibly from 'abort' (C), 'runtime' (Fortran)
Compiled code should not call entry points which might terminate R nor
write to stdout/stderr instead of to the console, nor use Fortran I/O
nor system RNGs nor [v]sprintf. The detected symbols are linked into
the code but might come from libraries and not actually be called.
See 'Writing portable packages' in the 'Writing R Extensions' manual.
* checking files in 'vignettes' ... OK
* checking examples ... OK
Examples with CPU (user + system) or elapsed time > 5s
                       user system elapsed
SiteSetList-class     40.53   0.66   41.20
searchAln-methods      9.45   0.17    9.65
toGRangesList-methods  7.61   0.08    7.69
SiteSet-class          5.08   0.14    5.22
* checking for unstated dependencies in 'tests' ... OK
* checking tests ...
  Running 'testthat.R'
 OK
* checking for unstated dependencies in vignettes ... OK
* checking package vignettes in 'inst/doc' ... OK
* checking running R code from vignettes ... SKIPPED
* checking re-building of vignette outputs ... SKIPPED
* checking PDF version of manual ... OK
* DONE
Status: 2 NOTEs
See
  'F:/biocbuild/bbs-3.17-bioc/meat/TFBSTools.Rcheck/00check.log'
for details.
TFBSTools.Rcheck/00install.out
##############################################################################
##############################################################################
###
### Running command:
###
###   F:\biocbuild\bbs-3.17-bioc\R\bin\R.exe CMD INSTALL TFBSTools
###
##############################################################################
##############################################################################
* installing to library 'F:/biocbuild/bbs-3.17-bioc/R/library'
* installing *source* package 'TFBSTools' ...
** using staged installation
** libs
using C compiler: 'gcc.exe (GCC) 12.2.0'
gcc  -I"F:/biocbuild/bbs-3.17-bioc/R/include" -DNDEBUG     -I"C:/rtools43/x86_64-w64-mingw32.static.posix/include"     -O2 -Wall  -mfpmath=sse -msse2 -mstackrealign  -c matrixAlignerDynamic.c -o matrixAlignerDynamic.o
matrixAlignerDynamic.c: In function 'score':
matrixAlignerDynamic.c:235:22: warning: 'best_pntr' may be used uninitialized [-Wmaybe-uninitialized]
  235 |   while (current_pntr->father != NULL){ // while the father of the current pointer exists, walk through the best posible alignment
      |          ~~~~~~~~~~~~^~~~~~~~
matrixAlignerDynamic.c:115:17: note: 'best_pntr' was declared here
  115 |   struct entry *best_pntr; // pointer to the best entry so far
      |                 ^~~~~~~~~
gcc  -I"F:/biocbuild/bbs-3.17-bioc/R/include" -DNDEBUG     -I"C:/rtools43/x86_64-w64-mingw32.static.posix/include"     -O2 -Wall  -mfpmath=sse -msse2 -mstackrealign  -c R_init_TFBSTools.c -o R_init_TFBSTools.o
gcc -shared -s -static-libgcc -o TFBSTools.dll tmp.def matrixAlignerDynamic.o R_init_TFBSTools.o -LC:/rtools43/x86_64-w64-mingw32.static.posix/lib/x64 -LC:/rtools43/x86_64-w64-mingw32.static.posix/lib -LF:/biocbuild/bbs-3.17-bioc/R/bin/x64 -lR
installing to F:/biocbuild/bbs-3.17-bioc/R/library/00LOCK-TFBSTools/00new/TFBSTools/libs/x64
** R
** data
*** moving datasets to lazyload DB
** inst
** byte-compile and prepare package for lazy loading
Creating a new generic function for 'seqLogo' in package 'TFBSTools'
Creating a generic function for 'colSums' from package 'base' in package 'TFBSTools'
Creating a generic function for 'rowSums' from package 'base' in package 'TFBSTools'
** help
*** installing help indices
** building package indices
** installing vignettes
** testing if installed package can be loaded from temporary location
** testing if installed package can be loaded from final location
** testing if installed package keeps a record of temporary installation path
* DONE (TFBSTools)
TFBSTools.Rcheck/tests/testthat.Rout
R version 4.3.1 (2023-06-16 ucrt) -- "Beagle Scouts"
Copyright (C) 2023 The R Foundation for Statistical Computing
Platform: x86_64-w64-mingw32/x64 (64-bit)
R is free software and comes with ABSOLUTELY NO WARRANTY.
You are welcome to redistribute it under certain conditions.
Type 'license()' or 'licence()' for distribution details.
R is a collaborative project with many contributors.
Type 'contributors()' for more information and
'citation()' on how to cite R or R packages in publications.
Type 'demo()' for some demos, 'help()' for on-line help, or
'help.start()' for an HTML browser interface to help.
Type 'q()' to quit R.
> library(testthat)
> library(TFBSTools)
> 
> test_check("TFBSTools")
[ FAIL 0 | WARN 0 | SKIP 0 | PASS 34 ]
> 
> proc.time()
   user  system elapsed 
  13.79    1.07   15.21 
TFBSTools.Rcheck/TFBSTools-Ex.timings
| name | user | system | elapsed | |
| IUPAC2Matrix | 0 | 0 | 0 | |
| MA0004.1 | 0.00 | 0.02 | 0.01 | |
| MotifSet-class | 0 | 0 | 0 | |
| PFMSimilarity-methods | 0.33 | 0.00 | 0.57 | |
| PWMSimilarity-methods | 0.00 | 0.01 | 0.02 | |
| SiteSet-class | 5.08 | 0.14 | 5.22 | |
| SiteSetList-class | 40.53 | 0.66 | 41.20 | |
| TFFM-class | 0.04 | 0.00 | 0.05 | |
| XMatrix-class | 0.02 | 0.00 | 0.01 | |
| XMatrixList-class | 0.02 | 0.02 | 0.04 | |
| deleteMatrixHavingID-methods | 0.09 | 0.11 | 0.40 | |
| dmmEM-methods | 0 | 0 | 0 | |
| getEmissionProb | 0.17 | 0.00 | 0.19 | |
| getMatrixByID-methods | 0.24 | 0.04 | 0.44 | |
| getMatrixSet-methods | 0 | 0 | 0 | |
| getPosProb | 0.12 | 0.03 | 0.15 | |
| makeFlatFileDir | 0 | 0 | 0 | |
| parseMEMEOutput | 0.14 | 0.00 | 0.14 | |
| permuteMatrix-methods | 0.04 | 0.02 | 0.06 | |
| rPWMDmm-methods | 0 | 0 | 0 | |
| readJASPARMatrix | 0.03 | 0.00 | 0.03 | |
| readXMLTFFM | 0.04 | 0.00 | 0.03 | |
| runMEME-methods | 0 | 0 | 0 | |
| sampleRanges | 0.23 | 0.08 | 0.32 | |
| searchAln-methods | 9.45 | 0.17 | 9.65 | |
| searchPairBSgenome-methods | 0 | 0 | 0 | |
| searchSeq-methods | 0.96 | 0.06 | 1.02 | |
| seqLogo | 0.59 | 0.05 | 0.64 | |
| shannon.entropy | 0 | 0 | 0 | |
| toGRangesList-methods | 7.61 | 0.08 | 7.69 | |
| toICM-methods | 0.02 | 0.00 | 0.01 | |
| toPWM-methods | 0.01 | 0.00 | 0.02 | |