| Back to Multiple platform build/check report for BioC 3.17: simplified long | 
  | 
This page was generated on 2023-10-16 11:37:34 -0400 (Mon, 16 Oct 2023).
| Hostname | OS | Arch (*) | R version | Installed pkgs | 
|---|---|---|---|---|
| nebbiolo1 | Linux (Ubuntu 22.04.2 LTS) | x86_64 | 4.3.1 (2023-06-16) -- "Beagle Scouts" | 4626 | 
| palomino3 | Windows Server 2022 Datacenter | x64 | 4.3.1 (2023-06-16 ucrt) -- "Beagle Scouts" | 4379 | 
| merida1 | macOS 12.6.4 Monterey | x86_64 | 4.3.1 (2023-06-16) -- "Beagle Scouts" | 4395 | 
| Click on any hostname to see more info about the system (e.g. compilers) (*) as reported by 'uname -p', except on Windows and Mac OS X | ||||
| Package 1993/2230 | Hostname | OS / Arch | INSTALL | BUILD | CHECK | BUILD BIN | ||||||||
| SpliceWiz 1.2.3  (landing page) Alex Chit Hei Wong 
  | nebbiolo1 | Linux (Ubuntu 22.04.2 LTS) / x86_64 | OK | OK | OK | |||||||||
| palomino3 | Windows Server 2022 Datacenter / x64 | OK | OK | OK | OK | |||||||||
| merida1 | macOS 12.6.4 Monterey / x86_64 | OK | OK | OK | OK | |||||||||
| kjohnson2 | macOS 12.6.1 Monterey / arm64 | see weekly results here | ||||||||||||
| 
To the developers/maintainers of the SpliceWiz package: - Allow up to 24 hours (and sometimes 48 hours) for your latest push to git@git.bioconductor.org:packages/SpliceWiz.git to reflect on this report. See Troubleshooting Build Report for more information. - Use the following Renviron settings to reproduce errors and warnings. - If 'R CMD check' started to fail recently on the Linux builder(s) over a missing dependency, add the missing dependency to 'Suggests:' in your DESCRIPTION file. See Renviron.bioc for more information.  | 
| Package: SpliceWiz | 
| Version: 1.2.3 | 
| Command: rm -rf SpliceWiz.buildbin-libdir && mkdir SpliceWiz.buildbin-libdir && /Users/biocbuild/BBS/utils/build-universal.sh SpliceWiz_1.2.3.tar.gz /Library/Frameworks/R.framework/Resources/bin/R SpliceWiz.buildbin-libdir | 
| StartedAt: 2023-10-16 10:17:38 -0400 (Mon, 16 Oct 2023) | 
| EndedAt: 2023-10-16 10:24:22 -0400 (Mon, 16 Oct 2023) | 
| EllapsedTime: 403.9 seconds | 
| RetCode: 0 | 
| Status: OK | 
| PackageFile: SpliceWiz_1.2.3.tgz | 
| PackageFileSize: 5.512 MiB | 
##############################################################################
##############################################################################
###
### Running command:
###
###   rm -rf SpliceWiz.buildbin-libdir && mkdir SpliceWiz.buildbin-libdir && /Users/biocbuild/BBS/utils/build-universal.sh SpliceWiz_1.2.3.tar.gz /Library/Frameworks/R.framework/Resources/bin/R SpliceWiz.buildbin-libdir
###
##############################################################################
##############################################################################
>>>>>>> 
>>>>>>> INSTALLATION WITH 'R CMD INSTALL --preclean --no-multiarch --library=SpliceWiz.buildbin-libdir SpliceWiz_1.2.3.tar.gz'
>>>>>>> 
* installing *source* package ‘SpliceWiz’ ...
** using staged installation
Configuring without OpenMP for MacOS
** libs
using C++ compiler: ‘Apple clang version 14.0.0 (clang-1400.0.29.202)’
using C++11
using SDK: ‘MacOSX11.3.sdk’
clang++ -arch x86_64 -std=gnu++11 -I"/Library/Frameworks/R.framework/Resources/include" -DNDEBUG  -I'/Library/Frameworks/R.framework/Versions/4.3-x86_64/Resources/library/ompBAM/include' -I'/Library/Frameworks/R.framework/Versions/4.3-x86_64/Resources/library/Rcpp/include' -I'/Library/Frameworks/R.framework/Versions/4.3-x86_64/Resources/library/zlibbioc/include' -I'/Library/Frameworks/R.framework/Versions/4.3-x86_64/Resources/library/RcppProgress/include' -I/opt/R/x86_64/include    -DSPLICEWIZ -fPIC  -falign-functions=64 -Wall -g -O2  -c BAM2blocks.cpp -o BAM2blocks.o
clang++ -arch x86_64 -std=gnu++11 -I"/Library/Frameworks/R.framework/Resources/include" -DNDEBUG  -I'/Library/Frameworks/R.framework/Versions/4.3-x86_64/Resources/library/ompBAM/include' -I'/Library/Frameworks/R.framework/Versions/4.3-x86_64/Resources/library/Rcpp/include' -I'/Library/Frameworks/R.framework/Versions/4.3-x86_64/Resources/library/zlibbioc/include' -I'/Library/Frameworks/R.framework/Versions/4.3-x86_64/Resources/library/RcppProgress/include' -I/opt/R/x86_64/include    -DSPLICEWIZ -fPIC  -falign-functions=64 -Wall -g -O2  -c FastaReader.cpp -o FastaReader.o
clang++ -arch x86_64 -std=gnu++11 -I"/Library/Frameworks/R.framework/Resources/include" -DNDEBUG  -I'/Library/Frameworks/R.framework/Versions/4.3-x86_64/Resources/library/ompBAM/include' -I'/Library/Frameworks/R.framework/Versions/4.3-x86_64/Resources/library/Rcpp/include' -I'/Library/Frameworks/R.framework/Versions/4.3-x86_64/Resources/library/zlibbioc/include' -I'/Library/Frameworks/R.framework/Versions/4.3-x86_64/Resources/library/RcppProgress/include' -I/opt/R/x86_64/include    -DSPLICEWIZ -fPIC  -falign-functions=64 -Wall -g -O2  -c FragmentBlocks.cpp -o FragmentBlocks.o
clang++ -arch x86_64 -std=gnu++11 -I"/Library/Frameworks/R.framework/Resources/include" -DNDEBUG  -I'/Library/Frameworks/R.framework/Versions/4.3-x86_64/Resources/library/ompBAM/include' -I'/Library/Frameworks/R.framework/Versions/4.3-x86_64/Resources/library/Rcpp/include' -I'/Library/Frameworks/R.framework/Versions/4.3-x86_64/Resources/library/zlibbioc/include' -I'/Library/Frameworks/R.framework/Versions/4.3-x86_64/Resources/library/RcppProgress/include' -I/opt/R/x86_64/include    -DSPLICEWIZ -fPIC  -falign-functions=64 -Wall -g -O2  -c GZTools.cpp -o GZTools.o
clang++ -arch x86_64 -std=gnu++11 -I"/Library/Frameworks/R.framework/Resources/include" -DNDEBUG  -I'/Library/Frameworks/R.framework/Versions/4.3-x86_64/Resources/library/ompBAM/include' -I'/Library/Frameworks/R.framework/Versions/4.3-x86_64/Resources/library/Rcpp/include' -I'/Library/Frameworks/R.framework/Versions/4.3-x86_64/Resources/library/zlibbioc/include' -I'/Library/Frameworks/R.framework/Versions/4.3-x86_64/Resources/library/RcppProgress/include' -I/opt/R/x86_64/include    -DSPLICEWIZ -fPIC  -falign-functions=64 -Wall -g -O2  -c RcppExports.cpp -o RcppExports.o
clang++ -arch x86_64 -std=gnu++11 -I"/Library/Frameworks/R.framework/Resources/include" -DNDEBUG  -I'/Library/Frameworks/R.framework/Versions/4.3-x86_64/Resources/library/ompBAM/include' -I'/Library/Frameworks/R.framework/Versions/4.3-x86_64/Resources/library/Rcpp/include' -I'/Library/Frameworks/R.framework/Versions/4.3-x86_64/Resources/library/zlibbioc/include' -I'/Library/Frameworks/R.framework/Versions/4.3-x86_64/Resources/library/RcppProgress/include' -I/opt/R/x86_64/include    -DSPLICEWIZ -fPIC  -falign-functions=64 -Wall -g -O2  -c ReadBlockProcessor.cpp -o ReadBlockProcessor.o
clang++ -arch x86_64 -std=gnu++11 -I"/Library/Frameworks/R.framework/Resources/include" -DNDEBUG  -I'/Library/Frameworks/R.framework/Versions/4.3-x86_64/Resources/library/ompBAM/include' -I'/Library/Frameworks/R.framework/Versions/4.3-x86_64/Resources/library/Rcpp/include' -I'/Library/Frameworks/R.framework/Versions/4.3-x86_64/Resources/library/zlibbioc/include' -I'/Library/Frameworks/R.framework/Versions/4.3-x86_64/Resources/library/RcppProgress/include' -I/opt/R/x86_64/include    -DSPLICEWIZ -fPIC  -falign-functions=64 -Wall -g -O2  -c ReadBlockProcessor_CoverageBlocks.cpp -o ReadBlockProcessor_CoverageBlocks.o
ReadBlockProcessor_CoverageBlocks.cpp:251:16: warning: variable 'len' set but not used [-Wunused-but-set-variable]
                unsigned int len=0;
                             ^
1 warning generated.
clang++ -arch x86_64 -std=gnu++11 -I"/Library/Frameworks/R.framework/Resources/include" -DNDEBUG  -I'/Library/Frameworks/R.framework/Versions/4.3-x86_64/Resources/library/ompBAM/include' -I'/Library/Frameworks/R.framework/Versions/4.3-x86_64/Resources/library/Rcpp/include' -I'/Library/Frameworks/R.framework/Versions/4.3-x86_64/Resources/library/zlibbioc/include' -I'/Library/Frameworks/R.framework/Versions/4.3-x86_64/Resources/library/RcppProgress/include' -I/opt/R/x86_64/include    -DSPLICEWIZ -fPIC  -falign-functions=64 -Wall -g -O2  -c ReadBlockProcessor_FragmentsMap.cpp -o ReadBlockProcessor_FragmentsMap.o
clang++ -arch x86_64 -std=gnu++11 -I"/Library/Frameworks/R.framework/Resources/include" -DNDEBUG  -I'/Library/Frameworks/R.framework/Versions/4.3-x86_64/Resources/library/ompBAM/include' -I'/Library/Frameworks/R.framework/Versions/4.3-x86_64/Resources/library/Rcpp/include' -I'/Library/Frameworks/R.framework/Versions/4.3-x86_64/Resources/library/zlibbioc/include' -I'/Library/Frameworks/R.framework/Versions/4.3-x86_64/Resources/library/RcppProgress/include' -I/opt/R/x86_64/include    -DSPLICEWIZ -fPIC  -falign-functions=64 -Wall -g -O2  -c ReadBlockProcessor_TandemJunctions.cpp -o ReadBlockProcessor_TandemJunctions.o
clang++ -arch x86_64 -std=gnu++11 -I"/Library/Frameworks/R.framework/Resources/include" -DNDEBUG  -I'/Library/Frameworks/R.framework/Versions/4.3-x86_64/Resources/library/ompBAM/include' -I'/Library/Frameworks/R.framework/Versions/4.3-x86_64/Resources/library/Rcpp/include' -I'/Library/Frameworks/R.framework/Versions/4.3-x86_64/Resources/library/zlibbioc/include' -I'/Library/Frameworks/R.framework/Versions/4.3-x86_64/Resources/library/RcppProgress/include' -I/opt/R/x86_64/include    -DSPLICEWIZ -fPIC  -falign-functions=64 -Wall -g -O2  -c covTools.cpp -o covTools.o
clang++ -arch x86_64 -std=gnu++11 -I"/Library/Frameworks/R.framework/Resources/include" -DNDEBUG  -I'/Library/Frameworks/R.framework/Versions/4.3-x86_64/Resources/library/ompBAM/include' -I'/Library/Frameworks/R.framework/Versions/4.3-x86_64/Resources/library/Rcpp/include' -I'/Library/Frameworks/R.framework/Versions/4.3-x86_64/Resources/library/zlibbioc/include' -I'/Library/Frameworks/R.framework/Versions/4.3-x86_64/Resources/library/RcppProgress/include' -I/opt/R/x86_64/include    -DSPLICEWIZ -fPIC  -falign-functions=64 -Wall -g -O2  -c main.cpp -o main.o
clang++ -arch x86_64 -std=gnu++11 -I"/Library/Frameworks/R.framework/Resources/include" -DNDEBUG  -I'/Library/Frameworks/R.framework/Versions/4.3-x86_64/Resources/library/ompBAM/include' -I'/Library/Frameworks/R.framework/Versions/4.3-x86_64/Resources/library/Rcpp/include' -I'/Library/Frameworks/R.framework/Versions/4.3-x86_64/Resources/library/zlibbioc/include' -I'/Library/Frameworks/R.framework/Versions/4.3-x86_64/Resources/library/RcppProgress/include' -I/opt/R/x86_64/include    -DSPLICEWIZ -fPIC  -falign-functions=64 -Wall -g -O2  -c swEngine.cpp -o swEngine.o
clang++ -arch x86_64 -std=gnu++11 -I"/Library/Frameworks/R.framework/Resources/include" -DNDEBUG  -I'/Library/Frameworks/R.framework/Versions/4.3-x86_64/Resources/library/ompBAM/include' -I'/Library/Frameworks/R.framework/Versions/4.3-x86_64/Resources/library/Rcpp/include' -I'/Library/Frameworks/R.framework/Versions/4.3-x86_64/Resources/library/zlibbioc/include' -I'/Library/Frameworks/R.framework/Versions/4.3-x86_64/Resources/library/RcppProgress/include' -I/opt/R/x86_64/include    -DSPLICEWIZ -fPIC  -falign-functions=64 -Wall -g -O2  -c synthReadGenerator.cpp -o synthReadGenerator.o
clang++ -arch x86_64 -std=gnu++11 -dynamiclib -Wl,-headerpad_max_install_names -undefined dynamic_lookup -single_module -multiply_defined suppress -L/Library/Frameworks/R.framework/Resources/lib -L/opt/R/x86_64/lib -o SpliceWiz.so BAM2blocks.o FastaReader.o FragmentBlocks.o GZTools.o RcppExports.o ReadBlockProcessor.o ReadBlockProcessor_CoverageBlocks.o ReadBlockProcessor_FragmentsMap.o ReadBlockProcessor_TandemJunctions.o covTools.o main.o swEngine.o synthReadGenerator.o -DSPLICEWIZ -F/Library/Frameworks/R.framework/.. -framework R -Wl,-framework -Wl,CoreFoundation
installing to /Users/biocbuild/bbs-3.17-bioc/meat/SpliceWiz.buildbin-libdir/00LOCK-SpliceWiz/00new/SpliceWiz/libs
** R
** inst
** byte-compile and prepare package for lazy loading
** help
*** installing help indices
** building package indices
** installing vignettes
** testing if installed package can be loaded from temporary location
** checking absolute paths in shared objects and dynamic libraries
** testing if installed package can be loaded from final location
** testing if installed package keeps a record of temporary installation path
* DONE (SpliceWiz)
>>>>>>> 
>>>>>>> FIXING PATHS TO DYNAMIC LIBRARIES FOR SpliceWiz.buildbin-libdir/SpliceWiz/libs/SpliceWiz.so
>>>>>>> 
>>>>>>> Paths before fix:
SpliceWiz.buildbin-libdir/SpliceWiz/libs/SpliceWiz.so:
	SpliceWiz.so (compatibility version 0.0.0, current version 0.0.0)
	/Library/Frameworks/R.framework/Versions/4.3-x86_64/Resources/lib/libR.dylib (compatibility version 4.3.0, current version 4.3.1)
	/System/Library/Frameworks/CoreFoundation.framework/Versions/A/CoreFoundation (compatibility version 150.0.0, current version 1775.118.101)
	/usr/lib/libc++.1.dylib (compatibility version 1.0.0, current version 905.6.0)
	/usr/lib/libSystem.B.dylib (compatibility version 1.0.0, current version 1292.100.5)
>>>>>>> Fix with install_name_tool:
install_name_tool -change "/usr/local/lib/libgcc_s.1.1.dylib" "/Library/Frameworks/R.framework/Versions/4.3-x86_64/Resources/lib/libgcc_s.1.1.dylib" "SpliceWiz.buildbin-libdir/SpliceWiz/libs/SpliceWiz.so"
install_name_tool -change "/usr/local/lib/libgfortran.5.dylib" "/Library/Frameworks/R.framework/Versions/4.3-x86_64/Resources/lib/libgfortran.5.dylib" "SpliceWiz.buildbin-libdir/SpliceWiz/libs/SpliceWiz.so"
install_name_tool -change "/usr/local/lib/libquadmath.0.dylib" "/Library/Frameworks/R.framework/Versions/4.3-x86_64/Resources/lib/libquadmath.0.dylib" "SpliceWiz.buildbin-libdir/SpliceWiz/libs/SpliceWiz.so"
>>>>>>> Paths after fix:
SpliceWiz.buildbin-libdir/SpliceWiz/libs/SpliceWiz.so:
	SpliceWiz.so (compatibility version 0.0.0, current version 0.0.0)
	/Library/Frameworks/R.framework/Versions/4.3-x86_64/Resources/lib/libR.dylib (compatibility version 4.3.0, current version 4.3.1)
	/System/Library/Frameworks/CoreFoundation.framework/Versions/A/CoreFoundation (compatibility version 150.0.0, current version 1775.118.101)
	/usr/lib/libc++.1.dylib (compatibility version 1.0.0, current version 905.6.0)
	/usr/lib/libSystem.B.dylib (compatibility version 1.0.0, current version 1292.100.5)