| Back to Multiple platform build/check report for BioC 3.17: simplified long |
|
This page was generated on 2023-10-16 11:37:34 -0400 (Mon, 16 Oct 2023).
| Hostname | OS | Arch (*) | R version | Installed pkgs |
|---|---|---|---|---|
| nebbiolo1 | Linux (Ubuntu 22.04.2 LTS) | x86_64 | 4.3.1 (2023-06-16) -- "Beagle Scouts" | 4626 |
| palomino3 | Windows Server 2022 Datacenter | x64 | 4.3.1 (2023-06-16 ucrt) -- "Beagle Scouts" | 4379 |
| merida1 | macOS 12.6.4 Monterey | x86_64 | 4.3.1 (2023-06-16) -- "Beagle Scouts" | 4395 |
| Click on any hostname to see more info about the system (e.g. compilers) (*) as reported by 'uname -p', except on Windows and Mac OS X | ||||
| Package 1977/2230 | Hostname | OS / Arch | INSTALL | BUILD | CHECK | BUILD BIN | ||||||||
| SpatialOmicsOverlay 1.0.0 (landing page) Maddy Griswold
| nebbiolo1 | Linux (Ubuntu 22.04.2 LTS) / x86_64 | OK | OK | OK | |||||||||
| palomino3 | Windows Server 2022 Datacenter / x64 | OK | OK | OK | OK | |||||||||
| merida1 | macOS 12.6.4 Monterey / x86_64 | OK | OK | OK | OK | |||||||||
| kjohnson2 | macOS 12.6.1 Monterey / arm64 | see weekly results here | ||||||||||||
|
To the developers/maintainers of the SpatialOmicsOverlay package: - Allow up to 24 hours (and sometimes 48 hours) for your latest push to git@git.bioconductor.org:packages/SpatialOmicsOverlay.git to reflect on this report. See Troubleshooting Build Report for more information. - Use the following Renviron settings to reproduce errors and warnings. - If 'R CMD check' started to fail recently on the Linux builder(s) over a missing dependency, add the missing dependency to 'Suggests:' in your DESCRIPTION file. See Renviron.bioc for more information. |
| Package: SpatialOmicsOverlay |
| Version: 1.0.0 |
| Command: /Library/Frameworks/R.framework/Resources/bin/R CMD check --install=check:SpatialOmicsOverlay.install-out.txt --library=/Library/Frameworks/R.framework/Resources/library --no-vignettes --timings SpatialOmicsOverlay_1.0.0.tar.gz |
| StartedAt: 2023-10-16 07:26:07 -0400 (Mon, 16 Oct 2023) |
| EndedAt: 2023-10-16 07:47:40 -0400 (Mon, 16 Oct 2023) |
| EllapsedTime: 1292.7 seconds |
| RetCode: 0 |
| Status: OK |
| CheckDir: SpatialOmicsOverlay.Rcheck |
| Warnings: 0 |
##############################################################################
##############################################################################
###
### Running command:
###
### /Library/Frameworks/R.framework/Resources/bin/R CMD check --install=check:SpatialOmicsOverlay.install-out.txt --library=/Library/Frameworks/R.framework/Resources/library --no-vignettes --timings SpatialOmicsOverlay_1.0.0.tar.gz
###
##############################################################################
##############################################################################
* using log directory ‘/Users/biocbuild/bbs-3.17-bioc/meat/SpatialOmicsOverlay.Rcheck’
* using R version 4.3.1 (2023-06-16)
* using platform: x86_64-apple-darwin20 (64-bit)
* R was compiled by
Apple clang version 14.0.3 (clang-1403.0.22.14.1)
GNU Fortran (GCC) 12.2.0
* running under: macOS Monterey 12.6.4
* using session charset: UTF-8
* using option ‘--no-vignettes’
* checking for file ‘SpatialOmicsOverlay/DESCRIPTION’ ... OK
* this is package ‘SpatialOmicsOverlay’ version ‘1.0.0’
* package encoding: UTF-8
* checking package namespace information ... OK
* checking package dependencies ... OK
* checking if this is a source package ... OK
* checking if there is a namespace ... OK
* checking for hidden files and directories ... OK
* checking for portable file names ... OK
* checking for sufficient/correct file permissions ... OK
* checking whether package ‘SpatialOmicsOverlay’ can be installed ... OK
* checking installed package size ... OK
* checking package directory ... OK
* checking ‘build’ directory ... OK
* checking DESCRIPTION meta-information ... NOTE
License components which are templates and need '+ file LICENSE':
MIT
* checking top-level files ... NOTE
File
LICENSE
is not mentioned in the DESCRIPTION file.
* checking for left-over files ... OK
* checking index information ... OK
* checking package subdirectories ... OK
* checking R files for non-ASCII characters ... OK
* checking R files for syntax errors ... OK
* checking whether the package can be loaded ... OK
* checking whether the package can be loaded with stated dependencies ... OK
* checking whether the package can be unloaded cleanly ... OK
* checking whether the namespace can be loaded with stated dependencies ... OK
* checking whether the namespace can be unloaded cleanly ... OK
* checking dependencies in R code ... OK
* checking S3 generic/method consistency ... OK
* checking replacement functions ... OK
* checking foreign function calls ... OK
* checking R code for possible problems ... NOTE
plotSpatialOverlay: no visible binding for global variable ‘xcoor’
plotSpatialOverlay: no visible binding for global variable ‘ycoor’
plotSpatialOverlay: no visible binding for global variable ‘sampleID’
plotSpatialOverlay: no visible binding for global variable ‘Target’
scaleBarPrinting: no visible binding for global variable ‘X’
scaleBarPrinting: no visible binding for global variable ‘Y’
Undefined global functions or variables:
Target X Y sampleID xcoor ycoor
* checking Rd files ... OK
* checking Rd metadata ... OK
* checking Rd cross-references ... OK
* checking for missing documentation entries ... OK
* checking for code/documentation mismatches ... OK
* checking Rd \usage sections ... OK
* checking Rd contents ... OK
* checking for unstated dependencies in examples ... OK
* checking files in ‘vignettes’ ... OK
* checking examples ... OK
Examples with CPU (user + system) or elapsed time > 5s
user system elapsed
add4ChannelImage 32.293 2.309 34.544
readSpatialOverlay 27.569 1.322 34.441
addImageOmeTiff 25.424 1.903 30.535
cropSamples 24.934 1.577 30.946
changeColoringIntensity 24.231 1.385 28.372
changeImageColoring 23.669 1.543 27.812
recolor 23.040 1.648 27.418
cropTissue 22.759 1.430 28.154
flipX 22.914 1.065 27.641
flipY 22.292 1.189 27.543
createMask 14.812 0.734 19.148
createCoordFile 7.905 0.100 9.590
parseScanMetadata 6.487 0.442 6.989
parseOverlayAttrs 6.192 0.477 7.521
xmlExtraction 5.569 0.522 6.908
checkValidRes 4.837 0.588 5.528
* checking for unstated dependencies in ‘tests’ ... OK
* checking tests ...
Running ‘testthat.R’
OK
* checking for unstated dependencies in vignettes ... OK
* checking package vignettes in ‘inst/doc’ ... OK
* checking running R code from vignettes ... SKIPPED
* checking re-building of vignette outputs ... SKIPPED
* checking PDF version of manual ... OK
* DONE
Status: 3 NOTEs
See
‘/Users/biocbuild/bbs-3.17-bioc/meat/SpatialOmicsOverlay.Rcheck/00check.log’
for details.
SpatialOmicsOverlay.Rcheck/00install.out
############################################################################## ############################################################################## ### ### Running command: ### ### /Library/Frameworks/R.framework/Resources/bin/R CMD INSTALL SpatialOmicsOverlay ### ############################################################################## ############################################################################## * installing to library ‘/Library/Frameworks/R.framework/Versions/4.3-x86_64/Resources/library’ * installing *source* package ‘SpatialOmicsOverlay’ ... ** using staged installation ** R ** inst ** byte-compile and prepare package for lazy loading ** help *** installing help indices ** building package indices ** installing vignettes ** testing if installed package can be loaded from temporary location ** testing if installed package can be loaded from final location ** testing if installed package keeps a record of temporary installation path * DONE (SpatialOmicsOverlay)
SpatialOmicsOverlay.Rcheck/tests/testthat.Rout
R version 4.3.1 (2023-06-16) -- "Beagle Scouts"
Copyright (C) 2023 The R Foundation for Statistical Computing
Platform: x86_64-apple-darwin20 (64-bit)
R is free software and comes with ABSOLUTELY NO WARRANTY.
You are welcome to redistribute it under certain conditions.
Type 'license()' or 'licence()' for distribution details.
R is a collaborative project with many contributors.
Type 'contributors()' for more information and
'citation()' on how to cite R or R packages in publications.
Type 'demo()' for some demos, 'help()' for on-line help, or
'help.start()' for an HTML browser interface to help.
Type 'q()' to quit R.
> library(testthat)
> library(vdiffr)
>
> options( java.parameters = "-Xmx4g" )
> library( "RBioFormats" )
BioFormats library version 6.12.0
>
> library(SpatialOmicsOverlay)
The legacy packages maptools, rgdal, and rgeos, underpinning the sp package,
which was just loaded, were retired in October 2023.
Please refer to R-spatial evolution reports for details, especially
https://r-spatial.org/r/2023/05/15/evolution4.html.
It may be desirable to make the sf package available;
package maintainers should consider adding sf to Suggests:.
>
> # #run tests
> test_check("SpatialOmicsOverlay")
Loading required package: Biobase
Loading required package: BiocGenerics
Attaching package: 'BiocGenerics'
The following objects are masked from 'package:stats':
IQR, mad, sd, var, xtabs
The following objects are masked from 'package:base':
Filter, Find, Map, Position, Reduce, anyDuplicated, aperm, append,
as.data.frame, basename, cbind, colnames, dirname, do.call,
duplicated, eval, evalq, get, grep, grepl, intersect, is.unsorted,
lapply, mapply, match, mget, order, paste, pmax, pmax.int, pmin,
pmin.int, rank, rbind, rownames, sapply, setdiff, sort, table,
tapply, union, unique, unsplit, which.max, which.min
Welcome to Bioconductor
Vignettes contain introductory material; view with
'browseVignettes()'. To cite Bioconductor, see
'citation("Biobase")', and for packages 'citation("pkgname")'.
Loading required package: NanoStringNCTools
Loading required package: S4Vectors
Loading required package: stats4
Attaching package: 'S4Vectors'
The following object is masked from 'package:utils':
findMatches
The following objects are masked from 'package:base':
I, expand.grid, unname
Loading required package: ggplot2
Extracting XML
Parsing XML - scan metadata
Parsing XML - overlay data
Generating Coordinates
Extracting XML
Parsing XML - scan metadata
Parsing XML - overlay data
Generating Coordinates
Calculating and scaling coordinates
Calculating and scaling coordinates
[ FAIL 0 | WARN 0 | SKIP 0 | PASS 422 ]
Deleting unused snapshots:
• all/4-channel-no-scalebar.svg
• all/add-ometiff-res-8.svg
• all/cropsamples-all-rois.svg
• all/cropsamples-sampsonly.svg
• all/croptissue.svg
• all/flipx.svg
• all/flipy.svg
• all/fluorlegend-2-row.svg
• all/image-scalebar.svg
• all/imagecoloring.svg
• all/lowres-fluorlegend.svg
• all/no-image-scalebar.svg
• all/recolor.svg
• all/scale-bar-check-1.svg
• all/scale-bar-check-2.svg
• all/scale-bar-check-3.svg
>
>
>
> proc.time()
user system elapsed
389.279 15.828 488.539
SpatialOmicsOverlay.Rcheck/SpatialOmicsOverlay-Ex.timings
| name | user | system | elapsed | |
| add4ChannelImage | 32.293 | 2.309 | 34.544 | |
| addImageOmeTiff | 25.424 | 1.903 | 30.535 | |
| addPlottingFactor | 0.957 | 0.037 | 1.230 | |
| bookendStr | 0.002 | 0.001 | 0.002 | |
| changeColoringIntensity | 24.231 | 1.385 | 28.372 | |
| changeImageColoring | 23.669 | 1.543 | 27.812 | |
| checkValidRes | 4.837 | 0.588 | 5.528 | |
| createCoordFile | 7.905 | 0.100 | 9.590 | |
| createMask | 14.812 | 0.734 | 19.148 | |
| cropSamples | 24.934 | 1.577 | 30.946 | |
| cropTissue | 22.759 | 1.430 | 28.154 | |
| downloadMouseBrainImage | 0.266 | 0.023 | 0.353 | |
| flipX | 22.914 | 1.065 | 27.641 | |
| flipY | 22.292 | 1.189 | 27.543 | |
| fluorLegend | 2.887 | 0.277 | 3.898 | |
| moveCoords | 0.390 | 0.035 | 0.524 | |
| parseOverlayAttrs | 6.192 | 0.477 | 7.521 | |
| parseScanMetadata | 6.487 | 0.442 | 6.989 | |
| plotSpatialOverlay | 2.155 | 0.200 | 2.899 | |
| readLabWorksheet | 0.008 | 0.001 | 0.012 | |
| readSpatialOverlay | 27.569 | 1.322 | 34.441 | |
| recolor | 23.040 | 1.648 | 27.418 | |
| removeSample | 0.514 | 0.036 | 0.675 | |
| xmlExtraction | 5.569 | 0.522 | 6.908 | |