| Back to Multiple platform build/check report for BioC 3.17: simplified long | 
  | 
This page was generated on 2023-10-16 11:37:34 -0400 (Mon, 16 Oct 2023).
| Hostname | OS | Arch (*) | R version | Installed pkgs | 
|---|---|---|---|---|
| nebbiolo1 | Linux (Ubuntu 22.04.2 LTS) | x86_64 | 4.3.1 (2023-06-16) -- "Beagle Scouts" | 4626 | 
| palomino3 | Windows Server 2022 Datacenter | x64 | 4.3.1 (2023-06-16 ucrt) -- "Beagle Scouts" | 4379 | 
| merida1 | macOS 12.6.4 Monterey | x86_64 | 4.3.1 (2023-06-16) -- "Beagle Scouts" | 4395 | 
| Click on any hostname to see more info about the system (e.g. compilers) (*) as reported by 'uname -p', except on Windows and Mac OS X | ||||
| Package 1973/2230 | Hostname | OS / Arch | INSTALL | BUILD | CHECK | BUILD BIN | ||||||||
| SpatialDecon 1.10.0  (landing page) Maddy Griswold 
  | nebbiolo1 | Linux (Ubuntu 22.04.2 LTS) / x86_64 | OK | OK | OK | |||||||||
| palomino3 | Windows Server 2022 Datacenter / x64 | OK | OK | OK | OK | |||||||||
| merida1 | macOS 12.6.4 Monterey / x86_64 | OK | OK | OK | OK | |||||||||
| kjohnson2 | macOS 12.6.1 Monterey / arm64 | see weekly results here | ||||||||||||
| 
To the developers/maintainers of the SpatialDecon package: - Allow up to 24 hours (and sometimes 48 hours) for your latest push to git@git.bioconductor.org:packages/SpatialDecon.git to reflect on this report. See Troubleshooting Build Report for more information. - Use the following Renviron settings to reproduce errors and warnings. - If 'R CMD check' started to fail recently on the Linux builder(s) over a missing dependency, add the missing dependency to 'Suggests:' in your DESCRIPTION file. See Renviron.bioc for more information.  | 
| Package: SpatialDecon | 
| Version: 1.10.0 | 
| Command: /Library/Frameworks/R.framework/Resources/bin/R CMD check --install=check:SpatialDecon.install-out.txt --library=/Library/Frameworks/R.framework/Resources/library --no-vignettes --timings SpatialDecon_1.10.0.tar.gz | 
| StartedAt: 2023-10-16 07:25:31 -0400 (Mon, 16 Oct 2023) | 
| EndedAt: 2023-10-16 07:53:47 -0400 (Mon, 16 Oct 2023) | 
| EllapsedTime: 1695.4 seconds | 
| RetCode: 0 | 
| Status: OK | 
| CheckDir: SpatialDecon.Rcheck | 
| Warnings: 0 | 
##############################################################################
##############################################################################
###
### Running command:
###
###   /Library/Frameworks/R.framework/Resources/bin/R CMD check --install=check:SpatialDecon.install-out.txt --library=/Library/Frameworks/R.framework/Resources/library --no-vignettes --timings SpatialDecon_1.10.0.tar.gz
###
##############################################################################
##############################################################################
* using log directory ‘/Users/biocbuild/bbs-3.17-bioc/meat/SpatialDecon.Rcheck’
* using R version 4.3.1 (2023-06-16)
* using platform: x86_64-apple-darwin20 (64-bit)
* R was compiled by
    Apple clang version 14.0.3 (clang-1403.0.22.14.1)
    GNU Fortran (GCC) 12.2.0
* running under: macOS Monterey 12.6.4
* using session charset: UTF-8
* using option ‘--no-vignettes’
* checking for file ‘SpatialDecon/DESCRIPTION’ ... OK
* this is package ‘SpatialDecon’ version ‘1.10.0’
* package encoding: UTF-8
* checking package namespace information ... OK
* checking package dependencies ... OK
* checking if this is a source package ... OK
* checking if there is a namespace ... OK
* checking for hidden files and directories ... OK
* checking for portable file names ... OK
* checking for sufficient/correct file permissions ... OK
* checking whether package ‘SpatialDecon’ can be installed ... OK
* checking installed package size ... OK
* checking package directory ... OK
* checking ‘build’ directory ... OK
* checking DESCRIPTION meta-information ... OK
* checking top-level files ... OK
* checking for left-over files ... OK
* checking index information ... OK
* checking package subdirectories ... OK
* checking R files for non-ASCII characters ... OK
* checking R files for syntax errors ... OK
* checking whether the package can be loaded ... OK
* checking whether the package can be loaded with stated dependencies ... OK
* checking whether the package can be unloaded cleanly ... OK
* checking whether the namespace can be loaded with stated dependencies ... OK
* checking whether the namespace can be unloaded cleanly ... OK
* checking dependencies in R code ... OK
* checking S3 generic/method consistency ... OK
* checking replacement functions ... OK
* checking foreign function calls ... OK
* checking R code for possible problems ... NOTE
download_profile_matrix: no visible binding for global variable
  ‘profile_matrix’
Undefined global functions or variables:
  profile_matrix
* checking Rd files ... OK
* checking Rd metadata ... OK
* checking Rd cross-references ... OK
* checking for missing documentation entries ... OK
* checking for code/documentation mismatches ... OK
* checking Rd \usage sections ... OK
* checking Rd contents ... OK
* checking for unstated dependencies in examples ... OK
* checking contents of ‘data’ directory ... OK
* checking data for non-ASCII characters ... OK
* checking LazyData ... OK
* checking data for ASCII and uncompressed saves ... OK
* checking files in ‘vignettes’ ... OK
* checking examples ... OK
Examples with CPU (user + system) or elapsed time > 5s
                           user system elapsed
runCollapseCellTypes    191.278  6.192 245.411
runReverseDecon         191.267  5.800 243.909
runspatialdecon          98.379  2.349 131.183
runMergeTumorIntoX       35.509  0.233  44.145
runErrorModel            34.863  0.209  42.761
reverseDecon             17.388  0.335  23.031
SpatialDecon-package      7.957  0.164  10.776
spatialdecon              7.035  0.235   9.120
download_profile_matrix   0.809  1.745   8.754
* checking for unstated dependencies in ‘tests’ ... OK
* checking tests ...
  Running ‘testthat.R’
 OK
* checking for unstated dependencies in vignettes ... OK
* checking package vignettes in ‘inst/doc’ ... OK
* checking running R code from vignettes ... SKIPPED
* checking re-building of vignette outputs ... SKIPPED
* checking PDF version of manual ... OK
* DONE
Status: 1 NOTE
See
  ‘/Users/biocbuild/bbs-3.17-bioc/meat/SpatialDecon.Rcheck/00check.log’
for details.
SpatialDecon.Rcheck/00install.out
############################################################################## ############################################################################## ### ### Running command: ### ### /Library/Frameworks/R.framework/Resources/bin/R CMD INSTALL SpatialDecon ### ############################################################################## ############################################################################## * installing to library ‘/Library/Frameworks/R.framework/Versions/4.3-x86_64/Resources/library’ * installing *source* package ‘SpatialDecon’ ... ** using staged installation ** R ** data *** moving datasets to lazyload DB ** byte-compile and prepare package for lazy loading ** help *** installing help indices ** building package indices ** installing vignettes ** testing if installed package can be loaded from temporary location ** testing if installed package can be loaded from final location ** testing if installed package keeps a record of temporary installation path * DONE (SpatialDecon)
SpatialDecon.Rcheck/tests/testthat.Rout
R version 4.3.1 (2023-06-16) -- "Beagle Scouts"
Copyright (C) 2023 The R Foundation for Statistical Computing
Platform: x86_64-apple-darwin20 (64-bit)
R is free software and comes with ABSOLUTELY NO WARRANTY.
You are welcome to redistribute it under certain conditions.
Type 'license()' or 'licence()' for distribution details.
R is a collaborative project with many contributors.
Type 'contributors()' for more information and
'citation()' on how to cite R or R packages in publications.
Type 'demo()' for some demos, 'help()' for on-line help, or
'help.start()' for an HTML browser interface to help.
Type 'q()' to quit R.
> library(testthat)
> library(SpatialDecon)
The legacy packages maptools, rgdal, and rgeos, underpinning the sp package,
which was just loaded, were retired in October 2023.
Please refer to R-spatial evolution reports for details, especially
https://r-spatial.org/r/2023/05/15/evolution4.html.
It may be desirable to make the sf package available;
package maintainers should consider adding sf to Suggests:.
> 
> test_check("SpatialDecon")
[1] "Creating Atlas"
[1] "1 / 4 : B"
[1] "2 / 4 : C"
[1] "3 / 4 : A"
[1] "4 / 4 : D"
[ FAIL 0 | WARN 0 | SKIP 0 | PASS 85 ]
> 
> proc.time()
   user  system elapsed 
402.934  13.389 542.834 
SpatialDecon.Rcheck/SpatialDecon-Ex.timings
| name | user | system | elapsed | |
| SpatialDecon-package | 7.957 | 0.164 | 10.776 | |
| TIL_barplot | 2.565 | 0.034 | 3.387 | |
| collapseCellTypes | 2.525 | 0.023 | 3.348 | |
| create_profile_matrix | 0.834 | 0.056 | 1.156 | |
| derive_GeoMx_background | 0.005 | 0.003 | 0.012 | |
| download_profile_matrix | 0.809 | 1.745 | 8.754 | |
| florets | 3.061 | 0.047 | 4.005 | |
| mergeTumorIntoX | 0.020 | 0.004 | 0.030 | |
| reverseDecon | 17.388 | 0.335 | 23.031 | |
| runCollapseCellTypes | 191.278 | 6.192 | 245.411 | |
| runErrorModel | 34.863 | 0.209 | 42.761 | |
| runMergeTumorIntoX | 35.509 | 0.233 | 44.145 | |
| runReverseDecon | 191.267 | 5.800 | 243.909 | |
| runspatialdecon | 98.379 | 2.349 | 131.183 | |
| spatialdecon | 7.035 | 0.235 | 9.120 | |