| Back to Multiple platform build/check report for BioC 3.17: simplified long | 
  | 
This page was generated on 2023-10-16 11:37:34 -0400 (Mon, 16 Oct 2023).
| Hostname | OS | Arch (*) | R version | Installed pkgs | 
|---|---|---|---|---|
| nebbiolo1 | Linux (Ubuntu 22.04.2 LTS) | x86_64 | 4.3.1 (2023-06-16) -- "Beagle Scouts" | 4626 | 
| palomino3 | Windows Server 2022 Datacenter | x64 | 4.3.1 (2023-06-16 ucrt) -- "Beagle Scouts" | 4379 | 
| merida1 | macOS 12.6.4 Monterey | x86_64 | 4.3.1 (2023-06-16) -- "Beagle Scouts" | 4395 | 
| Click on any hostname to see more info about the system (e.g. compilers) (*) as reported by 'uname -p', except on Windows and Mac OS X | ||||
| Package 1965/2230 | Hostname | OS / Arch | INSTALL | BUILD | CHECK | BUILD BIN | ||||||||
| SparseArray 1.0.12  (landing page) Hervé Pagès 
  | nebbiolo1 | Linux (Ubuntu 22.04.2 LTS) / x86_64 | OK | OK | OK | |||||||||
| palomino3 | Windows Server 2022 Datacenter / x64 | OK | OK | OK | OK | |||||||||
| merida1 | macOS 12.6.4 Monterey / x86_64 | OK | OK | OK | OK | |||||||||
| kjohnson2 | macOS 12.6.1 Monterey / arm64 | see weekly results here | ||||||||||||
| 
To the developers/maintainers of the SparseArray package: - Allow up to 24 hours (and sometimes 48 hours) for your latest push to git@git.bioconductor.org:packages/SparseArray.git to reflect on this report. See Troubleshooting Build Report for more information. - Use the following Renviron settings to reproduce errors and warnings. - If 'R CMD check' started to fail recently on the Linux builder(s) over a missing dependency, add the missing dependency to 'Suggests:' in your DESCRIPTION file. See Renviron.bioc for more information.  | 
| Package: SparseArray | 
| Version: 1.0.12 | 
| Command: rm -rf SparseArray.buildbin-libdir && mkdir SparseArray.buildbin-libdir && /Users/biocbuild/BBS/utils/build-universal.sh SparseArray_1.0.12.tar.gz /Library/Frameworks/R.framework/Resources/bin/R SparseArray.buildbin-libdir | 
| StartedAt: 2023-10-16 10:16:05 -0400 (Mon, 16 Oct 2023) | 
| EndedAt: 2023-10-16 10:17:47 -0400 (Mon, 16 Oct 2023) | 
| EllapsedTime: 101.6 seconds | 
| RetCode: 0 | 
| Status: OK | 
| PackageFile: SparseArray_1.0.12.tgz | 
| PackageFileSize: 1.737 MiB | 
##############################################################################
##############################################################################
###
### Running command:
###
###   rm -rf SparseArray.buildbin-libdir && mkdir SparseArray.buildbin-libdir && /Users/biocbuild/BBS/utils/build-universal.sh SparseArray_1.0.12.tar.gz /Library/Frameworks/R.framework/Resources/bin/R SparseArray.buildbin-libdir
###
##############################################################################
##############################################################################
>>>>>>> 
>>>>>>> INSTALLATION WITH 'R CMD INSTALL --preclean --no-multiarch --library=SparseArray.buildbin-libdir SparseArray_1.0.12.tar.gz'
>>>>>>> 
* installing *source* package ‘SparseArray’ ...
** using staged installation
** libs
using C compiler: ‘Apple clang version 14.0.0 (clang-1400.0.29.202)’
using SDK: ‘MacOSX11.3.sdk’
clang -arch x86_64 -I"/Library/Frameworks/R.framework/Resources/include" -DNDEBUG  -I'/Library/Frameworks/R.framework/Versions/4.3-x86_64/Resources/library/S4Vectors/include' -I'/Library/Frameworks/R.framework/Versions/4.3-x86_64/Resources/library/IRanges/include' -I'/Library/Frameworks/R.framework/Versions/4.3-x86_64/Resources/library/XVector/include' -I/opt/R/x86_64/include    -fPIC  -falign-functions=64 -Wall -g -O2  -c ExtendableJaggedArray.c -o ExtendableJaggedArray.o
clang -arch x86_64 -I"/Library/Frameworks/R.framework/Resources/include" -DNDEBUG  -I'/Library/Frameworks/R.framework/Versions/4.3-x86_64/Resources/library/S4Vectors/include' -I'/Library/Frameworks/R.framework/Versions/4.3-x86_64/Resources/library/IRanges/include' -I'/Library/Frameworks/R.framework/Versions/4.3-x86_64/Resources/library/XVector/include' -I/opt/R/x86_64/include    -fPIC  -falign-functions=64 -Wall -g -O2  -c IRanges_stubs.c -o IRanges_stubs.o
clang -arch x86_64 -I"/Library/Frameworks/R.framework/Resources/include" -DNDEBUG  -I'/Library/Frameworks/R.framework/Versions/4.3-x86_64/Resources/library/S4Vectors/include' -I'/Library/Frameworks/R.framework/Versions/4.3-x86_64/Resources/library/IRanges/include' -I'/Library/Frameworks/R.framework/Versions/4.3-x86_64/Resources/library/XVector/include' -I/opt/R/x86_64/include    -fPIC  -falign-functions=64 -Wall -g -O2  -c R_init_SparseArray.c -o R_init_SparseArray.o
clang -arch x86_64 -I"/Library/Frameworks/R.framework/Resources/include" -DNDEBUG  -I'/Library/Frameworks/R.framework/Versions/4.3-x86_64/Resources/library/S4Vectors/include' -I'/Library/Frameworks/R.framework/Versions/4.3-x86_64/Resources/library/IRanges/include' -I'/Library/Frameworks/R.framework/Versions/4.3-x86_64/Resources/library/XVector/include' -I/opt/R/x86_64/include    -fPIC  -falign-functions=64 -Wall -g -O2  -c Rvector_summarization.c -o Rvector_summarization.o
Rvector_summarization.c:1262:12: warning: unused function 'any_NA_list_elt' [-Wunused-function]
static int any_NA_list_elt(SEXP x)
           ^
Rvector_summarization.c:1274:12: warning: unused function 'count_NA_list_elts' [-Wunused-function]
static int count_NA_list_elts(SEXP x)
           ^
2 warnings generated.
clang -arch x86_64 -I"/Library/Frameworks/R.framework/Resources/include" -DNDEBUG  -I'/Library/Frameworks/R.framework/Versions/4.3-x86_64/Resources/library/S4Vectors/include' -I'/Library/Frameworks/R.framework/Versions/4.3-x86_64/Resources/library/IRanges/include' -I'/Library/Frameworks/R.framework/Versions/4.3-x86_64/Resources/library/XVector/include' -I/opt/R/x86_64/include    -fPIC  -falign-functions=64 -Wall -g -O2  -c Rvector_utils.c -o Rvector_utils.o
clang -arch x86_64 -I"/Library/Frameworks/R.framework/Resources/include" -DNDEBUG  -I'/Library/Frameworks/R.framework/Versions/4.3-x86_64/Resources/library/S4Vectors/include' -I'/Library/Frameworks/R.framework/Versions/4.3-x86_64/Resources/library/IRanges/include' -I'/Library/Frameworks/R.framework/Versions/4.3-x86_64/Resources/library/XVector/include' -I/opt/R/x86_64/include    -fPIC  -falign-functions=64 -Wall -g -O2  -c S4Vectors_stubs.c -o S4Vectors_stubs.o
clang -arch x86_64 -I"/Library/Frameworks/R.framework/Resources/include" -DNDEBUG  -I'/Library/Frameworks/R.framework/Versions/4.3-x86_64/Resources/library/S4Vectors/include' -I'/Library/Frameworks/R.framework/Versions/4.3-x86_64/Resources/library/IRanges/include' -I'/Library/Frameworks/R.framework/Versions/4.3-x86_64/Resources/library/XVector/include' -I/opt/R/x86_64/include    -fPIC  -falign-functions=64 -Wall -g -O2  -c SBT_utils.c -o SBT_utils.o
clang -arch x86_64 -I"/Library/Frameworks/R.framework/Resources/include" -DNDEBUG  -I'/Library/Frameworks/R.framework/Versions/4.3-x86_64/Resources/library/S4Vectors/include' -I'/Library/Frameworks/R.framework/Versions/4.3-x86_64/Resources/library/IRanges/include' -I'/Library/Frameworks/R.framework/Versions/4.3-x86_64/Resources/library/XVector/include' -I/opt/R/x86_64/include    -fPIC  -falign-functions=64 -Wall -g -O2  -c SVT_SparseArray_class.c -o SVT_SparseArray_class.o
clang -arch x86_64 -I"/Library/Frameworks/R.framework/Resources/include" -DNDEBUG  -I'/Library/Frameworks/R.framework/Versions/4.3-x86_64/Resources/library/S4Vectors/include' -I'/Library/Frameworks/R.framework/Versions/4.3-x86_64/Resources/library/IRanges/include' -I'/Library/Frameworks/R.framework/Versions/4.3-x86_64/Resources/library/XVector/include' -I/opt/R/x86_64/include    -fPIC  -falign-functions=64 -Wall -g -O2  -c SparseArray_Complex_methods.c -o SparseArray_Complex_methods.o
clang -arch x86_64 -I"/Library/Frameworks/R.framework/Resources/include" -DNDEBUG  -I'/Library/Frameworks/R.framework/Versions/4.3-x86_64/Resources/library/S4Vectors/include' -I'/Library/Frameworks/R.framework/Versions/4.3-x86_64/Resources/library/IRanges/include' -I'/Library/Frameworks/R.framework/Versions/4.3-x86_64/Resources/library/XVector/include' -I/opt/R/x86_64/include    -fPIC  -falign-functions=64 -Wall -g -O2  -c SparseArray_Math_methods.c -o SparseArray_Math_methods.o
clang -arch x86_64 -I"/Library/Frameworks/R.framework/Resources/include" -DNDEBUG  -I'/Library/Frameworks/R.framework/Versions/4.3-x86_64/Resources/library/S4Vectors/include' -I'/Library/Frameworks/R.framework/Versions/4.3-x86_64/Resources/library/IRanges/include' -I'/Library/Frameworks/R.framework/Versions/4.3-x86_64/Resources/library/XVector/include' -I/opt/R/x86_64/include    -fPIC  -falign-functions=64 -Wall -g -O2  -c SparseArray_Ops_methods.c -o SparseArray_Ops_methods.o
clang -arch x86_64 -I"/Library/Frameworks/R.framework/Resources/include" -DNDEBUG  -I'/Library/Frameworks/R.framework/Versions/4.3-x86_64/Resources/library/S4Vectors/include' -I'/Library/Frameworks/R.framework/Versions/4.3-x86_64/Resources/library/IRanges/include' -I'/Library/Frameworks/R.framework/Versions/4.3-x86_64/Resources/library/XVector/include' -I/opt/R/x86_64/include    -fPIC  -falign-functions=64 -Wall -g -O2  -c SparseArray_abind.c -o SparseArray_abind.o
clang -arch x86_64 -I"/Library/Frameworks/R.framework/Resources/include" -DNDEBUG  -I'/Library/Frameworks/R.framework/Versions/4.3-x86_64/Resources/library/S4Vectors/include' -I'/Library/Frameworks/R.framework/Versions/4.3-x86_64/Resources/library/IRanges/include' -I'/Library/Frameworks/R.framework/Versions/4.3-x86_64/Resources/library/XVector/include' -I/opt/R/x86_64/include    -fPIC  -falign-functions=64 -Wall -g -O2  -c SparseArray_aperm.c -o SparseArray_aperm.o
clang -arch x86_64 -I"/Library/Frameworks/R.framework/Resources/include" -DNDEBUG  -I'/Library/Frameworks/R.framework/Versions/4.3-x86_64/Resources/library/S4Vectors/include' -I'/Library/Frameworks/R.framework/Versions/4.3-x86_64/Resources/library/IRanges/include' -I'/Library/Frameworks/R.framework/Versions/4.3-x86_64/Resources/library/XVector/include' -I/opt/R/x86_64/include    -fPIC  -falign-functions=64 -Wall -g -O2  -c SparseArray_class.c -o SparseArray_class.o
clang -arch x86_64 -I"/Library/Frameworks/R.framework/Resources/include" -DNDEBUG  -I'/Library/Frameworks/R.framework/Versions/4.3-x86_64/Resources/library/S4Vectors/include' -I'/Library/Frameworks/R.framework/Versions/4.3-x86_64/Resources/library/IRanges/include' -I'/Library/Frameworks/R.framework/Versions/4.3-x86_64/Resources/library/XVector/include' -I/opt/R/x86_64/include    -fPIC  -falign-functions=64 -Wall -g -O2  -c SparseArray_dim_tuning.c -o SparseArray_dim_tuning.o
SparseArray_dim_tuning.c:260:40: warning: '&&' within '||' [-Wlogical-op-parentheses]
        if (SVT == R_NilValue || nops == ndim && cumallKEEP[ndim - 1])
                              ~~ ~~~~~~~~~~~~~^~~~~~~~~~~~~~~~~~~~~~~
SparseArray_dim_tuning.c:260:40: note: place parentheses around the '&&' expression to silence this warning
        if (SVT == R_NilValue || nops == ndim && cumallKEEP[ndim - 1])
                                              ^
                                 (                                   )
1 warning generated.
clang -arch x86_64 -I"/Library/Frameworks/R.framework/Resources/include" -DNDEBUG  -I'/Library/Frameworks/R.framework/Versions/4.3-x86_64/Resources/library/S4Vectors/include' -I'/Library/Frameworks/R.framework/Versions/4.3-x86_64/Resources/library/IRanges/include' -I'/Library/Frameworks/R.framework/Versions/4.3-x86_64/Resources/library/XVector/include' -I/opt/R/x86_64/include    -fPIC  -falign-functions=64 -Wall -g -O2  -c SparseArray_subassignment.c -o SparseArray_subassignment.o
SparseArray_subassignment.c:235:19: warning: unused function 'descend_to_bottom_by_coords0' [-Wunused-function]
static inline int descend_to_bottom_by_coords0(SEXP SVT, SEXP SVT0,
                  ^
1 warning generated.
clang -arch x86_64 -I"/Library/Frameworks/R.framework/Resources/include" -DNDEBUG  -I'/Library/Frameworks/R.framework/Versions/4.3-x86_64/Resources/library/S4Vectors/include' -I'/Library/Frameworks/R.framework/Versions/4.3-x86_64/Resources/library/IRanges/include' -I'/Library/Frameworks/R.framework/Versions/4.3-x86_64/Resources/library/XVector/include' -I/opt/R/x86_64/include    -fPIC  -falign-functions=64 -Wall -g -O2  -c SparseArray_subsetting.c -o SparseArray_subsetting.o
SparseArray_subsetting.c:81:19: warning: unused function 'map_i2_to_k2_with_lookup_table' [-Wunused-function]
static inline int map_i2_to_k2_with_lookup_table(int i2,
                  ^
SparseArray_subsetting.c:88:19: warning: unused function 'map_i2_to_k2_with_bsearch' [-Wunused-function]
static inline int map_i2_to_k2_with_bsearch(int i2,
                  ^
2 warnings generated.
clang -arch x86_64 -I"/Library/Frameworks/R.framework/Resources/include" -DNDEBUG  -I'/Library/Frameworks/R.framework/Versions/4.3-x86_64/Resources/library/S4Vectors/include' -I'/Library/Frameworks/R.framework/Versions/4.3-x86_64/Resources/library/IRanges/include' -I'/Library/Frameworks/R.framework/Versions/4.3-x86_64/Resources/library/XVector/include' -I/opt/R/x86_64/include    -fPIC  -falign-functions=64 -Wall -g -O2  -c SparseArray_summarization.c -o SparseArray_summarization.o
clang -arch x86_64 -I"/Library/Frameworks/R.framework/Resources/include" -DNDEBUG  -I'/Library/Frameworks/R.framework/Versions/4.3-x86_64/Resources/library/S4Vectors/include' -I'/Library/Frameworks/R.framework/Versions/4.3-x86_64/Resources/library/IRanges/include' -I'/Library/Frameworks/R.framework/Versions/4.3-x86_64/Resources/library/XVector/include' -I/opt/R/x86_64/include    -fPIC  -falign-functions=64 -Wall -g -O2  -c SparseMatrix_mult.c -o SparseMatrix_mult.o
SparseMatrix_mult.c:354:13: warning: unused function 'crossprod2_lv_mat_double' [-Wunused-function]
static void crossprod2_lv_mat_double(SEXP lv1, const double *mat2,
            ^
SparseMatrix_mult.c:392:13: warning: unused function 'crossprod2_mat_lv_double' [-Wunused-function]
static void crossprod2_mat_lv_double(const double *mat1, SEXP lv2,
            ^
2 warnings generated.
clang -arch x86_64 -I"/Library/Frameworks/R.framework/Resources/include" -DNDEBUG  -I'/Library/Frameworks/R.framework/Versions/4.3-x86_64/Resources/library/S4Vectors/include' -I'/Library/Frameworks/R.framework/Versions/4.3-x86_64/Resources/library/IRanges/include' -I'/Library/Frameworks/R.framework/Versions/4.3-x86_64/Resources/library/XVector/include' -I/opt/R/x86_64/include    -fPIC  -falign-functions=64 -Wall -g -O2  -c XVector_stubs.c -o XVector_stubs.o
clang -arch x86_64 -I"/Library/Frameworks/R.framework/Resources/include" -DNDEBUG  -I'/Library/Frameworks/R.framework/Versions/4.3-x86_64/Resources/library/S4Vectors/include' -I'/Library/Frameworks/R.framework/Versions/4.3-x86_64/Resources/library/IRanges/include' -I'/Library/Frameworks/R.framework/Versions/4.3-x86_64/Resources/library/XVector/include' -I/opt/R/x86_64/include    -fPIC  -falign-functions=64 -Wall -g -O2  -c coerceVector2.c -o coerceVector2.o
clang -arch x86_64 -I"/Library/Frameworks/R.framework/Resources/include" -DNDEBUG  -I'/Library/Frameworks/R.framework/Versions/4.3-x86_64/Resources/library/S4Vectors/include' -I'/Library/Frameworks/R.framework/Versions/4.3-x86_64/Resources/library/IRanges/include' -I'/Library/Frameworks/R.framework/Versions/4.3-x86_64/Resources/library/XVector/include' -I/opt/R/x86_64/include    -fPIC  -falign-functions=64 -Wall -g -O2  -c leaf_vector_Arith.c -o leaf_vector_Arith.o
leaf_vector_Arith.c:164:12: warning: '&&' within '||' [-Wlogical-op-parentheses]
        if (x < 0 && y == R_PosInf || x == R_NegInf && y != trunc(y))
            ~~~~~~^~~~~~~~~~~~~~~~ ~~
leaf_vector_Arith.c:164:12: note: place parentheses around the '&&' expression to silence this warning
        if (x < 0 && y == R_PosInf || x == R_NegInf && y != trunc(y))
                  ^
            (                     )
leaf_vector_Arith.c:164:46: warning: '&&' within '||' [-Wlogical-op-parentheses]
        if (x < 0 && y == R_PosInf || x == R_NegInf && y != trunc(y))
                                   ~~ ~~~~~~~~~~~~~~^~~~~~~~~~~~~~~~
leaf_vector_Arith.c:164:46: note: place parentheses around the '&&' expression to silence this warning
        if (x < 0 && y == R_PosInf || x == R_NegInf && y != trunc(y))
                                                    ^
                                      (                             )
2 warnings generated.
clang -arch x86_64 -I"/Library/Frameworks/R.framework/Resources/include" -DNDEBUG  -I'/Library/Frameworks/R.framework/Versions/4.3-x86_64/Resources/library/S4Vectors/include' -I'/Library/Frameworks/R.framework/Versions/4.3-x86_64/Resources/library/IRanges/include' -I'/Library/Frameworks/R.framework/Versions/4.3-x86_64/Resources/library/XVector/include' -I/opt/R/x86_64/include    -fPIC  -falign-functions=64 -Wall -g -O2  -c leaf_vector_Compare.c -o leaf_vector_Compare.o
clang -arch x86_64 -I"/Library/Frameworks/R.framework/Resources/include" -DNDEBUG  -I'/Library/Frameworks/R.framework/Versions/4.3-x86_64/Resources/library/S4Vectors/include' -I'/Library/Frameworks/R.framework/Versions/4.3-x86_64/Resources/library/IRanges/include' -I'/Library/Frameworks/R.framework/Versions/4.3-x86_64/Resources/library/XVector/include' -I/opt/R/x86_64/include    -fPIC  -falign-functions=64 -Wall -g -O2  -c leaf_vector_Logic.c -o leaf_vector_Logic.o
clang -arch x86_64 -I"/Library/Frameworks/R.framework/Resources/include" -DNDEBUG  -I'/Library/Frameworks/R.framework/Versions/4.3-x86_64/Resources/library/S4Vectors/include' -I'/Library/Frameworks/R.framework/Versions/4.3-x86_64/Resources/library/IRanges/include' -I'/Library/Frameworks/R.framework/Versions/4.3-x86_64/Resources/library/XVector/include' -I/opt/R/x86_64/include    -fPIC  -falign-functions=64 -Wall -g -O2  -c leaf_vector_dotprod.c -o leaf_vector_dotprod.o
clang -arch x86_64 -I"/Library/Frameworks/R.framework/Resources/include" -DNDEBUG  -I'/Library/Frameworks/R.framework/Versions/4.3-x86_64/Resources/library/S4Vectors/include' -I'/Library/Frameworks/R.framework/Versions/4.3-x86_64/Resources/library/IRanges/include' -I'/Library/Frameworks/R.framework/Versions/4.3-x86_64/Resources/library/XVector/include' -I/opt/R/x86_64/include    -fPIC  -falign-functions=64 -Wall -g -O2  -c leaf_vector_summarization.c -o leaf_vector_summarization.o
clang -arch x86_64 -I"/Library/Frameworks/R.framework/Resources/include" -DNDEBUG  -I'/Library/Frameworks/R.framework/Versions/4.3-x86_64/Resources/library/S4Vectors/include' -I'/Library/Frameworks/R.framework/Versions/4.3-x86_64/Resources/library/IRanges/include' -I'/Library/Frameworks/R.framework/Versions/4.3-x86_64/Resources/library/XVector/include' -I/opt/R/x86_64/include    -fPIC  -falign-functions=64 -Wall -g -O2  -c leaf_vector_utils.c -o leaf_vector_utils.o
clang -arch x86_64 -I"/Library/Frameworks/R.framework/Resources/include" -DNDEBUG  -I'/Library/Frameworks/R.framework/Versions/4.3-x86_64/Resources/library/S4Vectors/include' -I'/Library/Frameworks/R.framework/Versions/4.3-x86_64/Resources/library/IRanges/include' -I'/Library/Frameworks/R.framework/Versions/4.3-x86_64/Resources/library/XVector/include' -I/opt/R/x86_64/include    -fPIC  -falign-functions=64 -Wall -g -O2  -c matrixStats_methods.c -o matrixStats_methods.o
clang -arch x86_64 -I"/Library/Frameworks/R.framework/Resources/include" -DNDEBUG  -I'/Library/Frameworks/R.framework/Versions/4.3-x86_64/Resources/library/S4Vectors/include' -I'/Library/Frameworks/R.framework/Versions/4.3-x86_64/Resources/library/IRanges/include' -I'/Library/Frameworks/R.framework/Versions/4.3-x86_64/Resources/library/XVector/include' -I/opt/R/x86_64/include    -fPIC  -falign-functions=64 -Wall -g -O2  -c randomSparseArray.c -o randomSparseArray.o
clang -arch x86_64 -I"/Library/Frameworks/R.framework/Resources/include" -DNDEBUG  -I'/Library/Frameworks/R.framework/Versions/4.3-x86_64/Resources/library/S4Vectors/include' -I'/Library/Frameworks/R.framework/Versions/4.3-x86_64/Resources/library/IRanges/include' -I'/Library/Frameworks/R.framework/Versions/4.3-x86_64/Resources/library/XVector/include' -I/opt/R/x86_64/include    -fPIC  -falign-functions=64 -Wall -g -O2  -c readSparseCSV.c -o readSparseCSV.o
clang -arch x86_64 -I"/Library/Frameworks/R.framework/Resources/include" -DNDEBUG  -I'/Library/Frameworks/R.framework/Versions/4.3-x86_64/Resources/library/S4Vectors/include' -I'/Library/Frameworks/R.framework/Versions/4.3-x86_64/Resources/library/IRanges/include' -I'/Library/Frameworks/R.framework/Versions/4.3-x86_64/Resources/library/XVector/include' -I/opt/R/x86_64/include    -fPIC  -falign-functions=64 -Wall -g -O2  -c rowsum_methods.c -o rowsum_methods.o
clang -arch x86_64 -I"/Library/Frameworks/R.framework/Resources/include" -DNDEBUG  -I'/Library/Frameworks/R.framework/Versions/4.3-x86_64/Resources/library/S4Vectors/include' -I'/Library/Frameworks/R.framework/Versions/4.3-x86_64/Resources/library/IRanges/include' -I'/Library/Frameworks/R.framework/Versions/4.3-x86_64/Resources/library/XVector/include' -I/opt/R/x86_64/include    -fPIC  -falign-functions=64 -Wall -g -O2  -c sparseMatrix_utils.c -o sparseMatrix_utils.o
clang -arch x86_64 -I"/Library/Frameworks/R.framework/Resources/include" -DNDEBUG  -I'/Library/Frameworks/R.framework/Versions/4.3-x86_64/Resources/library/S4Vectors/include' -I'/Library/Frameworks/R.framework/Versions/4.3-x86_64/Resources/library/IRanges/include' -I'/Library/Frameworks/R.framework/Versions/4.3-x86_64/Resources/library/XVector/include' -I/opt/R/x86_64/include    -fPIC  -falign-functions=64 -Wall -g -O2  -c test.c -o test.o
clang -arch x86_64 -dynamiclib -Wl,-headerpad_max_install_names -undefined dynamic_lookup -single_module -multiply_defined suppress -L/Library/Frameworks/R.framework/Resources/lib -L/opt/R/x86_64/lib -o SparseArray.so ExtendableJaggedArray.o IRanges_stubs.o R_init_SparseArray.o Rvector_summarization.o Rvector_utils.o S4Vectors_stubs.o SBT_utils.o SVT_SparseArray_class.o SparseArray_Complex_methods.o SparseArray_Math_methods.o SparseArray_Ops_methods.o SparseArray_abind.o SparseArray_aperm.o SparseArray_class.o SparseArray_dim_tuning.o SparseArray_subassignment.o SparseArray_subsetting.o SparseArray_summarization.o SparseMatrix_mult.o XVector_stubs.o coerceVector2.o leaf_vector_Arith.o leaf_vector_Compare.o leaf_vector_Logic.o leaf_vector_dotprod.o leaf_vector_summarization.o leaf_vector_utils.o matrixStats_methods.o randomSparseArray.o readSparseCSV.o rowsum_methods.o sparseMatrix_utils.o test.o -F/Library/Frameworks/R.framework/.. -framework R -Wl,-framework -Wl,CoreFoundation
installing to /Users/biocbuild/bbs-3.17-bioc/meat/SparseArray.buildbin-libdir/00LOCK-SparseArray/00new/SparseArray/libs
** R
** inst
** byte-compile and prepare package for lazy loading
** help
*** installing help indices
** building package indices
** installing vignettes
** testing if installed package can be loaded from temporary location
** checking absolute paths in shared objects and dynamic libraries
** testing if installed package can be loaded from final location
** testing if installed package keeps a record of temporary installation path
* DONE (SparseArray)
>>>>>>> 
>>>>>>> FIXING PATHS TO DYNAMIC LIBRARIES FOR SparseArray.buildbin-libdir/SparseArray/libs/SparseArray.so
>>>>>>> 
>>>>>>> Paths before fix:
SparseArray.buildbin-libdir/SparseArray/libs/SparseArray.so:
	SparseArray.so (compatibility version 0.0.0, current version 0.0.0)
	/Library/Frameworks/R.framework/Versions/4.3-x86_64/Resources/lib/libR.dylib (compatibility version 4.3.0, current version 4.3.1)
	/System/Library/Frameworks/CoreFoundation.framework/Versions/A/CoreFoundation (compatibility version 150.0.0, current version 1775.118.101)
	/usr/lib/libSystem.B.dylib (compatibility version 1.0.0, current version 1292.100.5)
>>>>>>> Fix with install_name_tool:
install_name_tool -change "/usr/local/lib/libgcc_s.1.1.dylib" "/Library/Frameworks/R.framework/Versions/4.3-x86_64/Resources/lib/libgcc_s.1.1.dylib" "SparseArray.buildbin-libdir/SparseArray/libs/SparseArray.so"
install_name_tool -change "/usr/local/lib/libgfortran.5.dylib" "/Library/Frameworks/R.framework/Versions/4.3-x86_64/Resources/lib/libgfortran.5.dylib" "SparseArray.buildbin-libdir/SparseArray/libs/SparseArray.so"
install_name_tool -change "/usr/local/lib/libquadmath.0.dylib" "/Library/Frameworks/R.framework/Versions/4.3-x86_64/Resources/lib/libquadmath.0.dylib" "SparseArray.buildbin-libdir/SparseArray/libs/SparseArray.so"
>>>>>>> Paths after fix:
SparseArray.buildbin-libdir/SparseArray/libs/SparseArray.so:
	SparseArray.so (compatibility version 0.0.0, current version 0.0.0)
	/Library/Frameworks/R.framework/Versions/4.3-x86_64/Resources/lib/libR.dylib (compatibility version 4.3.0, current version 4.3.1)
	/System/Library/Frameworks/CoreFoundation.framework/Versions/A/CoreFoundation (compatibility version 150.0.0, current version 1775.118.101)
	/usr/lib/libSystem.B.dylib (compatibility version 1.0.0, current version 1292.100.5)