| Back to Multiple platform build/check report for BioC 3.17: simplified long | 
  | 
This page was generated on 2023-10-16 11:37:31 -0400 (Mon, 16 Oct 2023).
| Hostname | OS | Arch (*) | R version | Installed pkgs | 
|---|---|---|---|---|
| nebbiolo1 | Linux (Ubuntu 22.04.2 LTS) | x86_64 | 4.3.1 (2023-06-16) -- "Beagle Scouts" | 4626 | 
| palomino3 | Windows Server 2022 Datacenter | x64 | 4.3.1 (2023-06-16 ucrt) -- "Beagle Scouts" | 4379 | 
| merida1 | macOS 12.6.4 Monterey | x86_64 | 4.3.1 (2023-06-16) -- "Beagle Scouts" | 4395 | 
| Click on any hostname to see more info about the system (e.g. compilers) (*) as reported by 'uname -p', except on Windows and Mac OS X | ||||
| Package 1859/2230 | Hostname | OS / Arch | INSTALL | BUILD | CHECK | BUILD BIN | ||||||||
| ScreenR 1.2.0  (landing page) Emanuel Michele Soda 
  | nebbiolo1 | Linux (Ubuntu 22.04.2 LTS) / x86_64 | OK | OK | OK | |||||||||
| palomino3 | Windows Server 2022 Datacenter / x64 | OK | OK | OK | OK | |||||||||
| merida1 | macOS 12.6.4 Monterey / x86_64 | OK | OK | OK | OK | |||||||||
| kjohnson2 | macOS 12.6.1 Monterey / arm64 | see weekly results here | ||||||||||||
| 
To the developers/maintainers of the ScreenR package: - Allow up to 24 hours (and sometimes 48 hours) for your latest push to git@git.bioconductor.org:packages/ScreenR.git to reflect on this report. See Troubleshooting Build Report for more information. - Use the following Renviron settings to reproduce errors and warnings. - If 'R CMD check' started to fail recently on the Linux builder(s) over a missing dependency, add the missing dependency to 'Suggests:' in your DESCRIPTION file. See Renviron.bioc for more information.  | 
| Package: ScreenR | 
| Version: 1.2.0 | 
| Command: /Library/Frameworks/R.framework/Resources/bin/R CMD check --install=check:ScreenR.install-out.txt --library=/Library/Frameworks/R.framework/Resources/library --no-vignettes --timings ScreenR_1.2.0.tar.gz | 
| StartedAt: 2023-10-16 06:50:41 -0400 (Mon, 16 Oct 2023) | 
| EndedAt: 2023-10-16 07:01:35 -0400 (Mon, 16 Oct 2023) | 
| EllapsedTime: 653.3 seconds | 
| RetCode: 0 | 
| Status: OK | 
| CheckDir: ScreenR.Rcheck | 
| Warnings: 0 | 
##############################################################################
##############################################################################
###
### Running command:
###
###   /Library/Frameworks/R.framework/Resources/bin/R CMD check --install=check:ScreenR.install-out.txt --library=/Library/Frameworks/R.framework/Resources/library --no-vignettes --timings ScreenR_1.2.0.tar.gz
###
##############################################################################
##############################################################################
* using log directory ‘/Users/biocbuild/bbs-3.17-bioc/meat/ScreenR.Rcheck’
* using R version 4.3.1 (2023-06-16)
* using platform: x86_64-apple-darwin20 (64-bit)
* R was compiled by
    Apple clang version 14.0.3 (clang-1403.0.22.14.1)
    GNU Fortran (GCC) 12.2.0
* running under: macOS Monterey 12.6.4
* using session charset: UTF-8
* using option ‘--no-vignettes’
* checking for file ‘ScreenR/DESCRIPTION’ ... OK
* checking extension type ... Package
* this is package ‘ScreenR’ version ‘1.2.0’
* package encoding: UTF-8
* checking package namespace information ... OK
* checking package dependencies ... OK
* checking if this is a source package ... OK
* checking if there is a namespace ... OK
* checking for hidden files and directories ... OK
* checking for portable file names ... OK
* checking for sufficient/correct file permissions ... OK
* checking whether package ‘ScreenR’ can be installed ... OK
* checking installed package size ... OK
* checking package directory ... OK
* checking ‘build’ directory ... OK
* checking DESCRIPTION meta-information ... OK
* checking top-level files ... OK
* checking for left-over files ... OK
* checking index information ... OK
* checking package subdirectories ... OK
* checking R files for non-ASCII characters ... OK
* checking R files for syntax errors ... OK
* checking whether the package can be loaded ... OK
* checking whether the package can be loaded with stated dependencies ... OK
* checking whether the package can be unloaded cleanly ... OK
* checking whether the namespace can be loaded with stated dependencies ... OK
* checking whether the namespace can be unloaded cleanly ... OK
* checking startup messages can be suppressed ... OK
* checking dependencies in R code ... OK
* checking S3 generic/method consistency ... OK
* checking replacement functions ... OK
* checking foreign function calls ... OK
* checking R code for possible problems ... OK
* checking Rd files ... OK
* checking Rd metadata ... OK
* checking Rd cross-references ... OK
* checking for missing documentation entries ... OK
* checking for code/documentation mismatches ... OK
* checking Rd \usage sections ... OK
* checking Rd contents ... OK
* checking for unstated dependencies in examples ... OK
* checking contents of ‘data’ directory ... OK
* checking data for non-ASCII characters ... OK
* checking data for ASCII and uncompressed saves ... OK
* checking R/sysdata.rda ... OK
* checking files in ‘vignettes’ ... OK
* checking examples ... OK
Examples with CPU (user + system) or elapsed time > 5s
                                 user system elapsed
plot_barcode_trend             77.598  4.184 122.044
plot_zscore_distribution       77.473  3.901 108.384
compute_metrics                42.391  2.121  60.799
find_zscore_hit                38.735  3.254  59.195
find_robust_zscore_hit         37.677  3.169  52.984
plot_mapped_reads_distribution  4.526  2.429   9.340
find_roast_hit                  3.805  0.075   5.069
plot_barcode_lost_for_gene      3.705  0.128   6.149
* checking for unstated dependencies in ‘tests’ ... OK
* checking tests ...
  Running ‘testthat.R’
 OK
* checking for unstated dependencies in vignettes ... OK
* checking package vignettes in ‘inst/doc’ ... OK
* checking running R code from vignettes ... SKIPPED
* checking re-building of vignette outputs ... SKIPPED
* checking PDF version of manual ... OK
* DONE
Status: OK
ScreenR.Rcheck/00install.out
############################################################################## ############################################################################## ### ### Running command: ### ### /Library/Frameworks/R.framework/Resources/bin/R CMD INSTALL ScreenR ### ############################################################################## ############################################################################## * installing to library ‘/Library/Frameworks/R.framework/Versions/4.3-x86_64/Resources/library’ * installing *source* package ‘ScreenR’ ... ** using staged installation ** R ** data ** inst ** byte-compile and prepare package for lazy loading ** help *** installing help indices *** copying figures ** building package indices ** installing vignettes ** testing if installed package can be loaded from temporary location ** testing if installed package can be loaded from final location ** testing if installed package keeps a record of temporary installation path * DONE (ScreenR)
ScreenR.Rcheck/tests/testthat.Rout
R version 4.3.1 (2023-06-16) -- "Beagle Scouts"
Copyright (C) 2023 The R Foundation for Statistical Computing
Platform: x86_64-apple-darwin20 (64-bit)
R is free software and comes with ABSOLUTELY NO WARRANTY.
You are welcome to redistribute it under certain conditions.
Type 'license()' or 'licence()' for distribution details.
R is a collaborative project with many contributors.
Type 'contributors()' for more information and
'citation()' on how to cite R or R packages in publications.
Type 'demo()' for some demos, 'help()' for on-line help, or
'help.start()' for an HTML browser interface to help.
Type 'q()' to quit R.
> library(testthat)
> library(ScreenR)
Welcome to ScreenR
--------------------------
See ?ScreenR for a list of
available functions.
Enjoy!
> 
> test_check("ScreenR")
ScreenR count table containing:
 5320 rows
 15 columns
ScreenR annotation table containing:
 5320 rows
 5 columns
ScreenR normalized count table containing:
 5320 rows
 15 columns
ScreenR normalized data table containing:
 74480 rows
 9 columns
ScreenR annotation table containing:
 5320 rows
 5 columns
ScreenR annotation table containing:
 5320 rows
 5 columns
ScreenR count table containing:
 5320 rows
 15 columns
ScreenR count table containing:
 5320 rows
 15 columns
ScreenR normalized count table containing:
 5320 rows
 15 columns
ScreenR normalized count table containing:
 5320 rows
 15 columns
ScreenR normalized data table containing:
 74480 rows
 9 columns
ScreenR normalized data table containing:
 74480 rows
 9 columns
Using classic mode.
[ FAIL 0 | WARN 253 | SKIP 0 | PASS 64 ]
[ FAIL 0 | WARN 253 | SKIP 0 | PASS 64 ]
> 
> proc.time()
   user  system elapsed 
 56.161   1.374  77.391 
ScreenR.Rcheck/ScreenR-Ex.timings
| name | user | system | elapsed | |
| barcode_lost | 0.360 | 0.060 | 0.565 | |
| compute_data_table | 0.599 | 0.020 | 0.829 | |
| compute_explained_variance | 0.041 | 0.006 | 0.062 | |
| compute_metrics | 42.391 | 2.121 | 60.799 | |
| compute_slope | 0.109 | 0.003 | 0.150 | |
| count_mapped_reads | 0.158 | 0.036 | 0.260 | |
| create_edger_obj | 0.057 | 0.004 | 0.079 | |
| create_screenr_object | 0.101 | 0.004 | 0.134 | |
| filter_by_slope | 0.270 | 0.008 | 0.356 | |
| filter_by_variance | 2.308 | 0.032 | 3.294 | |
| find_camera_hit | 2.410 | 0.042 | 3.101 | |
| find_common_hit | 0.069 | 0.001 | 0.093 | |
| find_roast_hit | 3.805 | 0.075 | 5.069 | |
| find_robust_zscore_hit | 37.677 | 3.169 | 52.984 | |
| find_zscore_hit | 38.735 | 3.254 | 59.195 | |
| get_annotation_table | 0.032 | 0.002 | 0.036 | |
| get_count_table | 0.166 | 0.026 | 0.258 | |
| get_data_table | 0.066 | 0.018 | 0.083 | |
| get_groups | 0.000 | 0.001 | 0.002 | |
| get_normalized_count_table | 0.089 | 0.001 | 0.118 | |
| get_replicates | 0.000 | 0.001 | 0.001 | |
| mapped_reads | 0.192 | 0.038 | 0.330 | |
| normalize_data | 0.111 | 0.022 | 0.221 | |
| plot_barcode_hit | 2.163 | 0.040 | 3.550 | |
| plot_barcode_lost | 0.878 | 0.184 | 1.531 | |
| plot_barcode_lost_for_gene | 3.705 | 0.128 | 6.149 | |
| plot_barcode_trend | 77.598 | 4.184 | 122.044 | |
| plot_boxplot | 0.839 | 0.008 | 1.227 | |
| plot_common_hit | 0.409 | 0.006 | 0.557 | |
| plot_explained_variance | 0.786 | 0.007 | 1.061 | |
| plot_mapped_reads | 0.463 | 0.038 | 0.745 | |
| plot_mapped_reads_distribution | 4.526 | 2.429 | 9.340 | |
| plot_mds | 0.828 | 0.059 | 1.164 | |
| plot_trend | 2.996 | 0.169 | 4.189 | |
| plot_zscore_distribution | 77.473 | 3.901 | 108.384 | |
| remove_all_zero_row | 0.024 | 0.001 | 0.033 | |
| set_annotation_table | 0.306 | 0.030 | 0.435 | |
| set_count_table | 0.292 | 0.003 | 0.377 | |
| set_data_table | 0.289 | 0.003 | 0.383 | |
| set_groups | 0.338 | 0.011 | 0.455 | |
| set_normalized_count_table | 0.394 | 0.004 | 0.532 | |
| set_replicates | 0.292 | 0.003 | 0.382 | |