| Back to Multiple platform build/check report for BioC 3.17: simplified long |
|
This page was generated on 2023-10-16 11:37:36 -0400 (Mon, 16 Oct 2023).
| Hostname | OS | Arch (*) | R version | Installed pkgs |
|---|---|---|---|---|
| nebbiolo1 | Linux (Ubuntu 22.04.2 LTS) | x86_64 | 4.3.1 (2023-06-16) -- "Beagle Scouts" | 4626 |
| palomino3 | Windows Server 2022 Datacenter | x64 | 4.3.1 (2023-06-16 ucrt) -- "Beagle Scouts" | 4379 |
| merida1 | macOS 12.6.4 Monterey | x86_64 | 4.3.1 (2023-06-16) -- "Beagle Scouts" | 4395 |
| Click on any hostname to see more info about the system (e.g. compilers) (*) as reported by 'uname -p', except on Windows and Mac OS X | ||||
| Package 2051/2230 | Hostname | OS / Arch | INSTALL | BUILD | CHECK | BUILD BIN | ||||||||
| SWATH2stats 1.30.1 (landing page) Peter Blattmann
| nebbiolo1 | Linux (Ubuntu 22.04.2 LTS) / x86_64 | OK | OK | OK | |||||||||
| palomino3 | Windows Server 2022 Datacenter / x64 | OK | OK | OK | OK | |||||||||
| merida1 | macOS 12.6.4 Monterey / x86_64 | OK | OK | OK | OK | |||||||||
| kjohnson2 | macOS 12.6.1 Monterey / arm64 | see weekly results here | ||||||||||||
|
To the developers/maintainers of the SWATH2stats package: - Allow up to 24 hours (and sometimes 48 hours) for your latest push to git@git.bioconductor.org:packages/SWATH2stats.git to reflect on this report. See Troubleshooting Build Report for more information. - Use the following Renviron settings to reproduce errors and warnings. - If 'R CMD check' started to fail recently on the Linux builder(s) over a missing dependency, add the missing dependency to 'Suggests:' in your DESCRIPTION file. See Renviron.bioc for more information. |
| Package: SWATH2stats |
| Version: 1.30.1 |
| Command: /Library/Frameworks/R.framework/Resources/bin/R CMD check --install=check:SWATH2stats.install-out.txt --library=/Library/Frameworks/R.framework/Resources/library --no-vignettes --timings SWATH2stats_1.30.1.tar.gz |
| StartedAt: 2023-10-16 07:50:00 -0400 (Mon, 16 Oct 2023) |
| EndedAt: 2023-10-16 07:57:44 -0400 (Mon, 16 Oct 2023) |
| EllapsedTime: 463.4 seconds |
| RetCode: 0 |
| Status: OK |
| CheckDir: SWATH2stats.Rcheck |
| Warnings: 0 |
##############################################################################
##############################################################################
###
### Running command:
###
### /Library/Frameworks/R.framework/Resources/bin/R CMD check --install=check:SWATH2stats.install-out.txt --library=/Library/Frameworks/R.framework/Resources/library --no-vignettes --timings SWATH2stats_1.30.1.tar.gz
###
##############################################################################
##############################################################################
* using log directory ‘/Users/biocbuild/bbs-3.17-bioc/meat/SWATH2stats.Rcheck’
* using R version 4.3.1 (2023-06-16)
* using platform: x86_64-apple-darwin20 (64-bit)
* R was compiled by
Apple clang version 14.0.3 (clang-1403.0.22.14.1)
GNU Fortran (GCC) 12.2.0
* running under: macOS Monterey 12.6.4
* using session charset: UTF-8
* using option ‘--no-vignettes’
* checking for file ‘SWATH2stats/DESCRIPTION’ ... OK
* checking extension type ... Package
* this is package ‘SWATH2stats’ version ‘1.30.1’
* package encoding: UTF-8
* checking package namespace information ... OK
* checking package dependencies ... NOTE
Package which this enhances but not available for checking: ‘aLFQ’
* checking if this is a source package ... OK
* checking if there is a namespace ... OK
* checking for hidden files and directories ... OK
* checking for portable file names ... OK
* checking for sufficient/correct file permissions ... OK
* checking whether package ‘SWATH2stats’ can be installed ... OK
* checking installed package size ... OK
* checking package directory ... OK
* checking ‘build’ directory ... OK
* checking DESCRIPTION meta-information ... OK
* checking top-level files ... OK
* checking for left-over files ... OK
* checking index information ... OK
* checking package subdirectories ... OK
* checking R files for non-ASCII characters ... OK
* checking R files for syntax errors ... OK
* checking whether the package can be loaded ... OK
* checking whether the package can be loaded with stated dependencies ... OK
* checking whether the package can be unloaded cleanly ... OK
* checking whether the namespace can be loaded with stated dependencies ... OK
* checking whether the namespace can be unloaded cleanly ... OK
* checking dependencies in R code ... OK
* checking S3 generic/method consistency ... OK
* checking replacement functions ... OK
* checking foreign function calls ... OK
* checking R code for possible problems ... OK
* checking Rd files ... NOTE
checkRd: (-1) sample_annotation.Rd:29: Escaped LaTeX specials: \_
* checking Rd metadata ... OK
* checking Rd cross-references ... OK
* checking for missing documentation entries ... OK
* checking for code/documentation mismatches ... OK
* checking Rd \usage sections ... OK
* checking Rd contents ... OK
* checking for unstated dependencies in examples ... OK
* checking contents of ‘data’ directory ... OK
* checking data for non-ASCII characters ... OK
* checking data for ASCII and uncompressed saves ... OK
* checking sizes of PDF files under ‘inst/doc’ ... OK
* checking files in ‘vignettes’ ... OK
* checking examples ... OK
Examples with CPU (user + system) or elapsed time > 5s
user system elapsed
load_mart 1.14 0.142 43.858
* checking for unstated dependencies in ‘tests’ ... OK
* checking tests ...
Running ‘test-all.R’
OK
* checking for unstated dependencies in vignettes ... OK
* checking package vignettes in ‘inst/doc’ ... OK
* checking running R code from vignettes ... SKIPPED
* checking re-building of vignette outputs ... SKIPPED
* checking PDF version of manual ... OK
* DONE
Status: 2 NOTEs
See
‘/Users/biocbuild/bbs-3.17-bioc/meat/SWATH2stats.Rcheck/00check.log’
for details.
SWATH2stats.Rcheck/00install.out
############################################################################## ############################################################################## ### ### Running command: ### ### /Library/Frameworks/R.framework/Resources/bin/R CMD INSTALL SWATH2stats ### ############################################################################## ############################################################################## * installing to library ‘/Library/Frameworks/R.framework/Versions/4.3-x86_64/Resources/library’ * installing *source* package ‘SWATH2stats’ ... ** using staged installation ** R ** data ** inst ** byte-compile and prepare package for lazy loading ** help *** installing help indices ** building package indices ** installing vignettes ** testing if installed package can be loaded from temporary location ** testing if installed package can be loaded from final location ** testing if installed package keeps a record of temporary installation path * DONE (SWATH2stats)
SWATH2stats.Rcheck/tests/test-all.Rout
R version 4.3.1 (2023-06-16) -- "Beagle Scouts"
Copyright (C) 2023 The R Foundation for Statistical Computing
Platform: x86_64-apple-darwin20 (64-bit)
R is free software and comes with ABSOLUTELY NO WARRANTY.
You are welcome to redistribute it under certain conditions.
Type 'license()' or 'licence()' for distribution details.
R is a collaborative project with many contributors.
Type 'contributors()' for more information and
'citation()' on how to cite R or R packages in publications.
Type 'demo()' for some demos, 'help()' for on-line help, or
'help.start()' for an HTML browser interface to help.
Type 'q()' to quit R.
> library(testthat)
> test_check("SWATH2stats")
Loading required package: SWATH2stats
[1] "peterb_J131223_054"
[1] "peterb_L150425_011_SW"
[1] "peterb_L150514_002_SW"
[ FAIL 0 | WARN 74 | SKIP 0 | PASS 113 ]
[ FAIL 0 | WARN 74 | SKIP 0 | PASS 113 ]
>
> proc.time()
user system elapsed
26.398 1.186 92.966
SWATH2stats.Rcheck/SWATH2stats-Ex.timings
| name | user | system | elapsed | |
| JPP_update | 0.200 | 0.012 | 0.271 | |
| add_genesymbol | 0.013 | 0.002 | 0.020 | |
| assess_decoy_rate | 0.189 | 0.010 | 0.252 | |
| assess_fdr_byrun | 0.326 | 0.018 | 0.467 | |
| assess_fdr_overall | 0.280 | 0.017 | 0.366 | |
| convert4MSstats | 0.860 | 0.027 | 1.129 | |
| convert4PECA | 0.281 | 0.007 | 0.366 | |
| convert4aLFQ | 0.893 | 0.034 | 1.162 | |
| convert4mapDIA | 0.722 | 0.026 | 0.946 | |
| convert4pythonscript | 0.217 | 0.007 | 0.291 | |
| convert_protein_ids | 0.000 | 0.000 | 0.001 | |
| count_analytes | 0.239 | 0.012 | 0.313 | |
| disaggregate | 0.399 | 0.018 | 0.533 | |
| filter_all_peptides | 0.225 | 0.013 | 0.304 | |
| filter_mscore | 0.293 | 0.009 | 0.392 | |
| filter_mscore_condition | 0.291 | 0.016 | 0.393 | |
| filter_mscore_fdr | 0.747 | 0.021 | 0.967 | |
| filter_mscore_freqobs | 0.278 | 0.013 | 0.361 | |
| filter_on_max_peptides | 0.282 | 0.006 | 0.360 | |
| filter_on_min_peptides | 0.272 | 0.004 | 0.345 | |
| filter_proteotypic_peptides | 0.226 | 0.005 | 0.283 | |
| import_data | 0.748 | 0.042 | 1.031 | |
| load_mart | 1.140 | 0.142 | 43.858 | |
| mscore4assayfdr | 0.612 | 0.026 | 0.819 | |
| mscore4pepfdr | 0.523 | 0.016 | 0.699 | |
| mscore4protfdr | 0.441 | 0.009 | 0.561 | |
| plot.fdr_cube | 0.267 | 0.010 | 0.349 | |
| plot.fdr_table | 0.267 | 0.010 | 0.345 | |
| plot_correlation_between_samples | 0.813 | 0.015 | 1.039 | |
| plot_variation | 0.919 | 0.015 | 1.428 | |
| plot_variation_vs_total | 0.789 | 0.016 | 1.096 | |
| reduce_OpenSWATH_output | 0.207 | 0.007 | 0.260 | |
| removeDecoyProteins | 0.239 | 0.009 | 0.308 | |
| sample_annotation | 0.267 | 0.013 | 0.339 | |
| transform_MSstats_OpenSWATH | 0.005 | 0.002 | 0.012 | |
| unifyProteinGroupLabels | 0.214 | 0.006 | 0.262 | |
| validate_columns | 0.001 | 0.001 | 0.004 | |
| write_matrix_peptides | 0.247 | 0.006 | 0.301 | |
| write_matrix_proteins | 0.219 | 0.004 | 0.282 | |