| Back to Multiple platform build/check report for BioC 3.17: simplified long | 
  | 
This page was generated on 2023-10-16 11:37:26 -0400 (Mon, 16 Oct 2023).
| Hostname | OS | Arch (*) | R version | Installed pkgs | 
|---|---|---|---|---|
| nebbiolo1 | Linux (Ubuntu 22.04.2 LTS) | x86_64 | 4.3.1 (2023-06-16) -- "Beagle Scouts" | 4626 | 
| palomino3 | Windows Server 2022 Datacenter | x64 | 4.3.1 (2023-06-16 ucrt) -- "Beagle Scouts" | 4379 | 
| merida1 | macOS 12.6.4 Monterey | x86_64 | 4.3.1 (2023-06-16) -- "Beagle Scouts" | 4395 | 
| Click on any hostname to see more info about the system (e.g. compilers) (*) as reported by 'uname -p', except on Windows and Mac OS X | ||||
| Package 1663/2230 | Hostname | OS / Arch | INSTALL | BUILD | CHECK | BUILD BIN | ||||||||
| ReactomeGSA 1.14.0  (landing page) Johannes Griss 
  | nebbiolo1 | Linux (Ubuntu 22.04.2 LTS) / x86_64 | OK | OK | ERROR | |||||||||
| palomino3 | Windows Server 2022 Datacenter / x64 | OK | OK | OK | OK | |||||||||
| merida1 | macOS 12.6.4 Monterey / x86_64 | OK | OK | OK | OK | |||||||||
| kjohnson2 | macOS 12.6.1 Monterey / arm64 | see weekly results here | ||||||||||||
| 
To the developers/maintainers of the ReactomeGSA package: - Allow up to 24 hours (and sometimes 48 hours) for your latest push to git@git.bioconductor.org:packages/ReactomeGSA.git to reflect on this report. See Troubleshooting Build Report for more information. - Use the following Renviron settings to reproduce errors and warnings. - If 'R CMD check' started to fail recently on the Linux builder(s) over a missing dependency, add the missing dependency to 'Suggests:' in your DESCRIPTION file. See Renviron.bioc for more information.  | 
| Package: ReactomeGSA | 
| Version: 1.14.0 | 
| Command: /Library/Frameworks/R.framework/Resources/bin/R CMD check --install=check:ReactomeGSA.install-out.txt --library=/Library/Frameworks/R.framework/Resources/library --no-vignettes --timings ReactomeGSA_1.14.0.tar.gz | 
| StartedAt: 2023-10-16 05:53:26 -0400 (Mon, 16 Oct 2023) | 
| EndedAt: 2023-10-16 06:23:18 -0400 (Mon, 16 Oct 2023) | 
| EllapsedTime: 1791.6 seconds | 
| RetCode: 0 | 
| Status: OK | 
| CheckDir: ReactomeGSA.Rcheck | 
| Warnings: 0 | 
##############################################################################
##############################################################################
###
### Running command:
###
###   /Library/Frameworks/R.framework/Resources/bin/R CMD check --install=check:ReactomeGSA.install-out.txt --library=/Library/Frameworks/R.framework/Resources/library --no-vignettes --timings ReactomeGSA_1.14.0.tar.gz
###
##############################################################################
##############################################################################
* using log directory ‘/Users/biocbuild/bbs-3.17-bioc/meat/ReactomeGSA.Rcheck’
* using R version 4.3.1 (2023-06-16)
* using platform: x86_64-apple-darwin20 (64-bit)
* R was compiled by
    Apple clang version 14.0.3 (clang-1403.0.22.14.1)
    GNU Fortran (GCC) 12.2.0
* running under: macOS Monterey 12.6.4
* using session charset: UTF-8
* using option ‘--no-vignettes’
* checking for file ‘ReactomeGSA/DESCRIPTION’ ... OK
* checking extension type ... Package
* this is package ‘ReactomeGSA’ version ‘1.14.0’
* package encoding: UTF-8
* checking package namespace information ... OK
* checking package dependencies ... OK
* checking if this is a source package ... OK
* checking if there is a namespace ... OK
* checking for hidden files and directories ... OK
* checking for portable file names ... OK
* checking for sufficient/correct file permissions ... OK
* checking whether package ‘ReactomeGSA’ can be installed ... OK
* checking installed package size ... OK
* checking package directory ... OK
* checking ‘build’ directory ... OK
* checking DESCRIPTION meta-information ... OK
* checking top-level files ... OK
* checking for left-over files ... OK
* checking index information ... OK
* checking package subdirectories ... OK
* checking R files for non-ASCII characters ... OK
* checking R files for syntax errors ... OK
* checking whether the package can be loaded ... OK
* checking whether the package can be loaded with stated dependencies ... OK
* checking whether the package can be unloaded cleanly ... OK
* checking whether the namespace can be loaded with stated dependencies ... OK
* checking whether the namespace can be unloaded cleanly ... OK
* checking startup messages can be suppressed ... OK
* checking dependencies in R code ... OK
* checking S3 generic/method consistency ... OK
* checking replacement functions ... OK
* checking foreign function calls ... OK
* checking R code for possible problems ... NOTE
plot_correlations,ReactomeAnalysisResult: no visible binding for global
  variable ‘combined_sig’
plot_correlations,ReactomeAnalysisResult: no visible binding for global
  variable ‘alpha’
plot_gsva_pathway,ReactomeAnalysisResult: no visible binding for global
  variable ‘cluster_id’
plot_gsva_pathway,ReactomeAnalysisResult: no visible binding for global
  variable ‘expr’
plot_gsva_pca,ReactomeAnalysisResult: no visible binding for global
  variable ‘gsva_result’
plot_gsva_pca,ReactomeAnalysisResult: no visible binding for global
  variable ‘PC1’
plot_gsva_pca,ReactomeAnalysisResult: no visible binding for global
  variable ‘PC2’
plot_heatmap,ReactomeAnalysisResult: no visible global function
  definition for ‘desc’
plot_heatmap,ReactomeAnalysisResult: no visible binding for global
  variable ‘n_sig’
plot_heatmap,ReactomeAnalysisResult: no visible binding for global
  variable ‘dataset’
plot_heatmap,ReactomeAnalysisResult: no visible binding for global
  variable ‘Name’
plot_volcano,ReactomeAnalysisResult: no visible binding for global
  variable ‘av_foldchange’
plot_volcano,ReactomeAnalysisResult: no visible binding for global
  variable ‘FDR’
Undefined global functions or variables:
  FDR Name PC1 PC2 alpha av_foldchange cluster_id combined_sig dataset
  desc expr gsva_result n_sig
* checking Rd files ... OK
* checking Rd metadata ... OK
* checking Rd cross-references ... OK
* checking for missing documentation entries ... OK
* checking for code/documentation mismatches ... OK
* checking Rd \usage sections ... OK
* checking Rd contents ... OK
* checking for unstated dependencies in examples ... OK
* checking files in ‘vignettes’ ... OK
* checking examples ... OK
Examples with CPU (user + system) or elapsed time > 5s
                                                  user system elapsed
plot_gsva_heatmap                               89.253  1.804 188.461
plot_gsva_pathway                               89.293  1.680 172.935
plot_gsva_heatmap-ReactomeAnalysisResult-method 88.074  1.917 181.006
plot_gsva_pathway-ReactomeAnalysisResult-method 87.955  1.892 171.805
plot_gsva_pca-ReactomeAnalysisResult-method     87.993  1.705 184.150
analyse_sc_clusters-Seurat-method               86.509  2.058 174.304
analyse_sc_clusters-SingleCellExperiment-method 85.052  1.812 183.542
plot_gsva_pca                                   84.732  1.666 177.622
analyse_sc_clusters                             83.955  1.855 177.004
ReactomeAnalysisRequest                          8.894  0.624  11.913
plot_heatmap-ReactomeAnalysisResult-method       4.568  0.132   5.839
perform_reactome_analysis                        4.451  0.167  22.070
plot_heatmap                                     3.993  0.029   5.141
* checking for unstated dependencies in ‘tests’ ... OK
* checking tests ...
  Running ‘testthat.R’
 OK
* checking for unstated dependencies in vignettes ... OK
* checking package vignettes in ‘inst/doc’ ... OK
* checking running R code from vignettes ... SKIPPED
* checking re-building of vignette outputs ... SKIPPED
* checking PDF version of manual ... OK
* DONE
Status: 1 NOTE
See
  ‘/Users/biocbuild/bbs-3.17-bioc/meat/ReactomeGSA.Rcheck/00check.log’
for details.
ReactomeGSA.Rcheck/00install.out
############################################################################## ############################################################################## ### ### Running command: ### ### /Library/Frameworks/R.framework/Resources/bin/R CMD INSTALL ReactomeGSA ### ############################################################################## ############################################################################## * installing to library ‘/Library/Frameworks/R.framework/Versions/4.3-x86_64/Resources/library’ * installing *source* package ‘ReactomeGSA’ ... ** using staged installation ** R ** inst ** byte-compile and prepare package for lazy loading in method for ‘analyse_sc_clusters’ with signature ‘object="Seurat"’: no definition for class “Seurat” in method for ‘analyse_sc_clusters’ with signature ‘object="SingleCellExperiment"’: no definition for class “SingleCellExperiment” in method for ‘add_dataset’ with signature ‘request="ReactomeAnalysisRequest",expression_values="EList"’: no definition for class “EList” in method for ‘add_dataset’ with signature ‘request="ReactomeAnalysisRequest",expression_values="DGEList"’: no definition for class “DGEList” in method for ‘add_dataset’ with signature ‘request="ReactomeAnalysisRequest",expression_values="ExpressionSet"’: no definition for class “ExpressionSet” ** help *** installing help indices ** building package indices ** installing vignettes ** testing if installed package can be loaded from temporary location ** testing if installed package can be loaded from final location ** testing if installed package keeps a record of temporary installation path * DONE (ReactomeGSA)
ReactomeGSA.Rcheck/tests/testthat.Rout
R version 4.3.1 (2023-06-16) -- "Beagle Scouts"
Copyright (C) 2023 The R Foundation for Statistical Computing
Platform: x86_64-apple-darwin20 (64-bit)
R is free software and comes with ABSOLUTELY NO WARRANTY.
You are welcome to redistribute it under certain conditions.
Type 'license()' or 'licence()' for distribution details.
R is a collaborative project with many contributors.
Type 'contributors()' for more information and
'citation()' on how to cite R or R packages in publications.
Type 'demo()' for some demos, 'help()' for on-line help, or
'help.start()' for an HTML browser interface to help.
Type 'q()' to quit R.
> library(testthat)
> library(ReactomeGSA)
> 
> test_check("ReactomeGSA")
[ FAIL 0 | WARN 0 | SKIP 0 | PASS 17 ]
> 
> proc.time()
   user  system elapsed 
  2.364   0.277   3.091 
ReactomeGSA.Rcheck/ReactomeGSA-Ex.timings
| name | user | system | elapsed | |
| ReactomeAnalysisRequest | 8.894 | 0.624 | 11.913 | |
| ReactomeAnalysisResult-class | 3.519 | 0.035 | 4.641 | |
| add_dataset-ReactomeAnalysisRequest-DGEList-method | 1.392 | 0.070 | 1.880 | |
| add_dataset-ReactomeAnalysisRequest-EList-method | 1.311 | 0.040 | 1.782 | |
| add_dataset-ReactomeAnalysisRequest-ExpressionSet-method | 1.304 | 0.033 | 1.675 | |
| add_dataset-ReactomeAnalysisRequest-data.frame-method | 1.308 | 0.029 | 1.741 | |
| add_dataset-ReactomeAnalysisRequest-matrix-method | 1.598 | 0.042 | 2.092 | |
| add_dataset | 1.284 | 0.035 | 1.684 | |
| analyse_sc_clusters-Seurat-method | 86.509 | 2.058 | 174.304 | |
| analyse_sc_clusters-SingleCellExperiment-method | 85.052 | 1.812 | 183.542 | |
| analyse_sc_clusters | 83.955 | 1.855 | 177.004 | |
| get_reactome_data_types | 0.089 | 0.012 | 1.384 | |
| get_reactome_methods | 0.151 | 0.022 | 2.148 | |
| get_result-ReactomeAnalysisResult-method | 0.281 | 0.011 | 0.302 | |
| get_result | 0.284 | 0.012 | 0.357 | |
| names-ReactomeAnalysisResult-method | 0.279 | 0.011 | 0.345 | |
| open_reactome-ReactomeAnalysisResult-method | 0.285 | 0.011 | 0.364 | |
| open_reactome | 0.286 | 0.012 | 0.353 | |
| pathways-ReactomeAnalysisResult-method | 3.698 | 0.080 | 4.473 | |
| pathways | 3.527 | 0.027 | 4.345 | |
| perform_reactome_analysis | 4.451 | 0.167 | 22.070 | |
| plot_correlations-ReactomeAnalysisResult-method | 3.848 | 0.035 | 4.917 | |
| plot_correlations | 3.761 | 0.032 | 4.704 | |
| plot_gsva_heatmap-ReactomeAnalysisResult-method | 88.074 | 1.917 | 181.006 | |
| plot_gsva_heatmap | 89.253 | 1.804 | 188.461 | |
| plot_gsva_pathway-ReactomeAnalysisResult-method | 87.955 | 1.892 | 171.805 | |
| plot_gsva_pathway | 89.293 | 1.680 | 172.935 | |
| plot_gsva_pca-ReactomeAnalysisResult-method | 87.993 | 1.705 | 184.150 | |
| plot_gsva_pca | 84.732 | 1.666 | 177.622 | |
| plot_heatmap-ReactomeAnalysisResult-method | 4.568 | 0.132 | 5.839 | |
| plot_heatmap | 3.993 | 0.029 | 5.141 | |
| plot_volcano-ReactomeAnalysisResult-method | 0.302 | 0.012 | 0.408 | |
| plot_volcano | 0.343 | 0.012 | 0.448 | |
| print-ReactomeAnalysisRequest-method | 0.002 | 0.001 | 0.004 | |
| print-ReactomeAnalysisResult-method | 0.276 | 0.012 | 0.353 | |
| reactome_links-ReactomeAnalysisResult-method | 0.280 | 0.012 | 0.354 | |
| reactome_links | 0.278 | 0.013 | 0.367 | |
| result_types-ReactomeAnalysisResult-method | 0.278 | 0.012 | 0.380 | |
| result_types | 0.277 | 0.012 | 0.361 | |
| set_method-ReactomeAnalysisRequest-method | 0.003 | 0.003 | 0.006 | |
| set_method | 0.003 | 0.003 | 0.008 | |
| set_parameters-ReactomeAnalysisRequest-method | 0.003 | 0.000 | 0.004 | |
| set_parameters | 0.003 | 0.001 | 0.004 | |
| show-ReactomeAnalysisRequest-method | 0.003 | 0.001 | 0.007 | |
| show-ReactomeAnalysisResult-method | 0.271 | 0.011 | 0.340 | |