| Back to Multiple platform build/check report for BioC 3.17: simplified long |
|
This page was generated on 2023-10-16 11:36:35 -0400 (Mon, 16 Oct 2023).
| Hostname | OS | Arch (*) | R version | Installed pkgs |
|---|---|---|---|---|
| nebbiolo1 | Linux (Ubuntu 22.04.2 LTS) | x86_64 | 4.3.1 (2023-06-16) -- "Beagle Scouts" | 4626 |
| palomino3 | Windows Server 2022 Datacenter | x64 | 4.3.1 (2023-06-16 ucrt) -- "Beagle Scouts" | 4379 |
| merida1 | macOS 12.6.4 Monterey | x86_64 | 4.3.1 (2023-06-16) -- "Beagle Scouts" | 4395 |
| Click on any hostname to see more info about the system (e.g. compilers) (*) as reported by 'uname -p', except on Windows and Mac OS X | ||||
| Package 1762/2230 | Hostname | OS / Arch | INSTALL | BUILD | CHECK | BUILD BIN | ||||||||
| RProtoBufLib 2.12.1 (landing page) Mike Jiang
| nebbiolo1 | Linux (Ubuntu 22.04.2 LTS) / x86_64 | OK | OK | WARNINGS | |||||||||
| palomino3 | Windows Server 2022 Datacenter / x64 | OK | OK | OK | OK | |||||||||
| merida1 | macOS 12.6.4 Monterey / x86_64 | OK | OK | WARNINGS | OK | |||||||||
| kjohnson2 | macOS 12.6.1 Monterey / arm64 | see weekly results here | ||||||||||||
|
To the developers/maintainers of the RProtoBufLib package: - Allow up to 24 hours (and sometimes 48 hours) for your latest push to git@git.bioconductor.org:packages/RProtoBufLib.git to reflect on this report. See Troubleshooting Build Report for more information. - Use the following Renviron settings to reproduce errors and warnings. - If 'R CMD check' started to fail recently on the Linux builder(s) over a missing dependency, add the missing dependency to 'Suggests:' in your DESCRIPTION file. See Renviron.bioc for more information. |
| Package: RProtoBufLib |
| Version: 2.12.1 |
| Command: rm -rf RProtoBufLib.buildbin-libdir && mkdir RProtoBufLib.buildbin-libdir && F:\biocbuild\bbs-3.17-bioc\R\bin\R.exe CMD INSTALL --build --library=RProtoBufLib.buildbin-libdir RProtoBufLib_2.12.1.tar.gz |
| StartedAt: 2023-10-16 09:26:09 -0400 (Mon, 16 Oct 2023) |
| EndedAt: 2023-10-16 09:26:32 -0400 (Mon, 16 Oct 2023) |
| EllapsedTime: 22.7 seconds |
| RetCode: 0 |
| Status: OK |
| PackageFile: RProtoBufLib_2.12.1.zip |
| PackageFileSize: 2.299 MiB |
##############################################################################
##############################################################################
###
### Running command:
###
### rm -rf RProtoBufLib.buildbin-libdir && mkdir RProtoBufLib.buildbin-libdir && F:\biocbuild\bbs-3.17-bioc\R\bin\R.exe CMD INSTALL --build --library=RProtoBufLib.buildbin-libdir RProtoBufLib_2.12.1.tar.gz
###
##############################################################################
##############################################################################
* installing *source* package 'RProtoBufLib' ...
** using staged installation
**********************************************
WARNING: this package has a configure script
It probably needs manual configuration
**********************************************
** libs
using C++ compiler: 'G__~1.EXE (GCC) 12.2.0'
using C++11
"F:/biocbuild/bbs-3.17-bioc/R/bin/x64/Rscript.exe" "../tools/downloadlibs.R" 3.8.0
g++ -std=gnu++11 -I"F:/biocbuild/bbs-3.17-bioc/R/include" -DNDEBUG -I../inst/include/ -I../windows/protobuf-3.8.0/include -I"C:/rtools43/x86_64-w64-mingw32.static.posix/include" -O2 -Wall -mfpmath=sse -msse2 -mstackrealign -c GatingSet_pb_lib/GatingSet.pb.cc -o GatingSet_pb_lib/GatingSet.pb.o
mkdir -p "F:/biocbuild/bbs-3.17-bioc/meat/RProtoBufLib.buildbin-libdir/00LOCK-RProtoBufLib/00new/RProtoBufLib/include"
cp -r ../windows/protobuf-3.8.0/include/google "F:/biocbuild/bbs-3.17-bioc/meat/RProtoBufLib.buildbin-libdir/00LOCK-RProtoBufLib/00new/RProtoBufLib/include"
mkdir -p "F:/biocbuild/bbs-3.17-bioc/meat/RProtoBufLib.buildbin-libdir/00LOCK-RProtoBufLib/00new/RProtoBufLib/lib/x64"
cp ../windows/protobuf-3.8.0/lib/x64-ucrt/libprotobuf.a "F:/biocbuild/bbs-3.17-bioc/meat/RProtoBufLib.buildbin-libdir/00LOCK-RProtoBufLib/00new/RProtoBufLib/lib/x64/libprotobuf.a"
cp GatingSet_pb_lib/GatingSet.pb.o "F:/biocbuild/bbs-3.17-bioc/meat/RProtoBufLib.buildbin-libdir/00LOCK-RProtoBufLib/00new/RProtoBufLib/lib/x64/GatingSet.pb.o"
g++ -std=gnu++11 -I"F:/biocbuild/bbs-3.17-bioc/R/include" -DNDEBUG -I../inst/include/ -I../windows/protobuf-3.8.0/include -I"C:/rtools43/x86_64-w64-mingw32.static.posix/include" -O2 -Wall -mfpmath=sse -msse2 -mstackrealign -c dummy.cpp -o dummy.o
g++ -shared -s -static-libgcc -o RProtoBufLib.dll tmp.def dummy.o -LC:/rtools43/x86_64-w64-mingw32.static.posix/lib/x64 -LC:/rtools43/x86_64-w64-mingw32.static.posix/lib -LF:/biocbuild/bbs-3.17-bioc/R/bin/x64 -lR
installing to F:/biocbuild/bbs-3.17-bioc/meat/RProtoBufLib.buildbin-libdir/00LOCK-RProtoBufLib/00new/RProtoBufLib/libs/x64
** R
** inst
** byte-compile and prepare package for lazy loading
** help
*** installing help indices
** building package indices
** installing vignettes
** testing if installed package can be loaded from temporary location
** testing if installed package can be loaded from final location
** testing if installed package keeps a record of temporary installation path
* MD5 sums
packaged installation of 'RProtoBufLib' as RProtoBufLib_2.12.1.zip
* DONE (RProtoBufLib)