| Back to Multiple platform build/check report for BioC 3.17: simplified long |
|
This page was generated on 2023-10-16 11:37:21 -0400 (Mon, 16 Oct 2023).
| Hostname | OS | Arch (*) | R version | Installed pkgs |
|---|---|---|---|---|
| nebbiolo1 | Linux (Ubuntu 22.04.2 LTS) | x86_64 | 4.3.1 (2023-06-16) -- "Beagle Scouts" | 4626 |
| palomino3 | Windows Server 2022 Datacenter | x64 | 4.3.1 (2023-06-16 ucrt) -- "Beagle Scouts" | 4379 |
| merida1 | macOS 12.6.4 Monterey | x86_64 | 4.3.1 (2023-06-16) -- "Beagle Scouts" | 4395 |
| Click on any hostname to see more info about the system (e.g. compilers) (*) as reported by 'uname -p', except on Windows and Mac OS X | ||||
| Package 1495/2230 | Hostname | OS / Arch | INSTALL | BUILD | CHECK | BUILD BIN | ||||||||
| PepsNMR 1.18.0 (landing page) Manon Martin
| nebbiolo1 | Linux (Ubuntu 22.04.2 LTS) / x86_64 | OK | OK | OK | |||||||||
| palomino3 | Windows Server 2022 Datacenter / x64 | OK | OK | OK | OK | |||||||||
| merida1 | macOS 12.6.4 Monterey / x86_64 | OK | OK | OK | OK | |||||||||
| kjohnson2 | macOS 12.6.1 Monterey / arm64 | see weekly results here | ||||||||||||
|
To the developers/maintainers of the PepsNMR package: - Allow up to 24 hours (and sometimes 48 hours) for your latest push to git@git.bioconductor.org:packages/PepsNMR.git to reflect on this report. See Troubleshooting Build Report for more information. - Use the following Renviron settings to reproduce errors and warnings. - If 'R CMD check' started to fail recently on the Linux builder(s) over a missing dependency, add the missing dependency to 'Suggests:' in your DESCRIPTION file. See Renviron.bioc for more information. |
| Package: PepsNMR |
| Version: 1.18.0 |
| Command: /Library/Frameworks/R.framework/Resources/bin/R CMD check --install=check:PepsNMR.install-out.txt --library=/Library/Frameworks/R.framework/Resources/library --no-vignettes --timings PepsNMR_1.18.0.tar.gz |
| StartedAt: 2023-10-16 05:12:30 -0400 (Mon, 16 Oct 2023) |
| EndedAt: 2023-10-16 05:34:13 -0400 (Mon, 16 Oct 2023) |
| EllapsedTime: 1302.5 seconds |
| RetCode: 0 |
| Status: OK |
| CheckDir: PepsNMR.Rcheck |
| Warnings: 0 |
##############################################################################
##############################################################################
###
### Running command:
###
### /Library/Frameworks/R.framework/Resources/bin/R CMD check --install=check:PepsNMR.install-out.txt --library=/Library/Frameworks/R.framework/Resources/library --no-vignettes --timings PepsNMR_1.18.0.tar.gz
###
##############################################################################
##############################################################################
* using log directory ‘/Users/biocbuild/bbs-3.17-bioc/meat/PepsNMR.Rcheck’
* using R version 4.3.1 (2023-06-16)
* using platform: x86_64-apple-darwin20 (64-bit)
* R was compiled by
Apple clang version 14.0.3 (clang-1403.0.22.14.1)
GNU Fortran (GCC) 12.2.0
* running under: macOS Monterey 12.6.4
* using session charset: UTF-8
* using option ‘--no-vignettes’
* checking for file ‘PepsNMR/DESCRIPTION’ ... OK
* checking extension type ... Package
* this is package ‘PepsNMR’ version ‘1.18.0’
* package encoding: UTF-8
* checking package namespace information ... OK
* checking package dependencies ... OK
* checking if this is a source package ... OK
* checking if there is a namespace ... OK
* checking for hidden files and directories ... OK
* checking for portable file names ... OK
* checking for sufficient/correct file permissions ... OK
* checking whether package ‘PepsNMR’ can be installed ... OK
* checking installed package size ... OK
* checking package directory ... OK
* checking ‘build’ directory ... OK
* checking DESCRIPTION meta-information ... OK
* checking top-level files ... OK
* checking for left-over files ... OK
* checking index information ... OK
* checking package subdirectories ... OK
* checking R files for non-ASCII characters ... OK
* checking R files for syntax errors ... OK
* checking whether the package can be loaded ... OK
* checking whether the package can be loaded with stated dependencies ... OK
* checking whether the package can be unloaded cleanly ... OK
* checking whether the namespace can be loaded with stated dependencies ... OK
* checking whether the namespace can be unloaded cleanly ... OK
* checking dependencies in R code ... OK
* checking S3 generic/method consistency ... OK
* checking replacement functions ... OK
* checking foreign function calls ... OK
* checking R code for possible problems ... OK
* checking Rd files ... NOTE
checkRd: (-1) Normalization.Rd:47: Escaped LaTeX specials: \&
* checking Rd metadata ... OK
* checking Rd cross-references ... OK
* checking for missing documentation entries ... OK
* checking for code/documentation mismatches ... OK
* checking Rd \usage sections ... OK
* checking Rd contents ... OK
* checking for unstated dependencies in examples ... OK
* checking files in ‘vignettes’ ... OK
* checking examples ... OK
Examples with CPU (user + system) or elapsed time > 5s
user system elapsed
PEPSNMR-package 401.848 14.996 551.068
PreprocessingChain 395.989 15.300 556.898
Warping 21.253 1.271 28.658
* checking for unstated dependencies in vignettes ... OK
* checking package vignettes in ‘inst/doc’ ... OK
* checking running R code from vignettes ... SKIPPED
* checking re-building of vignette outputs ... SKIPPED
* checking PDF version of manual ... OK
* DONE
Status: 1 NOTE
See
‘/Users/biocbuild/bbs-3.17-bioc/meat/PepsNMR.Rcheck/00check.log’
for details.
PepsNMR.Rcheck/00install.out
############################################################################## ############################################################################## ### ### Running command: ### ### /Library/Frameworks/R.framework/Resources/bin/R CMD INSTALL PepsNMR ### ############################################################################## ############################################################################## * installing to library ‘/Library/Frameworks/R.framework/Versions/4.3-x86_64/Resources/library’ * installing *source* package ‘PepsNMR’ ... ** using staged installation ** R ** inst ** byte-compile and prepare package for lazy loading ** help *** installing help indices ** building package indices ** installing vignettes ** testing if installed package can be loaded from temporary location ** testing if installed package can be loaded from final location ** testing if installed package keeps a record of temporary installation path * DONE (PepsNMR)
PepsNMR.Rcheck/PepsNMR-Ex.timings
| name | user | system | elapsed | |
| Apodization | 0.767 | 0.096 | 1.105 | |
| BaselineCorrection | 0.694 | 0.118 | 1.041 | |
| Bucketing | 0.134 | 0.004 | 0.170 | |
| Draw | 2.536 | 0.124 | 3.580 | |
| DrawPCA | 1.426 | 0.052 | 1.947 | |
| DrawSignal | 1.355 | 0.032 | 1.791 | |
| FirstOrderPhaseCorrection | 0.053 | 0.006 | 0.079 | |
| FourierTransform | 0.036 | 0.005 | 0.055 | |
| GroupDelayCorrection | 0.073 | 0.014 | 0.109 | |
| InternalReferencing | 0.042 | 0.007 | 0.054 | |
| NegativeValuesZeroing | 0.035 | 0.007 | 0.052 | |
| Normalization | 0.017 | 0.001 | 0.023 | |
| PEPSNMR-package | 401.848 | 14.996 | 551.068 | |
| PreprocessingChain | 395.989 | 15.300 | 556.898 | |
| ReadFids | 0.440 | 0.066 | 0.635 | |
| RegionRemoval | 0.015 | 0.001 | 0.018 | |
| SolventSuppression | 0.137 | 0.010 | 0.172 | |
| Warping | 21.253 | 1.271 | 28.658 | |
| WindowSelection | 0.047 | 0.002 | 0.061 | |
| ZeroFilling | 0.139 | 0.002 | 0.174 | |
| ZeroOrderPhaseCorrection | 0.148 | 0.035 | 0.233 | |
| ZoneAggregation | 0.351 | 0.014 | 0.459 | |