| Back to Multiple platform build/check report for BioC 3.17: simplified long |
|
This page was generated on 2023-10-16 11:37:20 -0400 (Mon, 16 Oct 2023).
| Hostname | OS | Arch (*) | R version | Installed pkgs |
|---|---|---|---|---|
| nebbiolo1 | Linux (Ubuntu 22.04.2 LTS) | x86_64 | 4.3.1 (2023-06-16) -- "Beagle Scouts" | 4626 |
| palomino3 | Windows Server 2022 Datacenter | x64 | 4.3.1 (2023-06-16 ucrt) -- "Beagle Scouts" | 4379 |
| merida1 | macOS 12.6.4 Monterey | x86_64 | 4.3.1 (2023-06-16) -- "Beagle Scouts" | 4395 |
| Click on any hostname to see more info about the system (e.g. compilers) (*) as reported by 'uname -p', except on Windows and Mac OS X | ||||
| Package 1430/2230 | Hostname | OS / Arch | INSTALL | BUILD | CHECK | BUILD BIN | ||||||||
| OncoSimulR 4.2.0 (landing page) Ramon Diaz-Uriarte
| nebbiolo1 | Linux (Ubuntu 22.04.2 LTS) / x86_64 | OK | OK | OK | |||||||||
| palomino3 | Windows Server 2022 Datacenter / x64 | OK | OK | OK | OK | |||||||||
| merida1 | macOS 12.6.4 Monterey / x86_64 | OK | OK | OK | OK | |||||||||
| kjohnson2 | macOS 12.6.1 Monterey / arm64 | see weekly results here | ||||||||||||
|
To the developers/maintainers of the OncoSimulR package: - Allow up to 24 hours (and sometimes 48 hours) for your latest push to git@git.bioconductor.org:packages/OncoSimulR.git to reflect on this report. See Troubleshooting Build Report for more information. - Use the following Renviron settings to reproduce errors and warnings. - If 'R CMD check' started to fail recently on the Linux builder(s) over a missing dependency, add the missing dependency to 'Suggests:' in your DESCRIPTION file. See Renviron.bioc for more information. |
| Package: OncoSimulR |
| Version: 4.2.0 |
| Command: /Library/Frameworks/R.framework/Resources/bin/R CMD check --install=check:OncoSimulR.install-out.txt --library=/Library/Frameworks/R.framework/Resources/library --no-vignettes --timings OncoSimulR_4.2.0.tar.gz |
| StartedAt: 2023-10-16 04:51:08 -0400 (Mon, 16 Oct 2023) |
| EndedAt: 2023-10-16 05:08:49 -0400 (Mon, 16 Oct 2023) |
| EllapsedTime: 1061.5 seconds |
| RetCode: 0 |
| Status: OK |
| CheckDir: OncoSimulR.Rcheck |
| Warnings: 0 |
##############################################################################
##############################################################################
###
### Running command:
###
### /Library/Frameworks/R.framework/Resources/bin/R CMD check --install=check:OncoSimulR.install-out.txt --library=/Library/Frameworks/R.framework/Resources/library --no-vignettes --timings OncoSimulR_4.2.0.tar.gz
###
##############################################################################
##############################################################################
* using log directory ‘/Users/biocbuild/bbs-3.17-bioc/meat/OncoSimulR.Rcheck’
* using R version 4.3.1 (2023-06-16)
* using platform: x86_64-apple-darwin20 (64-bit)
* R was compiled by
Apple clang version 14.0.3 (clang-1403.0.22.14.1)
GNU Fortran (GCC) 12.2.0
* running under: macOS Monterey 12.6.4
* using session charset: UTF-8
* using option ‘--no-vignettes’
* checking for file ‘OncoSimulR/DESCRIPTION’ ... OK
* checking extension type ... Package
* this is package ‘OncoSimulR’ version ‘4.2.0’
* checking package namespace information ... OK
* checking package dependencies ... OK
* checking if this is a source package ... OK
* checking if there is a namespace ... OK
* checking for hidden files and directories ... OK
* checking for portable file names ... OK
* checking for sufficient/correct file permissions ... OK
* checking whether package ‘OncoSimulR’ can be installed ... OK
* used C compiler: ‘Apple clang version 14.0.0 (clang-1400.0.29.202)’
* used C++ compiler: ‘Apple clang version 14.0.0 (clang-1400.0.29.202)’
* used SDK: ‘MacOSX11.3.sdk’
* checking installed package size ... NOTE
installed size is 9.3Mb
sub-directories of 1Mb or more:
libs 7.9Mb
* checking package directory ... OK
* checking ‘build’ directory ... OK
* checking DESCRIPTION meta-information ... OK
* checking top-level files ... OK
* checking for left-over files ... OK
* checking index information ... OK
* checking package subdirectories ... OK
* checking R files for non-ASCII characters ... OK
* checking R files for syntax errors ... OK
* checking whether the package can be loaded ... OK
* checking whether the package can be loaded with stated dependencies ... OK
* checking whether the package can be unloaded cleanly ... OK
* checking whether the namespace can be loaded with stated dependencies ... OK
* checking whether the namespace can be unloaded cleanly ... OK
* checking dependencies in R code ... OK
* checking S3 generic/method consistency ... OK
* checking replacement functions ... OK
* checking foreign function calls ... OK
* checking R code for possible problems ... OK
* checking Rd files ... OK
* checking Rd metadata ... OK
* checking Rd cross-references ... OK
* checking for missing documentation entries ... OK
* checking for code/documentation mismatches ... OK
* checking Rd \usage sections ... OK
* checking Rd contents ... OK
* checking for unstated dependencies in examples ... OK
* checking contents of ‘data’ directory ... OK
* checking data for non-ASCII characters ... OK
* checking data for ASCII and uncompressed saves ... OK
* checking line endings in C/C++/Fortran sources/headers ... OK
* checking line endings in Makefiles ... OK
* checking compilation flags in Makevars ... OK
* checking for GNU extensions in Makefiles ... OK
* checking for portable use of $(BLAS_LIBS) and $(LAPACK_LIBS) ... OK
* checking use of PKG_*FLAGS in Makefiles ... OK
* checking include directives in Makefiles ... OK
* checking compiled code ... NOTE
Note: information on .o files is not available
* checking files in ‘vignettes’ ... OK
* checking examples ... OK
Examples with CPU (user + system) or elapsed time > 5s
user system elapsed
plotClonePhylog 4.784 0.177 6.407
* checking for unstated dependencies in ‘tests’ ... OK
* checking tests ...
Running ‘testthat.R’
OK
* checking for unstated dependencies in vignettes ... OK
* checking package vignettes in ‘inst/doc’ ... OK
* checking running R code from vignettes ... SKIPPED
* checking re-building of vignette outputs ... SKIPPED
* checking PDF version of manual ... OK
* DONE
Status: 2 NOTEs
See
‘/Users/biocbuild/bbs-3.17-bioc/meat/OncoSimulR.Rcheck/00check.log’
for details.
OncoSimulR.Rcheck/00install.out
##############################################################################
##############################################################################
###
### Running command:
###
### /Library/Frameworks/R.framework/Resources/bin/R CMD INSTALL OncoSimulR
###
##############################################################################
##############################################################################
* installing to library ‘/Library/Frameworks/R.framework/Versions/4.3-x86_64/Resources/library’
* installing *source* package ‘OncoSimulR’ ...
** using staged installation
** libs
using C compiler: ‘Apple clang version 14.0.0 (clang-1400.0.29.202)’
using C++ compiler: ‘Apple clang version 14.0.0 (clang-1400.0.29.202)’
using SDK: ‘MacOSX11.3.sdk’
clang -arch x86_64 -I"/Library/Frameworks/R.framework/Resources/include" -DNDEBUG -I'/Library/Frameworks/R.framework/Versions/4.3-x86_64/Resources/library/Rcpp/include' -I/opt/R/x86_64/include -fPIC -falign-functions=64 -Wall -g -O2 -c FitnessLandscape/gamma.c -o FitnessLandscape/gamma.o
clang -arch x86_64 -I"/Library/Frameworks/R.framework/Resources/include" -DNDEBUG -I'/Library/Frameworks/R.framework/Versions/4.3-x86_64/Resources/library/Rcpp/include' -I/opt/R/x86_64/include -fPIC -falign-functions=64 -Wall -g -O2 -c FitnessLandscape/landscape.c -o FitnessLandscape/landscape.o
clang -arch x86_64 -I"/Library/Frameworks/R.framework/Resources/include" -DNDEBUG -I'/Library/Frameworks/R.framework/Versions/4.3-x86_64/Resources/library/Rcpp/include' -I/opt/R/x86_64/include -fPIC -falign-functions=64 -Wall -g -O2 -c FitnessLandscape/random.c -o FitnessLandscape/random.o
clang -arch x86_64 -I"/Library/Frameworks/R.framework/Resources/include" -DNDEBUG -I'/Library/Frameworks/R.framework/Versions/4.3-x86_64/Resources/library/Rcpp/include' -I/opt/R/x86_64/include -fPIC -falign-functions=64 -Wall -g -O2 -c FitnessLandscape/sort.c -o FitnessLandscape/sort.o
clang -arch x86_64 -I"/Library/Frameworks/R.framework/Resources/include" -DNDEBUG -I'/Library/Frameworks/R.framework/Versions/4.3-x86_64/Resources/library/Rcpp/include' -I/opt/R/x86_64/include -fPIC -falign-functions=64 -Wall -g -O2 -c FitnessLandscape/chain.c -o FitnessLandscape/chain.o
clang -arch x86_64 -I"/Library/Frameworks/R.framework/Resources/include" -DNDEBUG -I'/Library/Frameworks/R.framework/Versions/4.3-x86_64/Resources/library/Rcpp/include' -I/opt/R/x86_64/include -fPIC -falign-functions=64 -Wall -g -O2 -c FitnessLandscape/input.c -o FitnessLandscape/input.o
clang -arch x86_64 -I"/Library/Frameworks/R.framework/Resources/include" -DNDEBUG -I'/Library/Frameworks/R.framework/Versions/4.3-x86_64/Resources/library/Rcpp/include' -I/opt/R/x86_64/include -fPIC -falign-functions=64 -Wall -g -O2 -c FitnessLandscape/genotypes.c -o FitnessLandscape/genotypes.o
clang -arch x86_64 -I"/Library/Frameworks/R.framework/Resources/include" -DNDEBUG -I'/Library/Frameworks/R.framework/Versions/4.3-x86_64/Resources/library/Rcpp/include' -I/opt/R/x86_64/include -fPIC -falign-functions=64 -Wall -g -O2 -c FitnessLandscape/ordered_pairs.c -o FitnessLandscape/ordered_pairs.o
FitnessLandscape/ordered_pairs.c:138:6: warning: variable 'tot_pairs' set but not used [-Wunused-but-set-variable]
int tot_pairs=0;
^
1 warning generated.
clang -arch x86_64 -I"/Library/Frameworks/R.framework/Resources/include" -DNDEBUG -I'/Library/Frameworks/R.framework/Versions/4.3-x86_64/Resources/library/Rcpp/include' -I/opt/R/x86_64/include -fPIC -falign-functions=64 -Wall -g -O2 -c FitnessLandscape/calculus.c -o FitnessLandscape/calculus.o
clang -arch x86_64 -I"/Library/Frameworks/R.framework/Resources/include" -DNDEBUG -I'/Library/Frameworks/R.framework/Versions/4.3-x86_64/Resources/library/Rcpp/include' -I/opt/R/x86_64/include -fPIC -falign-functions=64 -Wall -g -O2 -c FitnessLandscape/vector.c -o FitnessLandscape/vector.o
clang -arch x86_64 -I"/Library/Frameworks/R.framework/Resources/include" -DNDEBUG -I'/Library/Frameworks/R.framework/Versions/4.3-x86_64/Resources/library/Rcpp/include' -I/opt/R/x86_64/include -fPIC -falign-functions=64 -Wall -g -O2 -c FitnessLandscape/generalized_chain.c -o FitnessLandscape/generalized_chain.o
clang -arch x86_64 -I"/Library/Frameworks/R.framework/Resources/include" -DNDEBUG -I'/Library/Frameworks/R.framework/Versions/4.3-x86_64/Resources/library/Rcpp/include' -I/opt/R/x86_64/include -fPIC -falign-functions=64 -Wall -g -O2 -c FitnessLandscape/LinearAlgebra.c -o FitnessLandscape/LinearAlgebra.o
clang -arch x86_64 -I"/Library/Frameworks/R.framework/Resources/include" -DNDEBUG -I'/Library/Frameworks/R.framework/Versions/4.3-x86_64/Resources/library/Rcpp/include' -I/opt/R/x86_64/include -fPIC -falign-functions=64 -Wall -g -O2 -c FitnessLandscape/summary_statistics.c -o FitnessLandscape/summary_statistics.o
FitnessLandscape/summary_statistics.c:515:9: warning: variable 'meanVarianceNumberOfStepsFL' set but not used [-Wunused-but-set-variable]
double meanVarianceNumberOfStepsFL = 0;
^
1 warning generated.
clang -arch x86_64 -I"/Library/Frameworks/R.framework/Resources/include" -DNDEBUG -I'/Library/Frameworks/R.framework/Versions/4.3-x86_64/Resources/library/Rcpp/include' -I/opt/R/x86_64/include -fPIC -falign-functions=64 -Wall -g -O2 -c FitnessLandscape/epistasis_type.c -o FitnessLandscape/epistasis_type.o
clang -arch x86_64 -I"/Library/Frameworks/R.framework/Resources/include" -DNDEBUG -I'/Library/Frameworks/R.framework/Versions/4.3-x86_64/Resources/library/Rcpp/include' -I/opt/R/x86_64/include -fPIC -falign-functions=64 -Wall -g -O2 -c FitnessLandscape/decomposition.c -o FitnessLandscape/decomposition.o
clang -arch x86_64 -I"/Library/Frameworks/R.framework/Resources/include" -DNDEBUG -I'/Library/Frameworks/R.framework/Versions/4.3-x86_64/Resources/library/Rcpp/include' -I/opt/R/x86_64/include -fPIC -falign-functions=64 -Wall -g -O2 -c FitnessLandscape/models.c -o FitnessLandscape/models.o
clang -arch x86_64 -I"/Library/Frameworks/R.framework/Resources/include" -DNDEBUG -I'/Library/Frameworks/R.framework/Versions/4.3-x86_64/Resources/library/Rcpp/include' -I/opt/R/x86_64/include -fPIC -falign-functions=64 -Wall -g -O2 -c FitnessLandscape/verbose.c -o FitnessLandscape/verbose.o
ar -r liblandscape.a FitnessLandscape/gamma.o FitnessLandscape/landscape.o FitnessLandscape/random.o FitnessLandscape/sort.o FitnessLandscape/chain.o FitnessLandscape/input.o FitnessLandscape/genotypes.o FitnessLandscape/ordered_pairs.o FitnessLandscape/calculus.o FitnessLandscape/vector.o FitnessLandscape/generalized_chain.o FitnessLandscape/LinearAlgebra.o FitnessLandscape/summary_statistics.o FitnessLandscape/epistasis_type.o FitnessLandscape/decomposition.o FitnessLandscape/models.o FitnessLandscape/verbose.o ;
ar: creating archive liblandscape.a
ranlib liblandscape.a;
clang -arch x86_64 -O -Wall -o fl_statistics -I/FitnessLandscape/. -L. FitnessLandscape/main_fl_statistics.c -llandscape -lm;
clang -arch x86_64 -O -Wall -o fl_generate -I/FitnessLandscape/. -L. FitnessLandscape/main_fl_generate.c -llandscape -lm;
clang -arch x86_64 -I"/Library/Frameworks/R.framework/Resources/include" -DNDEBUG -I'/Library/Frameworks/R.framework/Versions/4.3-x86_64/Resources/library/Rcpp/include' -I/opt/R/x86_64/include -fPIC -falign-functions=64 -Wall -g -O2 -c OncoSimulR_init.c -o OncoSimulR_init.o
clang++ -arch x86_64 -std=gnu++17 -I"/Library/Frameworks/R.framework/Resources/include" -DNDEBUG -I'/Library/Frameworks/R.framework/Versions/4.3-x86_64/Resources/library/Rcpp/include' -I/opt/R/x86_64/include -fPIC -falign-functions=64 -Wall -g -O2 -c RcppExports.cpp -o RcppExports.o
clang++ -arch x86_64 -std=gnu++17 -I"/Library/Frameworks/R.framework/Resources/include" -DNDEBUG -I'/Library/Frameworks/R.framework/Versions/4.3-x86_64/Resources/library/Rcpp/include' -I/opt/R/x86_64/include -fPIC -falign-functions=64 -Wall -g -O2 -c unity_osimul.cpp -o unity_osimul.o
In file included from unity_osimul.cpp:10:
./UnityOncoSimul/intervention_private_2.cpp:17:10: warning: variable 'totalPop' set but not used [-Wunused-but-set-variable]
double totalPop = 0.0;
^
1 warning generated.
clang++ -arch x86_64 -std=gnu++17 -dynamiclib -Wl,-headerpad_max_install_names -undefined dynamic_lookup -single_module -multiply_defined suppress -L/Library/Frameworks/R.framework/Resources/lib -L/opt/R/x86_64/lib -o OncoSimulR.so OncoSimulR_init.o RcppExports.o unity_osimul.o -F/Library/Frameworks/R.framework/.. -framework R -Wl,-framework -Wl,CoreFoundation
installing via 'install.libs.R' to /Library/Frameworks/R.framework/Versions/4.3-x86_64/Resources/library/00LOCK-OncoSimulR/00new/OncoSimulR
[1] ""
Installing fl_statistics fl_generate to /Library/Frameworks/R.framework/Versions/4.3-x86_64/Resources/library/00LOCK-OncoSimulR/00new/OncoSimulR/exec
Installing library OncoSimulR.so to /Library/Frameworks/R.framework/Versions/4.3-x86_64/Resources/library/00LOCK-OncoSimulR/00new/OncoSimulR/libs
** R
** data
** inst
** byte-compile and prepare package for lazy loading
** help
*** installing help indices
** building package indices
** installing vignettes
** testing if installed package can be loaded from temporary location
** checking absolute paths in shared objects and dynamic libraries
** testing if installed package can be loaded from final location
** testing if installed package keeps a record of temporary installation path
* DONE (OncoSimulR)
OncoSimulR.Rcheck/tests/testthat.Rout
R version 4.3.1 (2023-06-16) -- "Beagle Scouts"
Copyright (C) 2023 The R Foundation for Statistical Computing
Platform: x86_64-apple-darwin20 (64-bit)
R is free software and comes with ABSOLUTELY NO WARRANTY.
You are welcome to redistribute it under certain conditions.
Type 'license()' or 'licence()' for distribution details.
R is a collaborative project with many contributors.
Type 'contributors()' for more information and
'citation()' on how to cite R or R packages in publications.
Type 'demo()' for some demos, 'help()' for on-line help, or
'help.start()' for an HTML browser interface to help.
Type 'q()' to quit R.
> library(testthat)
> library(OncoSimulR)
>
> test_check("OncoSimulR")
Starting FDF-letter-fitness-order Mon Oct 16 04:54:15 2023
exprtk parser error:
Error[00] Position: 00 Type: [ Syntax Error] Msg: ERR202 - Undefined symbol: 'n_2_3' Expression: n_2_3
exprtk parser error:
Error[00] Position: 00 Type: [ Syntax Error] Msg: ERR202 - Undefined symbol: 'f_2_3' Expression: f_2_3
Ending FDF-small-fitness-specs Mon Oct 16 04:54:16 2023
Took 1.28
Starting LOD_POM at Mon Oct 16 04:54:16 2023
Ending LOD_POM at Mon Oct 16 04:54:56 2023
Took 39.98
Starting test.Z-all-fitness at Mon Oct 16 04:54:56 2023
Ending test.Z-all-fitness at Mon Oct 16 04:54:57 2023
Took 0.35
Starting test.Z-driver-counts at Mon Oct 16 04:54:57 2023
Ending test.Z-driver-counts at Mon Oct 16 04:54:57 2023
Took 0.5
Starting test.Z-fixation at Mon Oct 16 04:54:57 2023
Ending test.Z-fixation at Mon Oct 16 04:54:59 2023
Took 1.55
Starting test.Z-magellan at Mon Oct 16 04:54:59 2023
Ended test.Z-magellan at Mon Oct 16 04:55:03 2023
Starting test.Z-mutator at Mon Oct 16 04:55:03 2023
Ending test.Z-mutator at Mon Oct 16 04:55:04 2023
Took 0.88
Starting test.Z-mutatorFDF at Mon Oct 16 04:55:04 2023
Ending test.Z-mutatorFDF at Mon Oct 16 04:55:04 2023
Took 0.32
Starting test.Z-oncoSimulIndiv at Mon Oct 16 04:55:04 2023
Ending test.Z-oncoSimulIndiv at Mon Oct 16 04:55:08 2023
Took 3.85
Starting test.Z-oncoSimulIndivConstant at Mon Oct 16 04:55:08 2023
Ending test.Z-oncoSimulIndivConstant at Mon Oct 16 04:55:14 2023
Took 5.95
Starting test.Z-oncoSimulIndivDeath at Mon Oct 16 04:55:14 2023
Ending test.Z-oncoSimulIndivDeath at Mon Oct 16 04:55:16 2023
Took 2.39
Starting test.Z-oncoSimulIndivFDF at Mon Oct 16 04:55:16 2023
Hitted wall time. Exiting.
Hitting wall time is regarded as an error.
Ending test.Z-oncoSimulIndivFDF at Mon Oct 16 04:55:18 2023
Took 1.12
Starting test.Z-rfitness-landscape at Mon Oct 16 04:55:18 2023
Ending test.Z-rfitness-landscape at Mon Oct 16 04:55:18 2023
Took 0.53
Starting Z-sample-only-last tests Mon Oct 16 04:55:18 2023
Ending Z-sample-only-last tests Mon Oct 16 04:55:18 2023
Took 0
Starting Z-total-present-drivers tests Mon Oct 16 04:55:18 2023
Ending Z-total-present-drivers tests Mon Oct 16 04:55:21 2023
Took 2.79
Dummy empty test Mon Oct 16 04:55:21 2023
Starting accessible_genotypes at Mon Oct 16 04:55:21 2023
Ending accessible_genotypes at Mon Oct 16 04:55:43 2023
Took 21.69
Starting all fitness at Mon Oct 16 04:55:43 2023
Ending all-fitness at Mon Oct 16 04:56:01 2023
Took 18.46
Starting test.allFitnessEffectsFDF at Mon Oct 16 04:56:01 2023
Ending test.allFitnessEffectsFDF at Mon Oct 16 04:56:01 2023
Took 0.32
Starting test.allFitnessEffectsDeath at Mon Oct 16 04:56:01 2023
Ending test.allFitnessEffectsDeath at Mon Oct 16 04:56:02 2023
Took 0.92
Starting test.allFitnessEffectsFDF at Mon Oct 16 04:56:02 2023
Ending test.allFitnessEffectsFDF at Mon Oct 16 04:56:04 2023
Took 1.2
Starting driverCounts at Mon Oct 16 04:56:04 2023
Ending driverCounts at Mon Oct 16 04:56:28 2023
Took 24.04
Starting epist-order-modules at Mon Oct 16 04:56:28 2023
Ending epist-order-modules at Mon Oct 16 04:56:28 2023
Took 0.17
Starting test.evaluatingGenotypesDeath at Mon Oct 16 04:56:28 2023
Ending test.evaluatingGenotypesDeath at Mon Oct 16 04:56:28 2023
Took 0.55
Starting test.evaluatingGenotypesFDF at Mon Oct 16 04:56:28 2023
Ending test.evaluatingGenotypesFDF at Mon Oct 16 04:56:29 2023
Took 0.53
Starting exercise-plotting-code at Mon Oct 16 04:56:29 2023
Ending exercise-plotting-code at Mon Oct 16 04:56:46 2023
Took 16.82
Starting exercise-rfitness at Mon Oct 16 04:56:46 2023
Ending exercise-rfitness at Mon Oct 16 04:57:18 2023
Took 32.04
Starting to_Magella at Mon Oct 16 04:57:18 2023
Ending to_Magella at Mon Oct 16 04:57:18 2023
Took 0.11
Starting fitness preds at Mon Oct 16 04:57:18 2023
Observed vs expected, case III
done tries 1
Ending fitness preds long at Mon Oct 16 04:57:52 2023
Took 34.04
Starting fixation at Mon Oct 16 04:57:52 2023
Ending fixation at Mon Oct 16 04:59:11 2023
Took 79.19
Starting test.flfast-additional.R test at Mon Oct 16 04:59:11 2023
Ending test.flfast-additional.R test at Mon Oct 16 04:59:15 2023
Took 3.59
Starting test.flfast-mutator.R test at Mon Oct 16 04:59:15 2023
Finished test.flfast-mutator.R test at Mon Oct 16 04:59:20 2023
Took 5.35
Starting genotFitness at Mon Oct 16 04:59:20 2023
Ending genotFitness at Mon Oct 16 04:59:21 2023
Took 0.51
Starting genot_fitness_to_epistasis at Mon Oct 16 04:59:21 2023
Ending genot_fitness_to_epistasis at Mon Oct 16 04:59:21 2023
Took 0.11
Starting init-mutant tests Mon Oct 16 04:59:21 2023
exprtk parser error:
Error[00] Position: 18 Type: [ Syntax Error] Msg: ERR202 - Undefined symbol: 'f_2' Expression: 1.1 + 0.7*((f_1 + f_2) > 0.3)
Ending init-mutant tests Mon Oct 16 04:59:45 2023
Took 24.3
Starting interventions tests Mon Oct 16 04:59:45 2023
[1] "Checking intervention: intOverA"
[1] "Checking intervention: intOverA"
[1] "Checking intervention: intOverA"
[1] "Checking intervention: intOverA"
[1] "Checking intervention: intOverMultiplicatesA"
In intervention:intOverMultiplicatesA with WhatHappens: n_1 = n_1 * 2. You cannot intervene to generate more population.[1] "Checking intervention: intOverA"
[1] "Checking intervention: intOverA"
[1] "Checking intervention: intOverTotPop"
[1] 0.78 0.78 0.78
[1] "Checking intervention: intOverTotPop"
[1] "Checking intervention: intOverA"
[1] "Checking intervention: intOverB"
[1] "Checking intervention: intOverC"
[1] "Checking intervention: intOverD"
Init Mutant with birth == 1.0
Init Mutant with birth == 1.0
[1] "Checking intervention: intOverA"
[1] "Checking intervention: intOverB"
[1] "Checking intervention: intOverC"
[1] "Checking intervention: intOverD"
Init Mutant with birth == 1.0
Init Mutant with birth == 1.0
[1] "Checking user variable: user_var_1"
[1] "Checking rule: rule_1"
[1] "Checking rule: rule_2"
[1] "Checking rule: rule_3"
[1] "Checking intervention: intOverTotPop"
[1] "Checking intervention: intOverTotPop2"
[1] "Checking intervention: intOverTotPop3"
[1] "Checking user variable: user_var_1"
[1] "Checking rule: rule_1"
[1] "Checking rule: rule_2"
[1] "Checking rule: rule_3"
[1] "Checking intervention: intOverTotPop"
Ending interventions tests Mon Oct 16 04:59:56 2023
Took 10.95
Starting test.magellan at Mon Oct 16 04:59:56 2023
Ending test.magellan at Mon Oct 16 04:59:57 2023
Took 0.37
Starting test.modules-root-no-root at Mon Oct 16 04:59:57 2023
Ending test.modules-root-no-root at Mon Oct 16 04:59:57 2023
Took 0.19
Starting at mutPropGrowth Mon Oct 16 04:59:57 2023
Ended test.mutPropGrowth: Mon Oct 16 05:00:28 2023
Took 31.35
Starting test.mutator-oncoSimulSample.R test at Mon Oct 16 05:00:28 2023
Finished test.mutator-oncoSimulSample.R test at Mon Oct 16 05:00:55 2023
Took 26.49 seconds
Starting test.mutator.R test at Mon Oct 16 05:00:55 2023[1] 5.064249e-06
[1] 2.524722e-10
Finished test.mutator.R test at Mon Oct 16 05:01:45 2023
Took 50.5
Starting test.mutatorFDF.R test at Mon Oct 16 05:01:45 2023
Starting test.no-v1 at Mon Oct 16 05:01:47 2023
Ending test.no-v1 at Mon Oct 16 05:01:47 2023
Took 0.04
Starting oncoSimulIndiv-miscell tests Mon Oct 16 05:01:47 2023
Ending oncoSimulIndiv-miscell tests Mon Oct 16 05:02:16 2023
Took 29.68
Starting oncoSimulSample-failures tests Mon Oct 16 05:02:16 2023
Ending oncoSimulSample-failures tests Mon Oct 16 05:02:21 2023
Took 4.22
Starting oncoSimulSample-limits tests Mon Oct 16 05:02:21 2023
Ending oncoSimulSample-limits tests Mon Oct 16 05:02:21 2023
Took 0.21
Starting per-gene-mutation rates at Mon Oct 16 05:02:21 2023
Ending per-gene-mutation rates at Mon Oct 16 05:05:22 2023
Took 181.11
Starting plotFitnessLandscape at Mon Oct 16 05:05:22 2023
Ending plotFitnessLandscape at Mon Oct 16 05:05:41 2023
Took 19.3
Starting poset-transformations tests Mon Oct 16 05:05:41 2023
Ending poset-transformations tests Mon Oct 16 05:06:38 2023
Took 56.15
Starting sample-prob Mon Oct 16 05:06:38 2023
[1] 2.130829e-28
[1] 1.092329e-15
[1] 2.275e-10
[1] 1.257898e-11
[1] 7.498594e-14
[1] 6.089419e-12
[1] 4.513088e-11
[1] 3.964355e-16
[1] 8.578589e-09
[1] 2.76072e-11
[1] 6.711023e-10
[1] 9.262992e-10
Ending sample-prob tests Mon Oct 16 05:07:04 2023
Took 26.51
Starting samplePop tests Mon Oct 16 05:07:04 2023
Ending samplePop tests Mon Oct 16 05:07:38 2023
Took 34.08
Starting simuls-runs-examples tests Mon Oct 16 05:07:38 2023
Ending simuls-runs-examples tests Mon Oct 16 05:08:13 2023
Took 34.52
Starting user variable tests Mon Oct 16 05:08:13 2023
[1] "Checking user variable: user_var_1"
[1] "Checking rule: rule_1"
Ending user variable tests Mon Oct 16 05:08:13 2023
Took 0.25
Starting warning-mutPropGrowth tests Mon Oct 16 05:08:13 2023
Ending warning-mutPropGrowth tests Mon Oct 16 05:08:15 2023
Took 1.82
Starting wide2long tests Mon Oct 16 05:08:15 2023
Ending wide2long tests Mon Oct 16 05:08:16 2023
Took 1.11
[ FAIL 0 | WARN 13 | SKIP 7 | PASS 8420 ]
══ Skipped tests (7) ═══════════════════════════════════════════════════════════
• On Mac (2): 'test.Z-magellan.R:664:5', 'test.Z-oncoSimulIndivFDF.R:125:3'
• empty test (5): 'test.FDF-letter-fitness-order.R:376:1',
'test.ZZ-dummy-skip-warn-test.R:8:1', 'test.ZZ-dummy-skip-warn-test.R:12:1',
'test.fixation.R:4:1', 'test.init-mutant.R:1097:1'
[ FAIL 0 | WARN 13 | SKIP 7 | PASS 8420 ]
>
> proc.time()
user system elapsed
678.216 127.739 854.018
OncoSimulR.Rcheck/OncoSimulR-Ex.timings
| name | user | system | elapsed | |
| OncoSimulWide2Long | 1.003 | 0.157 | 1.458 | |
| POM | 2.113 | 0.230 | 1.536 | |
| allFitnessEffects | 3.685 | 0.132 | 4.778 | |
| benchmarks | 0.021 | 0.015 | 0.045 | |
| createInterventions | 0.539 | 0.019 | 0.714 | |
| createUserVars | 0.809 | 0.023 | 1.057 | |
| evalAllGenotypes | 0.466 | 0.033 | 0.650 | |
| example-missing-drivers | 0.496 | 0.030 | 0.666 | |
| examplePosets | 0.633 | 0.011 | 0.815 | |
| examplesFitnessEffects | 0.086 | 0.006 | 0.123 | |
| freq-dep-simul-examples | 0.017 | 0.004 | 0.028 | |
| mcfLs | 0.000 | 0.001 | 0.001 | |
| oncoSimulIndiv | 2.802 | 0.477 | 4.022 | |
| plot.fitnessEffects | 0.464 | 0.046 | 0.684 | |
| plot.oncosimul | 1.482 | 0.127 | 2.073 | |
| plotClonePhylog | 4.784 | 0.177 | 6.407 | |
| plotFitnessLandscape | 2.864 | 0.019 | 3.666 | |
| plotPoset | 0.219 | 0.010 | 0.292 | |
| poset | 0.254 | 0.009 | 0.327 | |
| rfitness | 1.446 | 0.020 | 1.939 | |
| samplePop | 0.112 | 0.107 | 0.197 | |
| simOGraph | 0.117 | 0.026 | 0.197 | |
| to_Magellan | 0.478 | 0.140 | 0.760 | |
| vignette_pre_computed | 0.013 | 0.005 | 0.017 | |