| Back to Multiple platform build/check report for BioC 3.17: simplified long | 
  | 
This page was generated on 2023-10-16 11:35:35 -0400 (Mon, 16 Oct 2023).
| Hostname | OS | Arch (*) | R version | Installed pkgs | 
|---|---|---|---|---|
| nebbiolo1 | Linux (Ubuntu 22.04.2 LTS) | x86_64 | 4.3.1 (2023-06-16) -- "Beagle Scouts" | 4626 | 
| palomino3 | Windows Server 2022 Datacenter | x64 | 4.3.1 (2023-06-16 ucrt) -- "Beagle Scouts" | 4379 | 
| merida1 | macOS 12.6.4 Monterey | x86_64 | 4.3.1 (2023-06-16) -- "Beagle Scouts" | 4395 | 
| Click on any hostname to see more info about the system (e.g. compilers) (*) as reported by 'uname -p', except on Windows and Mac OS X | ||||
| Package 1445/2230 | Hostname | OS / Arch | INSTALL | BUILD | CHECK | BUILD BIN | ||||||||
| ORFik 1.20.2  (landing page) Haakon Tjeldnes 
  | nebbiolo1 | Linux (Ubuntu 22.04.2 LTS) / x86_64 | OK | OK | OK | |||||||||
| palomino3 | Windows Server 2022 Datacenter / x64 | OK | ERROR | skipped | skipped | |||||||||
| merida1 | macOS 12.6.4 Monterey / x86_64 | OK | OK | OK | OK | |||||||||
| kjohnson2 | macOS 12.6.1 Monterey / arm64 | see weekly results here | ||||||||||||
| 
To the developers/maintainers of the ORFik package: - Allow up to 24 hours (and sometimes 48 hours) for your latest push to git@git.bioconductor.org:packages/ORFik.git to reflect on this report. See Troubleshooting Build Report for more information. - Use the following Renviron settings to reproduce errors and warnings. - If 'R CMD check' started to fail recently on the Linux builder(s) over a missing dependency, add the missing dependency to 'Suggests:' in your DESCRIPTION file. See Renviron.bioc for more information.  | 
| Package: ORFik | 
| Version: 1.20.2 | 
| Command: /home/biocbuild/bbs-3.17-bioc/R/bin/R CMD check --install=check:ORFik.install-out.txt --library=/home/biocbuild/bbs-3.17-bioc/R/site-library --timings ORFik_1.20.2.tar.gz | 
| StartedAt: 2023-10-15 23:30:09 -0400 (Sun, 15 Oct 2023) | 
| EndedAt: 2023-10-15 23:52:31 -0400 (Sun, 15 Oct 2023) | 
| EllapsedTime: 1342.3 seconds | 
| RetCode: 0 | 
| Status: OK | 
| CheckDir: ORFik.Rcheck | 
| Warnings: 0 | 
##############################################################################
##############################################################################
###
### Running command:
###
###   /home/biocbuild/bbs-3.17-bioc/R/bin/R CMD check --install=check:ORFik.install-out.txt --library=/home/biocbuild/bbs-3.17-bioc/R/site-library --timings ORFik_1.20.2.tar.gz
###
##############################################################################
##############################################################################
* using log directory ‘/home/biocbuild/bbs-3.17-bioc/meat/ORFik.Rcheck’
* using R version 4.3.1 (2023-06-16)
* using platform: x86_64-pc-linux-gnu (64-bit)
* R was compiled by
    gcc (Ubuntu 11.3.0-1ubuntu1~22.04.1) 11.3.0
    GNU Fortran (Ubuntu 11.3.0-1ubuntu1~22.04.1) 11.3.0
* running under: Ubuntu 22.04.3 LTS
* using session charset: UTF-8
* checking for file ‘ORFik/DESCRIPTION’ ... OK
* checking extension type ... Package
* this is package ‘ORFik’ version ‘1.20.2’
* package encoding: UTF-8
* checking package namespace information ... OK
* checking package dependencies ... OK
* checking if this is a source package ... OK
* checking if there is a namespace ... OK
* checking for hidden files and directories ... OK
* checking for portable file names ... OK
* checking for sufficient/correct file permissions ... OK
* checking whether package ‘ORFik’ can be installed ... OK
* used C++ compiler: ‘g++ (Ubuntu 11.4.0-1ubuntu1~22.04) 11.4.0’
* checking C++ specification ... NOTE
  Specified C++11: please drop specification unless essential
* checking installed package size ... NOTE
  installed size is  5.1Mb
  sub-directories of 1Mb or more:
    libs   1.6Mb
* checking package directory ... OK
* checking ‘build’ directory ... OK
* checking DESCRIPTION meta-information ... OK
* checking top-level files ... OK
* checking for left-over files ... OK
* checking index information ... OK
* checking package subdirectories ... OK
* checking R files for non-ASCII characters ... OK
* checking R files for syntax errors ... OK
* checking whether the package can be loaded ... OK
* checking whether the package can be loaded with stated dependencies ... OK
* checking whether the package can be unloaded cleanly ... OK
* checking whether the namespace can be loaded with stated dependencies ... OK
* checking whether the namespace can be unloaded cleanly ... OK
* checking loading without being on the library search path ... OK
* checking dependencies in R code ... NOTE
Unexported objects imported by ':::' calls:
  ‘GenomicFeatures:::.merge_seqinfo_and_infer_missing_seqlengths’
  ‘IRanges:::regroupBySupergroup’ ‘S4Vectors:::normarg_mcols’
  See the note in ?`:::` about the use of this operator.
* checking S3 generic/method consistency ... OK
* checking replacement functions ... OK
* checking foreign function calls ... OK
* checking R code for possible problems ... NOTE
DEG.plot.static: no visible binding for global variable ‘Regulation’
DEG.plot.static: no visible binding for global variable ‘meanCounts’
DEG.plot.static: no visible binding for global variable ‘LFC’
DTEG.plot: no visible binding for global variable ‘Regulation’
DTEG.plot: no visible binding for global variable ‘rna’
DTEG.plot: no visible binding for global variable ‘rfp’
QCplots: no visible binding for global variable ‘leaders’
QCplots: no visible binding for global variable ‘trailers’
QCstats.plot: no visible binding for global variable ‘variable’
QCstats.plot: no visible binding for global variable ‘sample_total’
QCstats.plot: no visible binding for global variable ‘value’
QCstats.plot: no visible global function definition for ‘.’
QCstats.plot: no visible binding for global variable ‘sample_id’
QCstats.plot: no visible binding for global variable ‘percentage’
QCstats.plot: no visible binding for global variable
  ‘perc_of_counts_per_sample’
QCstats.plot: no visible binding for global variable ‘read length’
RiboQC.plot: no visible binding for global variable ‘variable’
RiboQC.plot: no visible binding for global variable ‘sample_total’
RiboQC.plot: no visible binding for global variable ‘value’
RiboQC.plot: no visible global function definition for ‘.’
RiboQC.plot: no visible binding for global variable ‘sample_id’
RiboQC.plot: no visible binding for global variable ‘percentage’
RiboQC.plot: no visible binding for global variable ‘percent’
RiboQC.plot: no visible binding for global variable ‘frame’
STAR.multiQC: no visible binding for global variable ‘sample_id’
STAR.multiQC: no visible binding for global variable ‘value’
TOP.Motif.ecdf: no visible binding for global variable ‘seq1’
TOP.Motif.ecdf: no visible binding for global variable ‘TOP’
alignmentFeatureStatistics : <anonymous>: no visible binding for global
  variable ‘percentage_mrna_aligned’
alignmentFeatureStatistics : <anonymous>: no visible binding for global
  variable ‘mRNA’
alignmentFeatureStatistics : <anonymous>: no visible binding for global
  variable ‘percentage_tx_aligned’
alignmentFeatureStatistics : <anonymous>: no visible binding for global
  variable ‘Transcript’
alignmentFeatureStatistics : <anonymous>: no visible binding for global
  variable ‘ratio_cds_mrna’
alignmentFeatureStatistics : <anonymous>: no visible binding for global
  variable ‘CDS’
alignmentFeatureStatistics : <anonymous>: no visible binding for global
  variable ‘ratio_cds_leader’
alignmentFeatureStatistics : <anonymous>: no visible binding for global
  variable ‘LEADERS’
allFeaturesHelper: no visible binding for global variable ‘te’
allFeaturesHelper: no visible binding for global variable ‘fpkmRFP’
allFeaturesHelper: no visible binding for global variable ‘fpkmRNA’
allFeaturesHelper: no visible binding for global variable ‘countRFP’
allFeaturesHelper: no visible binding for global variable ‘entropyRFP’
allFeaturesHelper: no visible binding for global variable
  ‘disengagementScores’
allFeaturesHelper: no visible binding for global variable ‘RRS’
allFeaturesHelper: no visible binding for global variable ‘RSS’
allFeaturesHelper: no visible binding for global variable ‘ORFScores’
allFeaturesHelper: no visible binding for global variable ‘ioScore’
allFeaturesHelper: no visible binding for global variable
  ‘startCodonCoverage’
allFeaturesHelper: no visible binding for global variable
  ‘startRegionRelative’
allFeaturesHelper: no visible binding for global variable ‘kozak’
allFeaturesHelper: no visible binding for global variable ‘StartCodons’
allFeaturesHelper: no visible binding for global variable ‘StopCodons’
allFeaturesHelper: no visible binding for global variable
  ‘fractionLengths’
allFeaturesHelper: no visible binding for global variable ‘distORFCDS’
allFeaturesHelper: no visible binding for global variable ‘inFrameCDS’
allFeaturesHelper: no visible binding for global variable
  ‘isOverlappingCds’
allFeaturesHelper: no visible binding for global variable ‘rankInTx’
appendZeroes: no visible binding for global variable ‘frame’
appendZeroes: no visible binding for global variable ‘position’
appendZeroes: no visible binding for global variable ‘count’
artificial.orfs: no visible binding for global variable ‘random’
artificial.orfs: no visible binding for global variable ‘pick’
artificial.orfs: no visible global function definition for ‘.’
browseSRA: no visible global function definition for ‘browseURL’
cellTypeNames: missing arguments not allowed in calls to ‘c’
codon_usage: no visible binding for global variable ‘merged’
codon_usage: no visible binding for global variable ‘AA’
codon_usage: no visible binding for global variable ‘codon’
codon_usage_plot: no visible binding for global variable ‘seqs’
collapse.by.scores: no visible global function definition for ‘.’
collapse.fastq.internal: no visible binding for global variable ‘N’
cor_plot: no visible binding for global variable ‘Var2’
cor_plot: no visible binding for global variable ‘Var1’
cor_plot: no visible binding for global variable ‘Cor’
cor_table: no visible binding for global variable ‘Var1’
cor_table: no visible binding for global variable ‘Var2’
cor_table: no visible binding for global variable ‘Cor’
coverageHeatMap: no visible binding for global variable ‘position’
coverageHeatMap: no visible binding for global variable ‘fraction’
coverageScorings: no visible binding for global variable ‘count’
coverageScorings: no visible binding for global variable ‘zscore’
coverageScorings: no visible binding for global variable ‘windowMean’
coverageScorings: no visible binding for global variable ‘windowSD’
coverageScorings: no visible global function definition for ‘.’
coverageScorings: no visible binding for global variable ‘gene_sum’
coverageScorings: no visible binding for global variable ‘fraction’
coverage_random_access_file: no visible binding for global variable
  ‘position’
coverage_random_access_file: no visible binding for global variable
  ‘frame’
coverage_to_dt: no visible binding for global variable ‘frame’
coverage_to_dt: no visible binding for global variable ‘position’
detectRibosomeShifts: no visible global function definition for ‘.’
detectRibosomeShifts: no visible binding for global variable ‘size’
detectRibosomeShifts: no visible binding for global variable ‘fraction’
detectRibosomeShifts: no visible binding for global variable ‘pShifted’
detectRibosomeShifts: no visible binding for global variable
  ‘sum.count’
detectRibosomeShifts: no visible binding for global variable ‘count’
detectRibosomeShifts: no visible binding for global variable
  ‘frac.score’
entropy: no visible binding for global variable ‘Hx’
entropy: no visible binding for global variable ‘codonSums’
entropy: no visible global function definition for ‘.’
fetch_xml_attributes: no visible binding for global variable
  ‘..to_keep’
filterExtremePeakGenes: no visible binding for global variable ‘count’
filterExtremePeakGenes: no visible binding for global variable
  ‘median_per_gene’
filterExtremePeakGenes: no visible global function definition for ‘.’
filterTranscripts: no visible binding for global variable ‘utr5_len’
filterTranscripts: no visible binding for global variable ‘utr3_len’
filter_empty_runs: no visible binding for global variable ‘spots’
findNGSPairs: no visible global function definition for ‘.’
findNGSPairs: no visible binding for global variable ‘forward’
findPeaksPerGene: no visible binding for global variable ‘sum_per_gene’
findPeaksPerGene: no visible binding for global variable ‘count’
findPeaksPerGene: no visible binding for global variable
  ‘mean_per_gene’
findPeaksPerGene: no visible binding for global variable ‘sd_per_gene’
findPeaksPerGene: no visible binding for global variable ‘zscore’
findPeaksPerGene: no visible binding for global variable ‘gene_id’
find_url_ebi_safe: no visible binding for global variable
  ‘run_accession’
flankPerGroup: no visible global function definition for ‘.’
flankPerGroup: no visible binding for global variable ‘group_name’
floss: no visible binding for global variable ‘ORFGrouping’
floss: no visible binding for global variable ‘widths’
floss: no visible global function definition for ‘.’
floss: no visible binding for global variable ‘CDSGrouping’
floss: no visible binding for global variable ‘fraction.x’
floss: no visible binding for global variable ‘fraction.y’
gSort: no visible binding for global variable ‘grnames’
geneToSymbol: no visible binding for global variable ‘ensembl_gene_id’
geneToSymbol: no visible binding for global variable
  ‘external_gene_name’
geneToSymbol: no visible binding for global variable
  ‘ensembl_transcript_id’
geneToSymbol: no visible binding for global variable ‘uniprotswissprot’
getNGenesCoverage: no visible global function definition for ‘.’
getNGenesCoverage: no visible binding for global variable ‘fraction’
get_phix_genome: no visible binding for global variable ‘phix.url’
initiationScore: no visible global function definition for ‘.’
initiationScore: no visible binding for global variable ‘dif’
initiationScore: no visible binding for global variable ‘fraction’
initiationScore: no visible binding for global variable ‘difPer’
isPeriodic: no visible binding for global variable ‘spec’
kozakHeatmap: no visible global function definition for ‘.’
kozakHeatmap: no visible binding for global variable ‘variable’
kozakHeatmap: no visible binding for global variable ‘value’
kozakHeatmap: no visible binding for global variable
  ‘count_seq_pos_with_count’
kozakHeatmap: no visible binding for global variable ‘median_score’
kozak_IR_ranking: no visible global function definition for ‘.’
kozak_IR_ranking: no visible binding for global variable ‘IR’
kozak_IR_ranking: no visible binding for global variable
  ‘upstream_kozak_strength’
kozak_IR_ranking: no visible binding for global variable ‘count’
kozak_IR_ranking: no visible binding for global variable ‘mean_IR’
list.genomes: no visible binding for global variable ‘STAR_index’
longestORFs: no visible global function definition for ‘.’
metaWindow: no visible binding for global variable ‘position’
metaWindow: no visible binding for global variable ‘frame’
metadata.autnaming: no visible binding for global variable
  ‘LIBRARYTYPE’
metadata.autnaming: no visible binding for global variable
  ‘LibraryStrategy’
orfFrameDistributions : <anonymous>: no visible binding for global
  variable ‘fraction’
orfFrameDistributions: no visible binding for global variable ‘percent’
orfFrameDistributions: no visible binding for global variable
  ‘fraction’
orfFrameDistributions: no visible binding for global variable
  ‘percent_length’
orfFrameDistributions: no visible global function definition for ‘.’
orfFrameDistributions: no visible binding for global variable
  ‘best_frame’
orfScore: no visible binding for global variable ‘frame’
orfScore: no visible binding for global variable ‘frame_one_RP’
orfScore: no visible binding for global variable ‘frame_two_RP’
pSitePlot: no visible binding for global variable ‘count’
pSitePlot: no visible binding for global variable ‘frame’
pSitePlot: no visible binding for global variable ‘position’
pcaExperiment: no visible binding for global variable ‘PC1’
pcaExperiment: no visible binding for global variable ‘PC2’
readLengthTable: no visible binding for global variable
  ‘counts_per_sample’
readLengthTable: no visible binding for global variable
  ‘perc_of_counts_per_sample’
regionPerReadLength : <anonymous>: no visible binding for global
  variable ‘fraction’
remakeTxdbExonIds: no visible global function definition for ‘.’
remakeTxdbExonIds: no visible binding for global variable ‘chr’
removeTxdbExons: no visible binding for global variable ‘exon_rank’
removeTxdbExons: no visible binding for global variable ‘ranks’
ribo_fft: no visible binding for global variable ‘fraction’
ribo_fft_plot: no visible binding for global variable ‘periods’
ribo_fft_plot: no visible binding for global variable ‘amplitude’
rnaNormalize: no visible binding for global variable ‘feature’
scaledWindowPositions: no visible binding for global variable
  ‘scalingFactor’
scaledWindowPositions: no visible binding for global variable
  ‘position’
scaledWindowPositions: no visible global function definition for ‘.’
scoreSummarizedExperiment: no visible global function definition for
  ‘rowSums2’
seq_usage: no visible binding for global variable ‘variable’
seq_usage: no visible binding for global variable ‘codon_sum’
seq_usage: no visible global function definition for ‘.’
seq_usage: no visible binding for global variable ‘gene_sum’
seq_usage: no visible binding for global variable
  ‘N_AA_of_type_per_gene’
seq_usage: no visible binding for global variable ‘as_prob_normalized’
seq_usage: no visible binding for global variable ‘N_total’
seq_usage: no visible binding for global variable ‘N’
seq_usage: no visible binding for global variable ‘mean_txNorm’
seq_usage: no visible binding for global variable ‘sum_txNorm’
seq_usage: no visible binding for global variable ‘dispersion’
seq_usage: no visible binding for global variable ‘dispersion_txNorm’
seq_usage: no visible binding for global variable ‘var_txNorm’
seq_usage: no visible binding for global variable ‘mean_percentage’
seq_usage: no visible binding for global variable ‘mean_txNorm_prob’
seq_usage: no visible binding for global variable
  ‘mean_txNorm_percentage’
seq_usage: no visible binding for global variable
  ‘relative_to_max_score’
shiftPlots : <anonymous>: no visible binding for global variable
  ‘frame’
shiftPlots : <anonymous>: no visible binding for global variable
  ‘position’
te.plot: no visible global function definition for ‘rowMin’
te.plot: no visible binding for global variable ‘variable’
te.plot: no visible binding for global variable ‘LFC_TE’
te.plot: no visible binding for global variable ‘rfp_log2’
te.plot: no visible binding for global variable ‘rna_log2’
te.plot: no visible binding for global variable ‘rna_log10’
te.table: no visible global function definition for ‘rowMin’
te.table: no visible binding for global variable ‘variable’
te.table: no visible binding for global variable ‘TE_log2’
te.table: no visible binding for global variable ‘rfp_log2’
te.table: no visible binding for global variable ‘rna_log2’
te_rna.plot: no visible binding for global variable ‘subtitle’
te_rna.plot: no visible binding for global variable ‘rna_log10’
te_rna.plot: no visible binding for global variable ‘TE_log2’
topMotif: no visible binding for global variable ‘seq1’
topMotif: no visible binding for global variable ‘seq2’
topMotif: no visible binding for global variable ‘seq3’
topMotif: no visible binding for global variable ‘seq4’
topMotif: no visible binding for global variable ‘seq5’
transcriptWindow: no visible binding for global variable ‘fractions’
transcriptWindow: no visible binding for global variable ‘feature’
windowCoveragePlot: no visible binding for global variable ‘feature’
windowCoveragePlot: no visible binding for global variable ‘fraction’
windowCoveragePlot: no visible binding for global variable
  ‘fraction_min’
windowCoveragePlot: no visible binding for global variable ‘position’
collapseDuplicatedReads,GAlignmentPairs: no visible global function
  definition for ‘.’
collapseDuplicatedReads,GAlignmentPairs: no visible binding for global
  variable ‘start1’
collapseDuplicatedReads,GAlignmentPairs: no visible binding for global
  variable ‘start2’
collapseDuplicatedReads,GAlignmentPairs: no visible binding for global
  variable ‘cigar1’
collapseDuplicatedReads,GAlignmentPairs: no visible binding for global
  variable ‘cigar2’
collapseDuplicatedReads,GAlignments: no visible global function
  definition for ‘.’
collapseDuplicatedReads,GRanges: no visible binding for global variable
  ‘size’
collapseDuplicatedReads,GRanges: no visible global function definition
  for ‘.’
collapseDuplicatedReads,data.table: no visible global function
  definition for ‘.’
collapseDuplicatedReads,data.table: no visible binding for global
  variable ‘size’
design,experiment: no visible binding for global variable ‘..formula’
seqlevels,experiment: no visible binding for global variable ‘df’
show,covRleList: no visible global function definition for ‘head’
Undefined global functions or variables:
  . ..formula ..to_keep AA CDS CDSGrouping Cor Hx IR LEADERS LFC LFC_TE
  LIBRARYTYPE LibraryStrategy N N_AA_of_type_per_gene N_total
  ORFGrouping ORFScores PC1 PC2 RRS RSS Regulation STAR_index
  StartCodons StopCodons TE_log2 TOP Transcript Var1 Var2 amplitude
  as_prob_normalized best_frame browseURL chr cigar1 cigar2 codon
  codonSums codon_sum count countRFP count_seq_pos_with_count
  counts_per_sample df dif difPer disengagementScores dispersion
  dispersion_txNorm distORFCDS ensembl_gene_id ensembl_transcript_id
  entropyRFP exon_rank external_gene_name feature forward fpkmRFP
  fpkmRNA frac.score fraction fraction.x fraction.y fractionLengths
  fraction_min fractions frame frame_one_RP frame_two_RP gene_id
  gene_sum grnames group_name head inFrameCDS ioScore isOverlappingCds
  kozak leaders mRNA meanCounts mean_IR mean_per_gene mean_percentage
  mean_txNorm mean_txNorm_percentage mean_txNorm_prob median_per_gene
  median_score merged pShifted perc_of_counts_per_sample percent
  percent_length percentage percentage_mrna_aligned
  percentage_tx_aligned periods phix.url pick position random rankInTx
  ranks ratio_cds_leader ratio_cds_mrna read length
  relative_to_max_score rfp rfp_log2 rna rna_log10 rna_log2 rowMin
  rowSums2 run_accession sample_id sample_total scalingFactor
  sd_per_gene seq1 seq2 seq3 seq4 seq5 seqs size spec spots start1
  start2 startCodonCoverage startRegionRelative subtitle sum.count
  sum_per_gene sum_txNorm te trailers uniprotswissprot
  upstream_kozak_strength utr3_len utr5_len value var_txNorm variable
  widths windowMean windowSD zscore
Consider adding
  importFrom("base", "length")
  importFrom("graphics", "frame")
  importFrom("stats", "df")
  importFrom("utils", "browseURL", "head")
to your NAMESPACE file.
* checking Rd files ... OK
* checking Rd metadata ... OK
* checking Rd cross-references ... OK
* checking for missing documentation entries ... OK
* checking for code/documentation mismatches ... OK
* checking Rd \usage sections ... OK
* checking Rd contents ... OK
* checking for unstated dependencies in examples ... OK
* checking line endings in C/C++/Fortran sources/headers ... OK
* checking line endings in Makefiles ... OK
* checking compilation flags in Makevars ... OK
* checking for GNU extensions in Makefiles ... OK
* checking for portable use of $(BLAS_LIBS) and $(LAPACK_LIBS) ... OK
* checking use of PKG_*FLAGS in Makefiles ... OK
* checking compiled code ... NOTE
Note: information on .o files is not available
* checking files in ‘vignettes’ ... OK
* checking examples ... OK
Examples with CPU (user + system) or elapsed time > 5s
                   user system elapsed
codon_usage_exp  19.869  0.848  34.772
findUORFs_exp     9.859  0.040  10.124
computeFeatures   8.745  0.090  12.124
codon_usage_plot  6.472  0.464  10.404
codon_usage       5.074  0.057   6.603
extendLeaders     2.979  0.030   5.595
* checking for unstated dependencies in ‘tests’ ... OK
* checking tests ...
  Running ‘testthat.R’
 OK
* checking for unstated dependencies in vignettes ... OK
* checking package vignettes in ‘inst/doc’ ... OK
* checking running R code from vignettes ...
  ‘Annotation_Alignment.Rmd’ using ‘UTF-8’... OK
  ‘Importing_Data.Rmd’ using ‘UTF-8’... OK
  ‘ORFikExperiment.Rmd’ using ‘UTF-8’... OK
  ‘ORFikOverview.Rmd’ using ‘UTF-8’... OK
  ‘Ribo-seq_pipeline.Rmd’ using ‘UTF-8’... OK
  ‘Working_with_transcripts.Rmd’ using ‘UTF-8’... OK
 NONE
* checking re-building of vignette outputs ... OK
* checking PDF version of manual ... OK
* DONE
Status: 5 NOTEs
See
  ‘/home/biocbuild/bbs-3.17-bioc/meat/ORFik.Rcheck/00check.log’
for details.
ORFik.Rcheck/00install.out
##############################################################################
##############################################################################
###
### Running command:
###
###   /home/biocbuild/bbs-3.17-bioc/R/bin/R CMD INSTALL ORFik
###
##############################################################################
##############################################################################
* installing to library ‘/home/biocbuild/bbs-3.17-bioc/R/site-library’
* installing *source* package ‘ORFik’ ...
** using staged installation
** libs
using C++ compiler: ‘g++ (Ubuntu 11.4.0-1ubuntu1~22.04) 11.4.0’
using C++11
g++ -std=gnu++11 -I"/home/biocbuild/bbs-3.17-bioc/R/include" -DNDEBUG  -I'/home/biocbuild/bbs-3.17-bioc/R/site-library/Rcpp/include' -I/usr/local/include    -fpic  -g -O2  -Wall -c RcppExports.cpp -o RcppExports.o
g++ -std=gnu++11 -I"/home/biocbuild/bbs-3.17-bioc/R/include" -DNDEBUG  -I'/home/biocbuild/bbs-3.17-bioc/R/site-library/Rcpp/include' -I/usr/local/include    -fpic  -g -O2  -Wall -c findORFsHelpers.cpp -o findORFsHelpers.o
findORFsHelpers.cpp: In function ‘Rcpp::IntegerMatrix orfs_as_matrix(std::string&, std::string, std::string, int)’:
findORFsHelpers.cpp:214:21: warning: comparison of integer expressions of different signedness: ‘int’ and ‘size_t’ {aka ‘long unsigned int’} [-Wsign-compare]
  214 |   for (int i = 0; i < uorfSize/2; i++) {
      |                   ~~^~~~~~~~~~~~
g++ -std=gnu++11 -I"/home/biocbuild/bbs-3.17-bioc/R/include" -DNDEBUG  -I'/home/biocbuild/bbs-3.17-bioc/R/site-library/Rcpp/include' -I/usr/local/include    -fpic  -g -O2  -Wall -c findOrfs.cpp -o findOrfs.o
g++ -std=gnu++11 -I"/home/biocbuild/bbs-3.17-bioc/R/include" -DNDEBUG  -I'/home/biocbuild/bbs-3.17-bioc/R/site-library/Rcpp/include' -I/usr/local/include    -fpic  -g -O2  -Wall -c findOrfsFasta.cpp -o findOrfsFasta.o
g++ -std=gnu++11 -I"/home/biocbuild/bbs-3.17-bioc/R/include" -DNDEBUG  -I'/home/biocbuild/bbs-3.17-bioc/R/site-library/Rcpp/include' -I/usr/local/include    -fpic  -g -O2  -Wall -c pmapFromTranscripts.cpp -o pmapFromTranscripts.o
pmapFromTranscripts.cpp: In function ‘Rcpp::List pmapFromTranscriptsCPP(const std::vector<int>&, const std::vector<int>&, const std::vector<int>&, const std::vector<int>&, const std::vector<int>&, const char&, bool)’:
pmapFromTranscripts.cpp:151:20: warning: comparison of integer expressions of different signedness: ‘int’ and ‘size_t’ {aka ‘long unsigned int’} [-Wsign-compare]
  151 |   for(auto i = 0;i < xSize; i++){
      |                  ~~^~~~~~~
pmapFromTranscripts.cpp:155:21: warning: comparison of integer expressions of different signedness: ‘int’ and ‘size_t’ {aka ‘long unsigned int’} [-Wsign-compare]
  155 |   for(auto i = 0; i < indexSize; i++){
      |                   ~~^~~~~~~~~~~
pmapFromTranscripts.cpp:161:21: warning: comparison of integer expressions of different signedness: ‘int’ and ‘size_t’ {aka ‘long unsigned int’} [-Wsign-compare]
  161 |   for(auto i = 1; i < indexSize; i++){
      |                   ~~^~~~~~~~~~~
g++ -std=gnu++11 -I"/home/biocbuild/bbs-3.17-bioc/R/include" -DNDEBUG  -I'/home/biocbuild/bbs-3.17-bioc/R/site-library/Rcpp/include' -I/usr/local/include    -fpic  -g -O2  -Wall -c pmapToTranscripts.cpp -o pmapToTranscripts.o
pmapToTranscripts.cpp: In function ‘void pmapToPositive(vi&, const int&, int&, const vi&, const vi&, const vi&, const vi&, const vi&, const vi&, const vi&, const vi&)’:
pmapToTranscripts.cpp:22:7: warning: variable ‘currentWidth’ set but not used [-Wunused-but-set-variable]
   22 |   int currentWidth = 0;
      |       ^~~~~~~~~~~~
pmapToTranscripts.cpp: In function ‘void pmapToNegative(vi&, const int&, int&, const vi&, const vi&, const vi&, const vi&, const vi&, const vi&, const vi&, const vi&)’:
pmapToTranscripts.cpp:68:7: warning: variable ‘currentWidth’ set but not used [-Wunused-but-set-variable]
   68 |   int currentWidth = 0;
      |       ^~~~~~~~~~~~
pmapToTranscripts.cpp: In function ‘Rcpp::List pmapToTranscriptsCPP(const std::vector<int>&, const std::vector<int>&, const std::vector<int>&, const std::vector<int>&, const std::vector<int>&, const char&, const std::vector<int>&)’:
pmapToTranscripts.cpp:126:20: warning: comparison of integer expressions of different signedness: ‘int’ and ‘size_t’ {aka ‘long unsigned int’} [-Wsign-compare]
  126 |   for(auto i = 0;i < xSize; i++){ // Width per exon in x
      |                  ~~^~~~~~~
pmapToTranscripts.cpp:130:21: warning: comparison of integer expressions of different signedness: ‘int’ and ‘size_t’ {aka ‘long unsigned int’} [-Wsign-compare]
  130 |   for(auto i = 0; i < indexSize; i++){ // Width per exon in tx
      |                   ~~^~~~~~~~~~~
pmapToTranscripts.cpp:136:21: warning: comparison of integer expressions of different signedness: ‘int’ and ‘size_t’ {aka ‘long unsigned int’} [-Wsign-compare]
  136 |   for(auto i = 1; i < indexSize; i++){
      |                   ~~^~~~~~~~~~~
pmapToTranscripts.cpp:147:22: warning: comparison of integer expressions of different signedness: ‘int’ and ‘size_t’ {aka ‘long unsigned int’} [-Wsign-compare]
  147 |   for (auto i = 1; i < 2 * xSize; i = i + 2) {
      |                    ~~^~~~~~~~~~~
g++ -std=gnu++11 -shared -L/home/biocbuild/bbs-3.17-bioc/R/lib -L/usr/local/lib -o ORFik.so RcppExports.o findORFsHelpers.o findOrfs.o findOrfsFasta.o pmapFromTranscripts.o pmapToTranscripts.o -L/home/biocbuild/bbs-3.17-bioc/R/lib -lR
installing to /home/biocbuild/bbs-3.17-bioc/R/site-library/00LOCK-ORFik/00new/ORFik/libs
** R
** inst
** byte-compile and prepare package for lazy loading
Creating a new generic function for ‘symbols’ in package ‘ORFik’
** help
*** installing help indices
** building package indices
** installing vignettes
** testing if installed package can be loaded from temporary location
** checking absolute paths in shared objects and dynamic libraries
** testing if installed package can be loaded from final location
** testing if installed package keeps a record of temporary installation path
* DONE (ORFik)
ORFik.Rcheck/tests/testthat.Rout
R version 4.3.1 (2023-06-16) -- "Beagle Scouts"
Copyright (C) 2023 The R Foundation for Statistical Computing
Platform: x86_64-pc-linux-gnu (64-bit)
R is free software and comes with ABSOLUTELY NO WARRANTY.
You are welcome to redistribute it under certain conditions.
Type 'license()' or 'licence()' for distribution details.
R is a collaborative project with many contributors.
Type 'contributors()' for more information and
'citation()' on how to cite R or R packages in publications.
Type 'demo()' for some demos, 'help()' for on-line help, or
'help.start()' for an HTML browser interface to help.
Type 'q()' to quit R.
> library(testthat)
> library(ORFik)
Loading required package: IRanges
Loading required package: BiocGenerics
Attaching package: 'BiocGenerics'
The following objects are masked from 'package:stats':
    IQR, mad, sd, var, xtabs
The following objects are masked from 'package:base':
    Filter, Find, Map, Position, Reduce, anyDuplicated, aperm, append,
    as.data.frame, basename, cbind, colnames, dirname, do.call,
    duplicated, eval, evalq, get, grep, grepl, intersect, is.unsorted,
    lapply, mapply, match, mget, order, paste, pmax, pmax.int, pmin,
    pmin.int, rank, rbind, rownames, sapply, setdiff, sort, table,
    tapply, union, unique, unsplit, which.max, which.min
Loading required package: S4Vectors
Loading required package: stats4
Attaching package: 'S4Vectors'
The following object is masked from 'package:utils':
    findMatches
The following objects are masked from 'package:base':
    I, expand.grid, unname
Loading required package: GenomicRanges
Loading required package: GenomeInfoDb
Loading required package: GenomicAlignments
Loading required package: SummarizedExperiment
Loading required package: MatrixGenerics
Loading required package: matrixStats
Attaching package: 'MatrixGenerics'
The following objects are masked from 'package:matrixStats':
    colAlls, colAnyNAs, colAnys, colAvgsPerRowSet, colCollapse,
    colCounts, colCummaxs, colCummins, colCumprods, colCumsums,
    colDiffs, colIQRDiffs, colIQRs, colLogSumExps, colMadDiffs,
    colMads, colMaxs, colMeans2, colMedians, colMins, colOrderStats,
    colProds, colQuantiles, colRanges, colRanks, colSdDiffs, colSds,
    colSums2, colTabulates, colVarDiffs, colVars, colWeightedMads,
    colWeightedMeans, colWeightedMedians, colWeightedSds,
    colWeightedVars, rowAlls, rowAnyNAs, rowAnys, rowAvgsPerColSet,
    rowCollapse, rowCounts, rowCummaxs, rowCummins, rowCumprods,
    rowCumsums, rowDiffs, rowIQRDiffs, rowIQRs, rowLogSumExps,
    rowMadDiffs, rowMads, rowMaxs, rowMeans2, rowMedians, rowMins,
    rowOrderStats, rowProds, rowQuantiles, rowRanges, rowRanks,
    rowSdDiffs, rowSds, rowSums2, rowTabulates, rowVarDiffs, rowVars,
    rowWeightedMads, rowWeightedMeans, rowWeightedMedians,
    rowWeightedSds, rowWeightedVars
Loading required package: Biobase
Welcome to Bioconductor
    Vignettes contain introductory material; view with
    'browseVignettes()'. To cite Bioconductor, see
    'citation("Biobase")', and for packages 'citation("pkgname")'.
Attaching package: 'Biobase'
The following object is masked from 'package:MatrixGenerics':
    rowMedians
The following objects are masked from 'package:matrixStats':
    anyMissing, rowMedians
Loading required package: Biostrings
Loading required package: XVector
Attaching package: 'Biostrings'
The following object is masked from 'package:base':
    strsplit
Loading required package: Rsamtools
Attaching package: 'ORFik'
The following object is masked from 'package:graphics':
    symbols
> 
> test_check("ORFik")
Regulation
No change 
        6 
     widths       group.size  
 Min.   : 6.0   Min.   :2.00  
 1st Qu.: 7.5   1st Qu.:2.25  
 Median : 9.0   Median :2.50  
 Mean   : 9.0   Mean   :2.50  
 3rd Qu.:10.5   3rd Qu.:2.75  
 Max.   :12.0   Max.   :3.00  
Error in x$.self$finalize() : attempt to apply non-function
[1] "CAGE_Mutant_r1"
[1] "CAGE_Mutant_r2"
[1] "CAGE_WT_r1"
[1] "CAGE_WT_r2"
[1] "PAS_Mutant_r1"
[1] "PAS_Mutant_r2"
[1] "PAS_WT_r1"
[1] "PAS_WT_r2"
[1] "RFP_Mutant_r1"
[1] "RFP_Mutant_r2"
[1] "RFP_WT_r1"
[1] "RFP_WT_r2"
[1] "RNA_Mutant_r1"
[1] "RNA_Mutant_r2"
[1] "RNA_WT_r1"
[1] "RNA_WT_r2"
[1] "RFP"
[1] "RFP"
[1] "RFP"
[1] "RFP"
[ FAIL 0 | WARN 0 | SKIP 0 | PASS 411 ]
Warning message:
call dbDisconnect() when finished working with a connection 
> 
> proc.time()
   user  system elapsed 
156.136  10.850 199.622 
ORFik.Rcheck/ORFik-Ex.timings
| name | user | system | elapsed | |
| DEG.analysis | 0.993 | 0.139 | 1.424 | |
| DEG.plot.static | 0.906 | 0.034 | 0.974 | |
| DEG_model | 0.933 | 0.000 | 1.127 | |
| DEG_model_results | 0.986 | 0.000 | 3.223 | |
| DTEG.analysis | 0.851 | 0.000 | 0.852 | |
| DTEG.plot | 0.825 | 0.003 | 0.829 | |
| ORFik.template.experiment | 0.966 | 0.033 | 1.597 | |
| ORFik.template.experiment.zf | 0.156 | 0.004 | 0.562 | |
| ORFikQC | 0.835 | 0.002 | 0.953 | |
| QCreport | 0.769 | 0.031 | 1.318 | |
| QCstats | 0.930 | 0.028 | 2.350 | |
| QCstats.plot | 0.941 | 0.008 | 2.950 | |
| RiboQC.plot | 1.061 | 0.068 | 2.858 | |
| STAR.align.folder | 0.001 | 0.000 | 0.001 | |
| STAR.align.single | 0 | 0 | 0 | |
| STAR.index | 0 | 0 | 0 | |
| STAR.install | 0.000 | 0.001 | 0.036 | |
| STAR.remove.crashed.genome | 0.000 | 0.001 | 0.000 | |
| TOP.Motif.ecdf | 0.000 | 0.001 | 0.001 | |
| artificial.orfs | 1.019 | 0.062 | 1.833 | |
| asTX | 1.755 | 0.052 | 2.020 | |
| assignTSSByCage | 0.005 | 0.000 | 0.004 | |
| bamVarName | 0.982 | 0.007 | 0.989 | |
| browseSRA | 0.001 | 0.000 | 0.002 | |
| codon_usage | 5.074 | 0.057 | 6.603 | |
| codon_usage_exp | 19.869 | 0.848 | 34.772 | |
| codon_usage_plot | 6.472 | 0.464 | 10.404 | |
| collapse.by.scores | 0.174 | 0.012 | 0.174 | |
| collapse.fastq | 0.000 | 0.000 | 0.001 | |
| collapseDuplicatedReads-GAlignmentPairs-method | 0.108 | 0.000 | 0.108 | |
| collapseDuplicatedReads-GAlignments-method | 0.041 | 0.000 | 0.041 | |
| collapseDuplicatedReads-GRanges-method | 0.045 | 0.000 | 0.045 | |
| collapseDuplicatedReads-data.table-method | 0.044 | 0.000 | 0.045 | |
| collapseDuplicatedReads | 0.047 | 0.000 | 0.047 | |
| combn.pairs | 0.736 | 0.008 | 0.745 | |
| computeFeatures | 8.745 | 0.090 | 12.124 | |
| computeFeaturesCage | 0.001 | 0.001 | 0.000 | |
| config | 0.001 | 0.000 | 0.001 | |
| config.exper | 0.000 | 0.000 | 0.001 | |
| config.save | 0.000 | 0.000 | 0.001 | |
| convertLibs | 0.690 | 0.000 | 0.694 | |
| convertToOneBasedRanges | 0.249 | 0.004 | 0.413 | |
| convert_bam_to_ofst | 0.495 | 0.039 | 1.067 | |
| convert_to_bigWig | 1.554 | 0.079 | 1.733 | |
| convert_to_covRle | 0.853 | 0.004 | 0.857 | |
| convert_to_covRleList | 1.710 | 0.001 | 1.710 | |
| countOverlapsW | 0.189 | 0.000 | 0.201 | |
| countTable | 0.874 | 0.000 | 0.877 | |
| countTable_regions | 0.959 | 0.004 | 0.963 | |
| covRle | 0.116 | 0.000 | 0.116 | |
| covRleFromGR | 0.179 | 0.007 | 0.187 | |
| covRleList | 0.039 | 0.000 | 0.039 | |
| coverageHeatMap | 2.010 | 0.006 | 3.047 | |
| coveragePerTiling | 1.611 | 0.000 | 3.660 | |
| coverageScorings | 0.057 | 0.000 | 0.093 | |
| create.experiment | 0.887 | 0.000 | 1.798 | |
| defineTrailer | 0.339 | 0.000 | 0.731 | |
| design-experiment-method | 0.935 | 0.004 | 1.904 | |
| detectRibosomeShifts | 0.006 | 0.000 | 0.005 | |
| disengagementScore | 0.993 | 0.004 | 2.262 | |
| distToCds | 0.443 | 0.000 | 0.792 | |
| distToTSS | 0.431 | 0.000 | 1.111 | |
| download.SRA | 0 | 0 | 0 | |
| download.SRA.metadata | 0.846 | 0.017 | 2.684 | |
| entropy | 1.893 | 0.077 | 4.375 | |
| experiment-class | 1.021 | 0.139 | 1.600 | |
| export.bed12 | 0.042 | 0.008 | 0.051 | |
| export.bigWig | 0.073 | 0.008 | 0.082 | |
| export.fstwig | 0.139 | 0.004 | 0.143 | |
| export.ofst-GAlignmentPairs-method | 0.173 | 0.004 | 0.240 | |
| export.ofst-GAlignments-method | 0.157 | 0.000 | 0.189 | |
| export.ofst-GRanges-method | 0.170 | 0.000 | 0.265 | |
| export.ofst | 0.181 | 0.000 | 0.351 | |
| export.wiggle | 0.107 | 0.018 | 0.148 | |
| extendLeaders | 2.979 | 0.030 | 5.595 | |
| extendTrailers | 1.926 | 0.020 | 1.987 | |
| extract_run_id | 0.001 | 0.000 | 0.002 | |
| filepath | 1.009 | 0.004 | 1.694 | |
| filterTranscripts | 2.299 | 0.008 | 2.358 | |
| fimport | 0.513 | 0.024 | 0.540 | |
| findFa | 0.004 | 0.000 | 0.004 | |
| findMapORFs | 0.861 | 0.092 | 1.012 | |
| findORFs | 0.476 | 0.020 | 0.564 | |
| findORFsFasta | 0.215 | 0.012 | 0.268 | |
| findPeaksPerGene | 2.020 | 0.060 | 2.183 | |
| findUORFs | 0.002 | 0.000 | 0.002 | |
| findUORFs_exp | 9.859 | 0.040 | 10.124 | |
| find_url_ebi | 0.312 | 0.016 | 2.661 | |
| firstEndPerGroup | 0.159 | 0.000 | 0.328 | |
| firstExonPerGroup | 0.135 | 0.003 | 0.286 | |
| firstStartPerGroup | 0.091 | 0.000 | 0.237 | |
| fix_malformed_gff | 0.000 | 0.000 | 0.001 | |
| flankPerGroup | 0.163 | 0.000 | 0.356 | |
| floss | 0.717 | 0.072 | 1.086 | |
| fpkm | 0.246 | 0.016 | 0.467 | |
| fractionLength | 0.132 | 0.032 | 0.213 | |
| fread.bed | 0.081 | 0.012 | 0.176 | |
| gcContent | 0.720 | 0.068 | 0.788 | |
| geneToSymbol | 0.000 | 0.001 | 0.001 | |
| getGenomeAndAnnotation | 0.000 | 0.000 | 0.001 | |
| get_bioproject_candidates | 0.001 | 0.000 | 0.000 | |
| get_genome_fasta | 0.000 | 0.000 | 0.001 | |
| get_genome_gtf | 0.000 | 0.001 | 0.001 | |
| get_noncoding_rna | 0.000 | 0.000 | 0.001 | |
| get_phix_genome | 0.000 | 0.001 | 0.000 | |
| get_silva_rRNA | 0.000 | 0.000 | 0.001 | |
| groupGRangesBy | 0.105 | 0.013 | 0.117 | |
| groupings | 0.076 | 0.000 | 0.076 | |
| heatMapRegion | 0.794 | 0.023 | 0.976 | |
| import.ofst | 0.114 | 0.000 | 0.115 | |
| initiationScore | 1.855 | 0.008 | 1.865 | |
| insideOutsideORF | 1.321 | 0.004 | 1.322 | |
| install.fastp | 0.001 | 0.000 | 0.001 | |
| install.sratoolkit | 0.001 | 0.000 | 0.000 | |
| isInFrame | 0.373 | 0.004 | 0.377 | |
| isOverlapping | 0.391 | 0.004 | 0.395 | |
| kozakHeatmap | 0.001 | 0.000 | 0.000 | |
| kozakSequenceScore | 1.013 | 0.004 | 1.018 | |
| lastExonEndPerGroup | 0.106 | 0.000 | 0.106 | |
| lastExonPerGroup | 0.126 | 0.000 | 0.126 | |
| lastExonStartPerGroup | 0.109 | 0.000 | 0.109 | |
| libraryTypes | 0.722 | 0.000 | 0.723 | |
| list.experiments | 0.533 | 0.000 | 0.535 | |
| list.genomes | 0.000 | 0.002 | 0.002 | |
| loadRegion | 2.779 | 0.030 | 2.812 | |
| loadRegions | 1.232 | 0.008 | 1.240 | |
| loadTranscriptType | 0 | 0 | 0 | |
| loadTxdb | 0.125 | 0.000 | 0.125 | |
| longestORFs | 0.124 | 0.000 | 0.124 | |
| makeORFNames | 0.076 | 0.004 | 0.081 | |
| makeSummarizedExperimentFromBam | 0.442 | 0.000 | 0.444 | |
| makeTxdbFromGenome | 0.000 | 0.000 | 0.001 | |
| mergeFastq | 0.001 | 0.000 | 0.001 | |
| mergeLibs | 0.385 | 0.000 | 0.386 | |
| metaWindow | 0.181 | 0.004 | 0.186 | |
| model.matrix-experiment-method | 0.457 | 0.000 | 0.456 | |
| numExonsPerGroup | 0.032 | 0.004 | 0.037 | |
| optimizedTranscriptLengths | 2.391 | 0.271 | 2.753 | |
| orfFrameDistributions | 1.288 | 0.271 | 2.282 | |
| orfScore | 2.013 | 0.440 | 1.535 | |
| organism-experiment-method | 0.522 | 0.007 | 0.750 | |
| outputLibs | 1.586 | 0.573 | 1.682 | |
| pSitePlot | 0.655 | 0.047 | 0.703 | |
| pcaExperiment | 2.225 | 0.060 | 2.286 | |
| pmapFromTranscriptF | 0.208 | 0.000 | 0.209 | |
| pmapToTranscriptF | 2.168 | 0.016 | 2.270 | |
| rankOrder | 0.193 | 0.000 | 0.193 | |
| read.experiment | 0.967 | 0.000 | 0.967 | |
| readBam | 0.367 | 0.012 | 0.379 | |
| readWidths | 0.033 | 0.000 | 0.033 | |
| reassignTSSbyCage | 1.525 | 0.012 | 1.537 | |
| reassignTxDbByCage | 0 | 0 | 0 | |
| reduceKeepAttr | 0.354 | 0.000 | 0.355 | |
| regionPerReadLength | 0.746 | 0.379 | 1.483 | |
| remove.experiments | 1.263 | 0.276 | 0.997 | |
| ribo_fft | 4.572 | 0.402 | 4.969 | |
| ribo_fft_plot | 2.515 | 0.017 | 2.524 | |
| ribosomeReleaseScore | 0.176 | 0.000 | 0.175 | |
| ribosomeStallingScore | 0.267 | 0.000 | 0.266 | |
| save.experiment | 0.351 | 0.004 | 0.354 | |
| scaledWindowPositions | 0.268 | 0.008 | 0.276 | |
| seqnamesPerGroup | 0.066 | 0.004 | 0.066 | |
| shiftFootprints | 0.002 | 0.000 | 0.002 | |
| shiftFootprintsByExperiment | 0.953 | 0.028 | 3.805 | |
| shiftPlots | 2.653 | 0.272 | 0.053 | |
| shifts.load | 0.380 | 0.027 | 0.407 | |
| simpleLibs | 0.396 | 0.013 | 0.408 | |
| sortPerGroup | 0.210 | 0.008 | 0.217 | |
| startCodons | 0.423 | 0.008 | 0.431 | |
| startDefinition | 0.000 | 0.001 | 0.001 | |
| startRegion | 0.490 | 0.003 | 0.493 | |
| startRegionCoverage | 0.348 | 0.000 | 0.348 | |
| startSites | 0.240 | 0.008 | 0.248 | |
| stopCodons | 0.416 | 0.000 | 0.416 | |
| stopDefinition | 0.001 | 0.000 | 0.000 | |
| stopRegion | 0.784 | 0.004 | 0.893 | |
| stopSites | 0.476 | 0.003 | 0.480 | |
| strandBool | 0.009 | 0.000 | 0.009 | |
| strandPerGroup | 0.189 | 0.004 | 0.193 | |
| subsetToFrame | 0.035 | 0.000 | 0.035 | |
| te.plot | 0 | 0 | 0 | |
| te.table | 0.910 | 0.004 | 1.687 | |
| te_rna.plot | 0.754 | 0.004 | 1.546 | |
| tile1 | 0.440 | 0.004 | 0.604 | |
| topMotif | 0 | 0 | 0 | |
| transcriptWindow | 2.249 | 0.053 | 3.911 | |
| translationalEff | 0.252 | 0.000 | 0.253 | |
| trimming.table | 0 | 0 | 0 | |
| txNames | 0.067 | 0.004 | 0.071 | |
| txNamesToGeneNames | 1.870 | 0.099 | 3.799 | |
| uORFSearchSpace | 1.272 | 0.044 | 2.687 | |
| uniqueGroups | 0.344 | 0.008 | 0.756 | |
| uniqueOrder | 0.472 | 0.000 | 1.000 | |
| unlistGrl | 0.099 | 0.000 | 0.278 | |
| widthPerGroup | 0.093 | 0.002 | 0.264 | |
| windowCoveragePlot | 1.465 | 0.012 | 2.775 | |
| windowPerGroup | 0.979 | 0.008 | 1.947 | |
| windowPerReadLength | 2.124 | 0.016 | 3.005 | |