| Back to Multiple platform build/check report for BioC 3.17: simplified long | 
  | 
This page was generated on 2023-10-16 11:37:14 -0400 (Mon, 16 Oct 2023).
| Hostname | OS | Arch (*) | R version | Installed pkgs | 
|---|---|---|---|---|
| nebbiolo1 | Linux (Ubuntu 22.04.2 LTS) | x86_64 | 4.3.1 (2023-06-16) -- "Beagle Scouts" | 4626 | 
| palomino3 | Windows Server 2022 Datacenter | x64 | 4.3.1 (2023-06-16 ucrt) -- "Beagle Scouts" | 4379 | 
| merida1 | macOS 12.6.4 Monterey | x86_64 | 4.3.1 (2023-06-16) -- "Beagle Scouts" | 4395 | 
| Click on any hostname to see more info about the system (e.g. compilers) (*) as reported by 'uname -p', except on Windows and Mac OS X | ||||
| Package 1224/2230 | Hostname | OS / Arch | INSTALL | BUILD | CHECK | BUILD BIN | ||||||||
| MicrobiotaProcess 1.12.4  (landing page) Shuangbin Xu 
  | nebbiolo1 | Linux (Ubuntu 22.04.2 LTS) / x86_64 | OK | OK | OK | |||||||||
| palomino3 | Windows Server 2022 Datacenter / x64 | OK | OK | OK | OK | |||||||||
| merida1 | macOS 12.6.4 Monterey / x86_64 | OK | OK | OK | OK | |||||||||
| kjohnson2 | macOS 12.6.1 Monterey / arm64 | see weekly results here | ||||||||||||
| 
To the developers/maintainers of the MicrobiotaProcess package: - Allow up to 24 hours (and sometimes 48 hours) for your latest push to git@git.bioconductor.org:packages/MicrobiotaProcess.git to reflect on this report. See Troubleshooting Build Report for more information. - Use the following Renviron settings to reproduce errors and warnings. - If 'R CMD check' started to fail recently on the Linux builder(s) over a missing dependency, add the missing dependency to 'Suggests:' in your DESCRIPTION file. See Renviron.bioc for more information.  | 
| Package: MicrobiotaProcess | 
| Version: 1.12.4 | 
| Command: /Library/Frameworks/R.framework/Resources/bin/R CMD check --install=check:MicrobiotaProcess.install-out.txt --library=/Library/Frameworks/R.framework/Resources/library --no-vignettes --timings MicrobiotaProcess_1.12.4.tar.gz | 
| StartedAt: 2023-10-16 03:53:28 -0400 (Mon, 16 Oct 2023) | 
| EndedAt: 2023-10-16 04:07:36 -0400 (Mon, 16 Oct 2023) | 
| EllapsedTime: 847.0 seconds | 
| RetCode: 0 | 
| Status: OK | 
| CheckDir: MicrobiotaProcess.Rcheck | 
| Warnings: 0 | 
##############################################################################
##############################################################################
###
### Running command:
###
###   /Library/Frameworks/R.framework/Resources/bin/R CMD check --install=check:MicrobiotaProcess.install-out.txt --library=/Library/Frameworks/R.framework/Resources/library --no-vignettes --timings MicrobiotaProcess_1.12.4.tar.gz
###
##############################################################################
##############################################################################
* using log directory ‘/Users/biocbuild/bbs-3.17-bioc/meat/MicrobiotaProcess.Rcheck’
* using R version 4.3.1 (2023-06-16)
* using platform: x86_64-apple-darwin20 (64-bit)
* R was compiled by
    Apple clang version 14.0.3 (clang-1403.0.22.14.1)
    GNU Fortran (GCC) 12.2.0
* running under: macOS Monterey 12.6.4
* using session charset: UTF-8
* using option ‘--no-vignettes’
* checking for file ‘MicrobiotaProcess/DESCRIPTION’ ... OK
* checking extension type ... Package
* this is package ‘MicrobiotaProcess’ version ‘1.12.4’
* package encoding: UTF-8
* checking package namespace information ... OK
* checking package dependencies ... OK
* checking if this is a source package ... OK
* checking if there is a namespace ... OK
* checking for hidden files and directories ... OK
* checking for portable file names ... OK
* checking for sufficient/correct file permissions ... OK
* checking whether package ‘MicrobiotaProcess’ can be installed ... OK
* checking installed package size ... NOTE
  installed size is  5.8Mb
  sub-directories of 1Mb or more:
    R         2.6Mb
    figures   1.9Mb
* checking package directory ... OK
* checking ‘build’ directory ... OK
* checking DESCRIPTION meta-information ... OK
* checking top-level files ... OK
* checking for left-over files ... OK
* checking index information ... OK
* checking package subdirectories ... OK
* checking R files for non-ASCII characters ... OK
* checking R files for syntax errors ... OK
* checking whether the package can be loaded ... OK
* checking whether the package can be loaded with stated dependencies ... OK
* checking whether the package can be unloaded cleanly ... OK
* checking whether the namespace can be loaded with stated dependencies ... OK
* checking whether the namespace can be unloaded cleanly ... OK
* checking startup messages can be suppressed ... OK
* checking dependencies in R code ... OK
* checking S3 generic/method consistency ... OK
* checking replacement functions ... OK
* checking foreign function calls ... OK
* checking R code for possible problems ... OK
* checking Rd files ... OK
* checking Rd metadata ... OK
* checking Rd cross-references ... OK
* checking for missing documentation entries ... OK
* checking for code/documentation mismatches ... OK
* checking Rd \usage sections ... OK
* checking Rd contents ... OK
* checking for unstated dependencies in examples ... OK
* checking contents of ‘data’ directory ... OK
* checking data for non-ASCII characters ... OK
* checking data for ASCII and uncompressed saves ... OK
* checking files in ‘vignettes’ ... OK
* checking examples ... OK
Examples with CPU (user + system) or elapsed time > 5s
                                 user system elapsed
mp_cal_abundance-methods       19.151  0.198  25.765
mp_cal_rarecurve-methods       13.797  0.166  18.170
mp_plot_diff_boxplot-methods   12.708  0.136  16.296
mp_diff_analysis-methods       11.825  0.116  15.219
ImportQiime2                    8.955  0.217  12.308
mp_import_metaphlan             8.282  0.058  10.842
mp_plot_diff_manhattan-methods  7.010  0.114   9.316
mp_envfit-methods               4.754  0.105   6.198
mp_cal_dist-methods             4.482  0.058   6.622
ImportDada2                     3.480  0.203   5.002
* checking for unstated dependencies in ‘tests’ ... OK
* checking tests ...
  Running ‘testthat.R’
 OK
* checking for unstated dependencies in vignettes ... OK
* checking package vignettes in ‘inst/doc’ ... OK
* checking running R code from vignettes ... SKIPPED
* checking re-building of vignette outputs ... SKIPPED
* checking PDF version of manual ... OK
* DONE
Status: 1 NOTE
See
  ‘/Users/biocbuild/bbs-3.17-bioc/meat/MicrobiotaProcess.Rcheck/00check.log’
for details.
MicrobiotaProcess.Rcheck/00install.out
############################################################################## ############################################################################## ### ### Running command: ### ### /Library/Frameworks/R.framework/Resources/bin/R CMD INSTALL MicrobiotaProcess ### ############################################################################## ############################################################################## * installing to library ‘/Library/Frameworks/R.framework/Versions/4.3-x86_64/Resources/library’ * installing *source* package ‘MicrobiotaProcess’ ... ** using staged installation ** R ** data ** inst ** byte-compile and prepare package for lazy loading in method for ‘taxonomy<-’ with signature ‘x="MPSE",value="taxonomyTable"’: no definition for class “taxonomyTable” Creating a generic function for ‘rownames<-’ from package ‘base’ in package ‘MicrobiotaProcess’ in method for ‘get_alltaxadf’ with signature ‘"phyloseq"’: no definition for class “phyloseq” in method for ‘get_taxadf’ with signature ‘"phyloseq"’: no definition for class “phyloseq” in method for ‘get_alphaindex’ with signature ‘"phyloseq"’: no definition for class “phyloseq” in method for ‘get_NRI_NTI’ with signature ‘"phyloseq"’: no definition for class “phyloseq” in method for ‘get_rarecurve’ with signature ‘"phyloseq"’: no definition for class “phyloseq” in method for ‘get_upset’ with signature ‘"phyloseq"’: no definition for class “phyloseq” in method for ‘get_vennlist’ with signature ‘"phyloseq"’: no definition for class “phyloseq” in method for ‘drop_taxa’ with signature ‘"phyloseq"’: no definition for class “phyloseq” ** help *** installing help indices ** building package indices ** installing vignettes ** testing if installed package can be loaded from temporary location ** testing if installed package can be loaded from final location ** testing if installed package keeps a record of temporary installation path * DONE (MicrobiotaProcess)
MicrobiotaProcess.Rcheck/tests/testthat.Rout
R version 4.3.1 (2023-06-16) -- "Beagle Scouts"
Copyright (C) 2023 The R Foundation for Statistical Computing
Platform: x86_64-apple-darwin20 (64-bit)
R is free software and comes with ABSOLUTELY NO WARRANTY.
You are welcome to redistribute it under certain conditions.
Type 'license()' or 'licence()' for distribution details.
R is a collaborative project with many contributors.
Type 'contributors()' for more information and
'citation()' on how to cite R or R packages in publications.
Type 'demo()' for some demos, 'help()' for on-line help, or
'help.start()' for an HTML browser interface to help.
Type 'q()' to quit R.
> library("testthat")
> library("MicrobiotaProcess")
MicrobiotaProcess v1.12.4 For help:
https://github.com/YuLab-SMU/MicrobiotaProcess/issues
If you use MicrobiotaProcess in published research, please cite the
paper:
Shuangbin Xu, Li Zhan, Wenli Tang, Qianwen Wang, Zehan Dai, Lang Zhou,
Tingze Feng, Meijun Chen, Tianzhi Wu, Erqiang Hu, Guangchuang Yu.
MicrobiotaProcess: A comprehensive R package for deep mining
microbiome. The Innovation. 2023, 4(2):100388. doi:
10.1016/j.xinn.2023.100388
Export the citation to BibTex by citation('MicrobiotaProcess')
This message can be suppressed by:
suppressPackageStartupMessages(library(MicrobiotaProcess))
Attaching package: 'MicrobiotaProcess'
The following object is masked from 'package:stats':
    filter
> test_check("MicrobiotaProcess")
[ FAIL 0 | WARN 9 | SKIP 0 | PASS 13 ]
[ FAIL 0 | WARN 9 | SKIP 0 | PASS 13 ]
> 
> proc.time()
   user  system elapsed 
 27.024   1.212  36.537 
MicrobiotaProcess.Rcheck/MicrobiotaProcess-Ex.timings
| name | user | system | elapsed | |
| ImportDada2 | 3.480 | 0.203 | 5.002 | |
| ImportQiime2 | 8.955 | 0.217 | 12.308 | |
| MPSE | 0.222 | 0.007 | 0.311 | |
| as.treedata | 0.000 | 0.000 | 0.001 | |
| build_tree | 0.000 | 0.000 | 0.001 | |
| convert_to_treedata | 0.000 | 0.001 | 0.000 | |
| data-hmp_aerobiosis_small | 0.019 | 0.005 | 0.030 | |
| data-kostic2012crc | 0.045 | 0.008 | 0.073 | |
| data-test_otu_data | 0.003 | 0.003 | 0.006 | |
| diff_analysis | 0.000 | 0.001 | 0.001 | |
| dr_extract | 0.000 | 0.000 | 0.001 | |
| drop_taxa | 0.000 | 0.001 | 0.005 | |
| generalizedFC | 0.011 | 0.001 | 0.018 | |
| get_alltaxadf | 0.000 | 0.001 | 0.001 | |
| get_alphaindex | 0.000 | 0.001 | 0.001 | |
| get_clust | 0.000 | 0.001 | 0.001 | |
| get_coord | 0.000 | 0.001 | 0.000 | |
| get_count | 0.001 | 0.000 | 0.001 | |
| get_dist | 0.001 | 0.001 | 0.005 | |
| get_mean_median | 0.000 | 0.001 | 0.001 | |
| get_pca | 0.000 | 0.000 | 0.001 | |
| get_pcoa | 0.000 | 0.001 | 0.001 | |
| get_pvalue | 0.141 | 0.005 | 0.208 | |
| get_rarecurve | 0.000 | 0.000 | 0.001 | |
| get_sampledflist | 0 | 0 | 0 | |
| get_taxadf | 0.000 | 0.001 | 0.002 | |
| get_upset | 0.001 | 0.001 | 0.002 | |
| get_varct | 0 | 0 | 0 | |
| get_vennlist | 0.000 | 0.001 | 0.001 | |
| ggbartax | 0.000 | 0.001 | 0.003 | |
| ggbox | 0.000 | 0.001 | 0.001 | |
| ggclust | 0.000 | 0.001 | 0.001 | |
| ggdiffbox | 0.001 | 0.000 | 0.001 | |
| ggdiffclade | 0.000 | 0.001 | 0.002 | |
| ggdifftaxbar | 0.000 | 0.001 | 0.001 | |
| ggeffectsize | 0.001 | 0.000 | 0.001 | |
| ggordpoint | 0.001 | 0.000 | 0.000 | |
| ggrarecurve | 0.000 | 0.001 | 0.001 | |
| mp_adonis-methods | 0.224 | 0.007 | 0.320 | |
| mp_aggregate-methods | 0.000 | 0.001 | 0.000 | |
| mp_aggregate_clade-methods | 0.000 | 0.001 | 0.001 | |
| mp_anosim-methods | 2.621 | 0.051 | 3.683 | |
| mp_balance_clade-methods | 0.001 | 0.001 | 0.008 | |
| mp_cal_abundance-methods | 19.151 | 0.198 | 25.765 | |
| mp_cal_alpha-methods | 2.454 | 0.030 | 3.224 | |
| mp_cal_cca-methods | 2.639 | 0.036 | 3.455 | |
| mp_cal_clust-methods | 0.933 | 0.018 | 1.366 | |
| mp_cal_dist-methods | 4.482 | 0.058 | 6.622 | |
| mp_cal_divergence-methods | 0.000 | 0.001 | 0.002 | |
| mp_cal_nmds-methods | 0.464 | 0.018 | 0.631 | |
| mp_cal_pca-methods | 3.277 | 0.029 | 4.223 | |
| mp_cal_pcoa-methods | 1.158 | 0.016 | 1.501 | |
| mp_cal_pd_metric-methods | 0.000 | 0.001 | 0.002 | |
| mp_cal_rarecurve-methods | 13.797 | 0.166 | 18.170 | |
| mp_cal_rda-methods | 1.492 | 0.020 | 2.009 | |
| mp_cal_upset-methods | 2.288 | 0.031 | 3.083 | |
| mp_cal_venn-methods | 2.524 | 0.108 | 3.229 | |
| mp_decostand-methods | 0.736 | 0.007 | 0.906 | |
| mp_diff_analysis-methods | 11.825 | 0.116 | 15.219 | |
| mp_diff_clade-methods | 0.001 | 0.001 | 0.001 | |
| mp_dmn-methods | 0.000 | 0.000 | 0.001 | |
| mp_dmngroup-methods | 0.000 | 0.001 | 0.001 | |
| mp_envfit-methods | 4.754 | 0.105 | 6.198 | |
| mp_filter_taxa-methods | 1.933 | 0.018 | 2.609 | |
| mp_import_metaphlan | 8.282 | 0.058 | 10.842 | |
| mp_mantel-methods | 0.651 | 0.016 | 0.855 | |
| mp_mrpp-methods | 0.424 | 0.008 | 0.548 | |
| mp_plot_abundance-methods | 0.001 | 0.002 | 0.005 | |
| mp_plot_alpha-methods | 0.000 | 0.001 | 0.001 | |
| mp_plot_diff_boxplot-methods | 12.708 | 0.136 | 16.296 | |
| mp_plot_diff_cladogram | 0.000 | 0.001 | 0.001 | |
| mp_plot_diff_manhattan-methods | 7.010 | 0.114 | 9.316 | |
| mp_plot_dist-methods | 0.000 | 0.001 | 0.005 | |
| mp_plot_ord-methods | 0.000 | 0.001 | 0.005 | |
| mp_plot_rarecurve-methods | 0.001 | 0.001 | 0.002 | |
| mp_plot_upset-methods | 0.000 | 0.001 | 0.003 | |
| mp_plot_venn-methods | 0.000 | 0.001 | 0.001 | |
| mp_rrarefy-methods | 0.775 | 0.008 | 1.022 | |
| mp_select_as_tip-methods | 0.000 | 0.001 | 0.001 | |
| mp_stat_taxa-methods | 2.171 | 0.028 | 2.870 | |
| multi_compare | 0.021 | 0.004 | 0.031 | |
| read_qza | 0 | 0 | 0 | |
| show-methods | 0.000 | 0.002 | 0.002 | |
| split_data | 0.005 | 0.003 | 0.012 | |
| split_str_to_list | 0.000 | 0.001 | 0.001 | |
| theme_taxbar | 0.000 | 0.001 | 0.001 | |