| Back to Multiple platform build/check report for BioC 3.17: simplified long |
|
This page was generated on 2023-10-16 11:37:13 -0400 (Mon, 16 Oct 2023).
| Hostname | OS | Arch (*) | R version | Installed pkgs |
|---|---|---|---|---|
| nebbiolo1 | Linux (Ubuntu 22.04.2 LTS) | x86_64 | 4.3.1 (2023-06-16) -- "Beagle Scouts" | 4626 |
| palomino3 | Windows Server 2022 Datacenter | x64 | 4.3.1 (2023-06-16 ucrt) -- "Beagle Scouts" | 4379 |
| merida1 | macOS 12.6.4 Monterey | x86_64 | 4.3.1 (2023-06-16) -- "Beagle Scouts" | 4395 |
| Click on any hostname to see more info about the system (e.g. compilers) (*) as reported by 'uname -p', except on Windows and Mac OS X | ||||
| Package 1179/2230 | Hostname | OS / Arch | INSTALL | BUILD | CHECK | BUILD BIN | ||||||||
| MetaNeighbor 1.20.0 (landing page) Stephan Fischer
| nebbiolo1 | Linux (Ubuntu 22.04.2 LTS) / x86_64 | OK | OK | OK | |||||||||
| palomino3 | Windows Server 2022 Datacenter / x64 | OK | OK | OK | OK | |||||||||
| merida1 | macOS 12.6.4 Monterey / x86_64 | OK | OK | OK | OK | |||||||||
| kjohnson2 | macOS 12.6.1 Monterey / arm64 | see weekly results here | ||||||||||||
|
To the developers/maintainers of the MetaNeighbor package: - Allow up to 24 hours (and sometimes 48 hours) for your latest push to git@git.bioconductor.org:packages/MetaNeighbor.git to reflect on this report. See Troubleshooting Build Report for more information. - Use the following Renviron settings to reproduce errors and warnings. - If 'R CMD check' started to fail recently on the Linux builder(s) over a missing dependency, add the missing dependency to 'Suggests:' in your DESCRIPTION file. See Renviron.bioc for more information. |
| Package: MetaNeighbor |
| Version: 1.20.0 |
| Command: /Library/Frameworks/R.framework/Resources/bin/R CMD check --install=check:MetaNeighbor.install-out.txt --library=/Library/Frameworks/R.framework/Resources/library --no-vignettes --timings MetaNeighbor_1.20.0.tar.gz |
| StartedAt: 2023-10-16 03:40:02 -0400 (Mon, 16 Oct 2023) |
| EndedAt: 2023-10-16 03:43:48 -0400 (Mon, 16 Oct 2023) |
| EllapsedTime: 225.9 seconds |
| RetCode: 0 |
| Status: OK |
| CheckDir: MetaNeighbor.Rcheck |
| Warnings: 0 |
##############################################################################
##############################################################################
###
### Running command:
###
### /Library/Frameworks/R.framework/Resources/bin/R CMD check --install=check:MetaNeighbor.install-out.txt --library=/Library/Frameworks/R.framework/Resources/library --no-vignettes --timings MetaNeighbor_1.20.0.tar.gz
###
##############################################################################
##############################################################################
* using log directory ‘/Users/biocbuild/bbs-3.17-bioc/meat/MetaNeighbor.Rcheck’
* using R version 4.3.1 (2023-06-16)
* using platform: x86_64-apple-darwin20 (64-bit)
* R was compiled by
Apple clang version 14.0.3 (clang-1403.0.22.14.1)
GNU Fortran (GCC) 12.2.0
* running under: macOS Monterey 12.6.4
* using session charset: UTF-8
* using option ‘--no-vignettes’
* checking for file ‘MetaNeighbor/DESCRIPTION’ ... OK
* checking extension type ... Package
* this is package ‘MetaNeighbor’ version ‘1.20.0’
* checking package namespace information ... OK
* checking package dependencies ... OK
* checking if this is a source package ... OK
* checking if there is a namespace ... OK
* checking for hidden files and directories ... OK
* checking for portable file names ... OK
* checking for sufficient/correct file permissions ... OK
* checking whether package ‘MetaNeighbor’ can be installed ... OK
* checking installed package size ... OK
* checking package directory ... OK
* checking ‘build’ directory ... OK
* checking DESCRIPTION meta-information ... OK
* checking top-level files ... OK
* checking for left-over files ... OK
* checking index information ... OK
* checking package subdirectories ... OK
* checking R files for non-ASCII characters ... OK
* checking R files for syntax errors ... OK
* checking whether the package can be loaded ... OK
* checking whether the package can be loaded with stated dependencies ... OK
* checking whether the package can be unloaded cleanly ... OK
* checking whether the namespace can be loaded with stated dependencies ... OK
* checking whether the namespace can be unloaded cleanly ... OK
* checking dependencies in R code ... OK
* checking S3 generic/method consistency ... OK
* checking replacement functions ... OK
* checking foreign function calls ... OK
* checking R code for possible problems ... NOTE
MetaNeighbor : <anonymous>: no visible binding for global variable
‘cell_type’
ggPlotHeatmap: no visible binding for global variable ‘target_ct’
ggPlotHeatmap: no visible binding for global variable ‘ref_ct’
ggPlotHeatmap: no visible binding for global variable ‘auroc’
is_reciprocal_top_hit: no visible binding for global variable ‘auroc’
is_reciprocal_top_hit: no visible binding for global variable
‘ref_cell_type’
is_reciprocal_top_hit: no visible binding for global variable
‘target_cell_type’
is_reciprocal_top_hit: no visible binding for global variable
‘reciprocal_cell_type’
is_reciprocal_top_hit: no visible binding for global variable
‘is_reciprocal’
plotDotPlot: no visible binding for global variable ‘cluster’
plotDotPlot: no visible binding for global variable ‘gene’
plotDotPlot: no visible binding for global variable ‘cell_type’
plotDotPlot: no visible binding for global variable
‘average_expression’
plotDotPlot: no visible binding for global variable
‘percent_expressing’
plotMetaClusters: no visible global function definition for
‘order_sym_matrix’
topHitsByStudy: no visible binding for global variable ‘ref_cell_type’
topHitsByStudy: no visible binding for global variable
‘target_cell_type’
topHitsByStudy: no visible binding for global variable ‘ref_study’
topHitsByStudy: no visible binding for global variable ‘target_study’
topHitsByStudy: no visible binding for global variable ‘.’
topHitsByStudy: no visible binding for global variable ‘pair_id’
topHitsByStudy: no visible binding for global variable ‘is_reciprocal’
topHitsByStudy: no visible global function definition for ‘desc’
topHitsByStudy: no visible binding for global variable ‘Match_type’
variableGenes: no visible binding for global variable ‘gene’
variableGenes: no visible binding for global variable ‘is_hvg’
variableGenes: no visible binding for global variable ‘var_quant’
variableGenes: no visible binding for global variable ‘recurrence’
variableGenes: no visible global function definition for ‘desc’
variableGenes: no visible binding for global variable ‘score’
variable_genes_single_exp: no visible binding for global variable
‘bin_med’
variable_genes_single_exp: no visible binding for global variable
‘variance’
variable_genes_single_exp: no visible binding for global variable
‘var_quant’
Undefined global functions or variables:
. Match_type auroc average_expression bin_med cell_type cluster desc
gene is_hvg is_reciprocal order_sym_matrix pair_id percent_expressing
reciprocal_cell_type recurrence ref_cell_type ref_ct ref_study score
target_cell_type target_ct target_study var_quant variance
* checking Rd files ... OK
* checking Rd metadata ... OK
* checking Rd cross-references ... OK
* checking for missing documentation entries ... OK
* checking for code/documentation mismatches ... OK
* checking Rd \usage sections ... OK
* checking Rd contents ... OK
* checking for unstated dependencies in examples ... OK
* checking contents of ‘data’ directory ... OK
* checking data for non-ASCII characters ... OK
* checking LazyData ... OK
* checking data for ASCII and uncompressed saves ... OK
* checking sizes of PDF files under ‘inst/doc’ ... OK
* checking files in ‘vignettes’ ... OK
* checking examples ... OK
Examples with CPU (user + system) or elapsed time > 5s
user system elapsed
MetaNeighbor 33.272 1.165 43.464
plotBPlot 20.683 0.366 26.964
neighborVoting 20.097 0.393 26.059
MetaNeighborUS 4.272 0.226 5.624
* checking for unstated dependencies in ‘tests’ ... OK
* checking tests ...
Running ‘testthat.R’
OK
* checking for unstated dependencies in vignettes ... OK
* checking package vignettes in ‘inst/doc’ ... OK
* checking running R code from vignettes ... SKIPPED
* checking re-building of vignette outputs ... SKIPPED
* checking PDF version of manual ... OK
* DONE
Status: 1 NOTE
See
‘/Users/biocbuild/bbs-3.17-bioc/meat/MetaNeighbor.Rcheck/00check.log’
for details.
MetaNeighbor.Rcheck/00install.out
############################################################################## ############################################################################## ### ### Running command: ### ### /Library/Frameworks/R.framework/Resources/bin/R CMD INSTALL MetaNeighbor ### ############################################################################## ############################################################################## * installing to library ‘/Library/Frameworks/R.framework/Versions/4.3-x86_64/Resources/library’ * installing *source* package ‘MetaNeighbor’ ... ** using staged installation ** R ** data *** moving datasets to lazyload DB ** inst ** byte-compile and prepare package for lazy loading ** help *** installing help indices ** building package indices ** installing vignettes ** testing if installed package can be loaded from temporary location ** testing if installed package can be loaded from final location ** testing if installed package keeps a record of temporary installation path * DONE (MetaNeighbor)
MetaNeighbor.Rcheck/tests/testthat.Rout
R version 4.3.1 (2023-06-16) -- "Beagle Scouts"
Copyright (C) 2023 The R Foundation for Statistical Computing
Platform: x86_64-apple-darwin20 (64-bit)
R is free software and comes with ABSOLUTELY NO WARRANTY.
You are welcome to redistribute it under certain conditions.
Type 'license()' or 'licence()' for distribution details.
R is a collaborative project with many contributors.
Type 'contributors()' for more information and
'citation()' on how to cite R or R packages in publications.
Type 'demo()' for some demos, 'help()' for on-line help, or
'help.start()' for an HTML browser interface to help.
Type 'q()' to quit R.
> library(testthat)
> library(MetaNeighbor)
>
> test_check("MetaNeighbor")
[ FAIL 0 | WARN 0 | SKIP 0 | PASS 0 ]
>
> proc.time()
user system elapsed
1.076 0.182 1.487
MetaNeighbor.Rcheck/MetaNeighbor-Ex.timings
| name | user | system | elapsed | |
| MetaNeighbor | 33.272 | 1.165 | 43.464 | |
| MetaNeighborUS | 4.272 | 0.226 | 5.624 | |
| neighborVoting | 20.097 | 0.393 | 26.059 | |
| plotBPlot | 20.683 | 0.366 | 26.964 | |
| plotHeatmap | 3.278 | 0.091 | 4.210 | |
| plotHeatmapPretrained | 3.238 | 0.080 | 4.252 | |
| plotUpset | 3.080 | 0.090 | 4.094 | |
| topHits | 3.253 | 0.108 | 4.314 | |
| topHitsByStudy | 3.371 | 0.096 | 4.409 | |
| trainModel | 0.701 | 0.050 | 0.948 | |
| variableGenes | 1.138 | 0.071 | 1.528 | |