| Back to Multiple platform build/check report for BioC 3.17: simplified long | 
  | 
This page was generated on 2023-10-16 11:37:12 -0400 (Mon, 16 Oct 2023).
| Hostname | OS | Arch (*) | R version | Installed pkgs | 
|---|---|---|---|---|
| nebbiolo1 | Linux (Ubuntu 22.04.2 LTS) | x86_64 | 4.3.1 (2023-06-16) -- "Beagle Scouts" | 4626 | 
| palomino3 | Windows Server 2022 Datacenter | x64 | 4.3.1 (2023-06-16 ucrt) -- "Beagle Scouts" | 4379 | 
| merida1 | macOS 12.6.4 Monterey | x86_64 | 4.3.1 (2023-06-16) -- "Beagle Scouts" | 4395 | 
| Click on any hostname to see more info about the system (e.g. compilers) (*) as reported by 'uname -p', except on Windows and Mac OS X | ||||
| Package 1125/2230 | Hostname | OS / Arch | INSTALL | BUILD | CHECK | BUILD BIN | ||||||||
| MassSpecWavelet 1.66.0  (landing page) Sergio Oller Moreno 
  | nebbiolo1 | Linux (Ubuntu 22.04.2 LTS) / x86_64 | OK | OK | OK | |||||||||
| palomino3 | Windows Server 2022 Datacenter / x64 | OK | OK | OK | OK | |||||||||
| merida1 | macOS 12.6.4 Monterey / x86_64 | OK | OK | OK | OK | |||||||||
| kjohnson2 | macOS 12.6.1 Monterey / arm64 | see weekly results here | ||||||||||||
| 
To the developers/maintainers of the MassSpecWavelet package: - Allow up to 24 hours (and sometimes 48 hours) for your latest push to git@git.bioconductor.org:packages/MassSpecWavelet.git to reflect on this report. See Troubleshooting Build Report for more information. - Use the following Renviron settings to reproduce errors and warnings. - If 'R CMD check' started to fail recently on the Linux builder(s) over a missing dependency, add the missing dependency to 'Suggests:' in your DESCRIPTION file. See Renviron.bioc for more information.  | 
| Package: MassSpecWavelet | 
| Version: 1.66.0 | 
| Command: /Library/Frameworks/R.framework/Resources/bin/R CMD check --install=check:MassSpecWavelet.install-out.txt --library=/Library/Frameworks/R.framework/Resources/library --no-vignettes --timings MassSpecWavelet_1.66.0.tar.gz | 
| StartedAt: 2023-10-16 03:26:22 -0400 (Mon, 16 Oct 2023) | 
| EndedAt: 2023-10-16 03:27:44 -0400 (Mon, 16 Oct 2023) | 
| EllapsedTime: 81.9 seconds | 
| RetCode: 0 | 
| Status: OK | 
| CheckDir: MassSpecWavelet.Rcheck | 
| Warnings: 0 | 
##############################################################################
##############################################################################
###
### Running command:
###
###   /Library/Frameworks/R.framework/Resources/bin/R CMD check --install=check:MassSpecWavelet.install-out.txt --library=/Library/Frameworks/R.framework/Resources/library --no-vignettes --timings MassSpecWavelet_1.66.0.tar.gz
###
##############################################################################
##############################################################################
* using log directory ‘/Users/biocbuild/bbs-3.17-bioc/meat/MassSpecWavelet.Rcheck’
* using R version 4.3.1 (2023-06-16)
* using platform: x86_64-apple-darwin20 (64-bit)
* R was compiled by
    Apple clang version 14.0.3 (clang-1403.0.22.14.1)
    GNU Fortran (GCC) 12.2.0
* running under: macOS Monterey 12.6.4
* using session charset: UTF-8
* using option ‘--no-vignettes’
* checking for file ‘MassSpecWavelet/DESCRIPTION’ ... OK
* checking extension type ... Package
* this is package ‘MassSpecWavelet’ version ‘1.66.0’
* package encoding: UTF-8
* checking package namespace information ... OK
* checking package dependencies ... OK
* checking if this is a source package ... OK
* checking if there is a namespace ... OK
* checking for hidden files and directories ... OK
* checking for portable file names ... OK
* checking for sufficient/correct file permissions ... OK
* checking whether package ‘MassSpecWavelet’ can be installed ... OK
* used C compiler: ‘Apple clang version 14.0.0 (clang-1400.0.29.202)’
* used SDK: ‘MacOSX11.3.sdk’
* checking installed package size ... OK
* checking package directory ... OK
* checking ‘build’ directory ... OK
* checking DESCRIPTION meta-information ... OK
* checking top-level files ... OK
* checking for left-over files ... OK
* checking index information ... OK
* checking package subdirectories ... OK
* checking R files for non-ASCII characters ... OK
* checking R files for syntax errors ... OK
* checking whether the package can be loaded ... OK
* checking whether the package can be loaded with stated dependencies ... OK
* checking whether the package can be unloaded cleanly ... OK
* checking whether the namespace can be loaded with stated dependencies ... OK
* checking whether the namespace can be unloaded cleanly ... OK
* checking dependencies in R code ... OK
* checking S3 generic/method consistency ... OK
* checking replacement functions ... OK
* checking foreign function calls ... OK
* checking R code for possible problems ... OK
* checking Rd files ... NOTE
checkRd: (-1) exampleMS.Rd:16: Escaped LaTeX specials: \#
checkRd: (-1) extendNBase.Rd:13: Escaped LaTeX specials: \^
checkRd: (-1) getRidge.Rd:45: Escaped LaTeX specials: \_
* checking Rd metadata ... OK
* checking Rd cross-references ... OK
* checking for missing documentation entries ... OK
* checking for code/documentation mismatches ... OK
* checking Rd \usage sections ... OK
* checking Rd contents ... OK
* checking for unstated dependencies in examples ... OK
* checking contents of ‘data’ directory ... OK
* checking data for non-ASCII characters ... OK
* checking data for ASCII and uncompressed saves ... OK
* checking line endings in C/C++/Fortran sources/headers ... OK
* checking compiled code ... NOTE
Note: information on .o files is not available
* checking files in ‘vignettes’ ... OK
* checking examples ... OK
Examples with CPU (user + system) or elapsed time > 5s
                  user system elapsed
peakDetectionCWT 4.688  0.301   6.903
* checking for unstated dependencies in ‘tests’ ... OK
* checking tests ...
  Running ‘runit.R’
 OK
* checking for unstated dependencies in vignettes ... OK
* checking package vignettes in ‘inst/doc’ ... OK
* checking running R code from vignettes ... SKIPPED
* checking re-building of vignette outputs ... SKIPPED
* checking PDF version of manual ... OK
* DONE
Status: 2 NOTEs
See
  ‘/Users/biocbuild/bbs-3.17-bioc/meat/MassSpecWavelet.Rcheck/00check.log’
for details.
MassSpecWavelet.Rcheck/00install.out
############################################################################## ############################################################################## ### ### Running command: ### ### /Library/Frameworks/R.framework/Resources/bin/R CMD INSTALL MassSpecWavelet ### ############################################################################## ############################################################################## * installing to library ‘/Library/Frameworks/R.framework/Versions/4.3-x86_64/Resources/library’ * installing *source* package ‘MassSpecWavelet’ ... ** using staged installation ** libs using C compiler: ‘Apple clang version 14.0.0 (clang-1400.0.29.202)’ using SDK: ‘MacOSX11.3.sdk’ clang -arch x86_64 -I"/Library/Frameworks/R.framework/Resources/include" -DNDEBUG -I/opt/R/x86_64/include -fPIC -falign-functions=64 -Wall -g -O2 -c find_local_maximum.c -o find_local_maximum.o clang -arch x86_64 -I"/Library/Frameworks/R.framework/Resources/include" -DNDEBUG -I/opt/R/x86_64/include -fPIC -falign-functions=64 -Wall -g -O2 -c init.c -o init.o clang -arch x86_64 -dynamiclib -Wl,-headerpad_max_install_names -undefined dynamic_lookup -single_module -multiply_defined suppress -L/Library/Frameworks/R.framework/Resources/lib -L/opt/R/x86_64/lib -o MassSpecWavelet.so find_local_maximum.o init.o -F/Library/Frameworks/R.framework/.. -framework R -Wl,-framework -Wl,CoreFoundation installing to /Library/Frameworks/R.framework/Versions/4.3-x86_64/Resources/library/00LOCK-MassSpecWavelet/00new/MassSpecWavelet/libs ** R ** data ** inst ** byte-compile and prepare package for lazy loading ** help *** installing help indices ** building package indices ** installing vignettes ** testing if installed package can be loaded from temporary location ** checking absolute paths in shared objects and dynamic libraries ** testing if installed package can be loaded from final location ** testing if installed package keeps a record of temporary installation path * DONE (MassSpecWavelet)
MassSpecWavelet.Rcheck/tests/runit.Rout
R version 4.3.1 (2023-06-16) -- "Beagle Scouts"
Copyright (C) 2023 The R Foundation for Statistical Computing
Platform: x86_64-apple-darwin20 (64-bit)
R is free software and comes with ABSOLUTELY NO WARRANTY.
You are welcome to redistribute it under certain conditions.
Type 'license()' or 'licence()' for distribution details.
R is a collaborative project with many contributors.
Type 'contributors()' for more information and
'citation()' on how to cite R or R packages in publications.
Type 'demo()' for some demos, 'help()' for on-line help, or
'help.start()' for an HTML browser interface to help.
Type 'q()' to quit R.
> stopifnot(require(RUnit, quietly = TRUE))
> stopifnot(require(MassSpecWavelet, quietly = TRUE))
> ## Define tests
> testSuite <- defineTestSuite(name = "MassSpecWavelet Unit Tests",
+                              dirs = system.file("tests", package = "MassSpecWavelet"),
+                              testFuncRegexp = "^[Tt]est+",
+                              rngKind = "Mersenne-Twister",
+                              rngNormalKind = "Inversion"
+ )
> tests <- runTestSuite(testSuite) # Run tests
Executing test function test01_cwt  ...  done successfully.
Executing test function test02_cwt  ...  done successfully.
Executing test function test01_localMaximum  ...  done successfully.
Executing test function test02_checkIdenticalResults_classic_vs_faster  ...  done successfully.
Executing test function test03_check_new_does_not_miss_maxima  ...  done successfully.
Executing test function test01_peakDetection  ...  done successfully.
Executing test function test02_peakDetection  ...  done successfully.
> printTextProtocol(tests) # Print results
RUNIT TEST PROTOCOL -- Mon Oct 16 03:27:25 2023 
*********************************************** 
Number of test functions: 7 
Number of errors: 0 
Number of failures: 0 
 
1 Test Suite : 
MassSpecWavelet Unit Tests - 7 test functions, 0 errors, 0 failures
Details 
*************************** 
Test Suite: MassSpecWavelet Unit Tests 
Test function regexp: ^[Tt]est+ 
Test file regexp: ^runit.+\.[rR]$ 
Involved directory: 
/Library/Frameworks/R.framework/Versions/4.3-x86_64/Resources/library/MassSpecWavelet/tests 
--------------------------- 
Test file: /Library/Frameworks/R.framework/Versions/4.3-x86_64/Resources/library/MassSpecWavelet/tests/runit.cwt.R 
test01_cwt: (1 checks) ... OK (0.01 seconds)
test02_cwt: (2 checks) ... OK (0.02 seconds)
--------------------------- 
Test file: /Library/Frameworks/R.framework/Versions/4.3-x86_64/Resources/library/MassSpecWavelet/tests/runit.localMaximum.R 
test01_localMaximum: (1 checks) ... OK (0 seconds)
test02_checkIdenticalResults_classic_vs_faster: (240 checks) ... OK (5.84 seconds)
test03_check_new_does_not_miss_maxima: (240 checks) ... OK (0.55 seconds)
--------------------------- 
Test file: /Library/Frameworks/R.framework/Versions/4.3-x86_64/Resources/library/MassSpecWavelet/tests/runit.peakDetectionCWT.R 
test01_peakDetection: (3 checks) ... OK (0.07 seconds)
test02_peakDetection: (2 checks) ... OK (0.05 seconds)
> # Return success or failure to R CMD CHECK
> if (getErrors(tests)$nFail > 0) stop("TEST FAILED!")
> if (getErrors(tests)$nErr > 0) stop("TEST HAD ERRORS!")
> if (getErrors(tests)$nTestFunc < 1) stop("NO TEST FUNCTIONS RUN!")
> 
> proc.time()
   user  system elapsed 
  4.813   0.333   7.230 
MassSpecWavelet.Rcheck/MassSpecWavelet-Ex.timings
| name | user | system | elapsed | |
| MassSpecWavelet-package | 1.297 | 0.160 | 1.904 | |
| cwt | 1.425 | 0.204 | 2.089 | |
| extendLength | 0.000 | 0.000 | 0.001 | |
| extendNBase | 0 | 0 | 0 | |
| getLocalMaximumCWT | 0.300 | 0.025 | 0.421 | |
| getRidge | 0.248 | 0.017 | 0.337 | |
| getRidgeLength | 0.000 | 0.000 | 0.001 | |
| identifyMajorPeaks | 3.305 | 0.171 | 4.586 | |
| localMaximum | 0.078 | 0.004 | 0.119 | |
| mexh | 0.002 | 0.009 | 0.015 | |
| peakDetectionCWT | 4.688 | 0.301 | 6.903 | |
| plotLocalMax | 0.131 | 0.012 | 0.225 | |
| plotPeak | 1.205 | 0.099 | 1.794 | |
| plotRidgeList | 0.330 | 0.029 | 0.524 | |
| prepareWavelets | 0.002 | 0.001 | 0.003 | |
| tuneInPeakInfo | 1.778 | 0.114 | 2.846 | |