| Back to Multiple platform build/check report for BioC 3.17: simplified long | 
  | 
This page was generated on 2023-10-16 11:37:11 -0400 (Mon, 16 Oct 2023).
| Hostname | OS | Arch (*) | R version | Installed pkgs | 
|---|---|---|---|---|
| nebbiolo1 | Linux (Ubuntu 22.04.2 LTS) | x86_64 | 4.3.1 (2023-06-16) -- "Beagle Scouts" | 4626 | 
| palomino3 | Windows Server 2022 Datacenter | x64 | 4.3.1 (2023-06-16 ucrt) -- "Beagle Scouts" | 4379 | 
| merida1 | macOS 12.6.4 Monterey | x86_64 | 4.3.1 (2023-06-16) -- "Beagle Scouts" | 4395 | 
| Click on any hostname to see more info about the system (e.g. compilers) (*) as reported by 'uname -p', except on Windows and Mac OS X | ||||
| Package 1094/2230 | Hostname | OS / Arch | INSTALL | BUILD | CHECK | BUILD BIN | ||||||||
| Maaslin2 1.14.1  (landing page) Lauren McIver 
  | nebbiolo1 | Linux (Ubuntu 22.04.2 LTS) / x86_64 | OK | OK | OK | |||||||||
| palomino3 | Windows Server 2022 Datacenter / x64 | OK | OK | OK | OK | |||||||||
| merida1 | macOS 12.6.4 Monterey / x86_64 | OK | OK | OK | OK | |||||||||
| kjohnson2 | macOS 12.6.1 Monterey / arm64 | see weekly results here | ||||||||||||
| 
To the developers/maintainers of the Maaslin2 package: - Allow up to 24 hours (and sometimes 48 hours) for your latest push to git@git.bioconductor.org:packages/Maaslin2.git to reflect on this report. See Troubleshooting Build Report for more information. - Use the following Renviron settings to reproduce errors and warnings. - If 'R CMD check' started to fail recently on the Linux builder(s) over a missing dependency, add the missing dependency to 'Suggests:' in your DESCRIPTION file. See Renviron.bioc for more information.  | 
| Package: Maaslin2 | 
| Version: 1.14.1 | 
| Command: rm -rf Maaslin2.buildbin-libdir && mkdir Maaslin2.buildbin-libdir && /Users/biocbuild/BBS/utils/build-universal.sh Maaslin2_1.14.1.tar.gz /Library/Frameworks/R.framework/Resources/bin/R Maaslin2.buildbin-libdir | 
| StartedAt: 2023-10-16 09:38:56 -0400 (Mon, 16 Oct 2023) | 
| EndedAt: 2023-10-16 09:39:27 -0400 (Mon, 16 Oct 2023) | 
| EllapsedTime: 30.9 seconds | 
| RetCode: 0 | 
| Status: OK | 
| PackageFile: Maaslin2_1.14.1.tgz | 
| PackageFileSize: 612.1 KiB | 
##############################################################################
##############################################################################
###
### Running command:
###
###   rm -rf Maaslin2.buildbin-libdir && mkdir Maaslin2.buildbin-libdir && /Users/biocbuild/BBS/utils/build-universal.sh Maaslin2_1.14.1.tar.gz /Library/Frameworks/R.framework/Resources/bin/R Maaslin2.buildbin-libdir
###
##############################################################################
##############################################################################
>>>>>>> 
>>>>>>> INSTALLATION WITH 'R CMD INSTALL --preclean --no-multiarch --library=Maaslin2.buildbin-libdir Maaslin2_1.14.1.tar.gz'
>>>>>>> 
* installing *source* package ‘Maaslin2’ ...
** using staged installation
** R
** inst
** byte-compile and prepare package for lazy loading
Warning in checkMatrixPackageVersion() :
  Package version inconsistency detected.
TMB was built with Matrix version 1.6.0
Current Matrix version is 1.6.1.1
Please re-install 'TMB' from source using install.packages('TMB', type = 'source') or ask CRAN for a binary version of 'TMB' matching CRAN's 'Matrix' package
** help
*** installing help indices
** building package indices
** installing vignettes
** testing if installed package can be loaded from temporary location
** testing if installed package can be loaded from final location
** testing if installed package keeps a record of temporary installation path
* DONE (Maaslin2)