| Back to Multiple platform build/check report for BioC 3.17: simplified long | 
  | 
This page was generated on 2023-10-16 11:35:33 -0400 (Mon, 16 Oct 2023).
| Hostname | OS | Arch (*) | R version | Installed pkgs | 
|---|---|---|---|---|
| nebbiolo1 | Linux (Ubuntu 22.04.2 LTS) | x86_64 | 4.3.1 (2023-06-16) -- "Beagle Scouts" | 4626 | 
| palomino3 | Windows Server 2022 Datacenter | x64 | 4.3.1 (2023-06-16 ucrt) -- "Beagle Scouts" | 4379 | 
| merida1 | macOS 12.6.4 Monterey | x86_64 | 4.3.1 (2023-06-16) -- "Beagle Scouts" | 4395 | 
| Click on any hostname to see more info about the system (e.g. compilers) (*) as reported by 'uname -p', except on Windows and Mac OS X | ||||
| Package 1323/2230 | Hostname | OS / Arch | INSTALL | BUILD | CHECK | BUILD BIN | ||||||||
| MSstatsTMT 2.8.0  (landing page) Ting Huang 
  | nebbiolo1 | Linux (Ubuntu 22.04.2 LTS) / x86_64 | OK | OK | OK | |||||||||
| palomino3 | Windows Server 2022 Datacenter / x64 | OK | OK | OK | OK | |||||||||
| merida1 | macOS 12.6.4 Monterey / x86_64 | OK | OK | OK | OK | |||||||||
| kjohnson2 | macOS 12.6.1 Monterey / arm64 | see weekly results here | ||||||||||||
| 
To the developers/maintainers of the MSstatsTMT package: - Allow up to 24 hours (and sometimes 48 hours) for your latest push to git@git.bioconductor.org:packages/MSstatsTMT.git to reflect on this report. See Troubleshooting Build Report for more information. - Use the following Renviron settings to reproduce errors and warnings. - If 'R CMD check' started to fail recently on the Linux builder(s) over a missing dependency, add the missing dependency to 'Suggests:' in your DESCRIPTION file. See Renviron.bioc for more information.  | 
| Package: MSstatsTMT | 
| Version: 2.8.0 | 
| Command: /home/biocbuild/bbs-3.17-bioc/R/bin/R CMD check --install=check:MSstatsTMT.install-out.txt --library=/home/biocbuild/bbs-3.17-bioc/R/site-library --timings MSstatsTMT_2.8.0.tar.gz | 
| StartedAt: 2023-10-15 23:08:28 -0400 (Sun, 15 Oct 2023) | 
| EndedAt: 2023-10-15 23:11:18 -0400 (Sun, 15 Oct 2023) | 
| EllapsedTime: 170.6 seconds | 
| RetCode: 0 | 
| Status: OK | 
| CheckDir: MSstatsTMT.Rcheck | 
| Warnings: 0 | 
##############################################################################
##############################################################################
###
### Running command:
###
###   /home/biocbuild/bbs-3.17-bioc/R/bin/R CMD check --install=check:MSstatsTMT.install-out.txt --library=/home/biocbuild/bbs-3.17-bioc/R/site-library --timings MSstatsTMT_2.8.0.tar.gz
###
##############################################################################
##############################################################################
* using log directory ‘/home/biocbuild/bbs-3.17-bioc/meat/MSstatsTMT.Rcheck’
* using R version 4.3.1 (2023-06-16)
* using platform: x86_64-pc-linux-gnu (64-bit)
* R was compiled by
    gcc (Ubuntu 11.3.0-1ubuntu1~22.04.1) 11.3.0
    GNU Fortran (Ubuntu 11.3.0-1ubuntu1~22.04.1) 11.3.0
* running under: Ubuntu 22.04.3 LTS
* using session charset: UTF-8
* checking for file ‘MSstatsTMT/DESCRIPTION’ ... OK
* this is package ‘MSstatsTMT’ version ‘2.8.0’
* package encoding: UTF-8
* checking package namespace information ... OK
* checking package dependencies ... OK
* checking if this is a source package ... OK
* checking if there is a namespace ... OK
* checking for hidden files and directories ... OK
* checking for portable file names ... OK
* checking for sufficient/correct file permissions ... OK
* checking whether package ‘MSstatsTMT’ can be installed ... OK
* checking installed package size ... OK
* checking package directory ... OK
* checking ‘build’ directory ... OK
* checking DESCRIPTION meta-information ... OK
* checking top-level files ... OK
* checking for left-over files ... OK
* checking index information ... OK
* checking package subdirectories ... OK
* checking R files for non-ASCII characters ... OK
* checking R files for syntax errors ... OK
* checking whether the package can be loaded ... OK
* checking whether the package can be loaded with stated dependencies ... OK
* checking whether the package can be unloaded cleanly ... OK
* checking whether the namespace can be loaded with stated dependencies ... OK
* checking whether the namespace can be unloaded cleanly ... OK
* checking loading without being on the library search path ... OK
* checking dependencies in R code ... OK
* checking S3 generic/method consistency ... OK
* checking replacement functions ... OK
* checking foreign function calls ... OK
* checking R code for possible problems ... NOTE
.checkRepeatedMeasures: no visible global function definition for ‘.’
.checkSingleSubject: no visible global function definition for ‘.’
.checkTechReplicate: no visible global function definition for ‘.’
.getGroupLabel: no visible binding for global variable ‘Condition’
.handleSingleContrastTMT: no visible global function definition for
  ‘.mygrad’
.plotProfileTMT: no visible global function definition for ‘.’
.plotProfileTMT: no visible binding for global variable ‘censored’
Undefined global functions or variables:
  . .mygrad Condition censored
* checking Rd files ... OK
* checking Rd metadata ... OK
* checking Rd cross-references ... OK
* checking for missing documentation entries ... OK
* checking for code/documentation mismatches ... OK
* checking Rd \usage sections ... OK
* checking Rd contents ... OK
* checking for unstated dependencies in examples ... OK
* checking contents of ‘data’ directory ... OK
* checking data for non-ASCII characters ... OK
* checking LazyData ... OK
* checking data for ASCII and uncompressed saves ... OK
* checking files in ‘vignettes’ ... OK
* checking examples ... OK
Examples with CPU (user + system) or elapsed time > 5s
                      user system elapsed
dataProcessPlotsTMT 32.269  0.464  31.512
groupComparisonTMT   6.214  0.124   5.203
* checking for unstated dependencies in ‘tests’ ... OK
* checking tests ...
  Running ‘testthat.R’
 OK
* checking for unstated dependencies in vignettes ... OK
* checking package vignettes in ‘inst/doc’ ... OK
* checking running R code from vignettes ...
  ‘MSstatsTMT.Rmd’ using ‘UTF-8’... OK
 NONE
* checking re-building of vignette outputs ... OK
* checking PDF version of manual ... OK
* DONE
Status: 1 NOTE
See
  ‘/home/biocbuild/bbs-3.17-bioc/meat/MSstatsTMT.Rcheck/00check.log’
for details.
MSstatsTMT.Rcheck/00install.out
############################################################################## ############################################################################## ### ### Running command: ### ### /home/biocbuild/bbs-3.17-bioc/R/bin/R CMD INSTALL MSstatsTMT ### ############################################################################## ############################################################################## * installing to library ‘/home/biocbuild/bbs-3.17-bioc/R/site-library’ * installing *source* package ‘MSstatsTMT’ ... ** using staged installation ** R ** data *** moving datasets to lazyload DB ** inst ** byte-compile and prepare package for lazy loading ** help *** installing help indices ** building package indices ** installing vignettes ** testing if installed package can be loaded from temporary location ** testing if installed package can be loaded from final location ** testing if installed package keeps a record of temporary installation path * DONE (MSstatsTMT)
MSstatsTMT.Rcheck/tests/testthat.Rout
R version 4.3.1 (2023-06-16) -- "Beagle Scouts"
Copyright (C) 2023 The R Foundation for Statistical Computing
Platform: x86_64-pc-linux-gnu (64-bit)
R is free software and comes with ABSOLUTELY NO WARRANTY.
You are welcome to redistribute it under certain conditions.
Type 'license()' or 'licence()' for distribution details.
R is a collaborative project with many contributors.
Type 'contributors()' for more information and
'citation()' on how to cite R or R packages in publications.
Type 'demo()' for some demos, 'help()' for on-line help, or
'help.start()' for an HTML browser interface to help.
Type 'q()' to quit R.
> library(testthat)
> library(MSstatsTMT)
> 
> test_check("MSstatsTMT")
INFO  [2023-10-15 23:10:19] ** Raw data from ProteomeDiscoverer imported successfully.
INFO  [2023-10-15 23:10:19] ** Raw data from ProteomeDiscoverer cleaned successfully.
INFO  [2023-10-15 23:10:19] ** Using provided annotation.
INFO  [2023-10-15 23:10:19] ** Raw data from MaxQuant imported successfully.
INFO  [2023-10-15 23:10:19] ** Rows with values of Potentialcontaminant equal to + are removed 
INFO  [2023-10-15 23:10:19] ** Rows with values of Reverse equal to + are removed 
INFO  [2023-10-15 23:10:19] ** Rows with values of Potentialcontaminant equal to + are removed 
INFO  [2023-10-15 23:10:19] ** Rows with values of Reverse equal to + are removed 
INFO  [2023-10-15 23:10:19] ** + Contaminant, + Reverse, + Potential.contaminant proteins are removed.
INFO  [2023-10-15 23:10:19] ** Features with all missing measurements across channels within each run are removed.
INFO  [2023-10-15 23:10:19] ** Raw data from MaxQuant cleaned successfully.
INFO  [2023-10-15 23:10:19] ** Using provided annotation.
INFO  [2023-10-15 23:10:19] ** Run and Channel labels were standardized to remove symbols such as '.' or '%'.
INFO  [2023-10-15 23:10:19] ** The following options are used:
  - Features will be defined by the columns: PeptideSequence, PrecursorCharge
  - Shared peptides will be removed.
  - Proteins with single feature will not be removed.
  - Features with less than 3 measurements within each run will be removed.
INFO  [2023-10-15 23:10:19] ** Features with all missing measurements across channels within each run are removed.
INFO  [2023-10-15 23:10:19] ** Shared peptides are removed.
INFO  [2023-10-15 23:10:19] ** Features with one or two measurements across channels within each run are removed.
INFO  [2023-10-15 23:10:19] ** PSMs have been aggregated to peptide ions.
INFO  [2023-10-15 23:10:19] ** Raw data from SpectroMine imported successfully.
INFO  [2023-10-15 23:10:19] ** Raw data from SpectroMine cleaned successfully.
INFO  [2023-10-15 23:10:19] ** Using provided annotation.
INFO  [2023-10-15 23:10:19] ** Run and Channel labels were standardized to remove symbols such as '.' or '%'.
INFO  [2023-10-15 23:10:20] Design: 5 mixtures.
INFO  [2023-10-15 23:10:20] Design: 3 technical replicated MS runs per mixture.
INFO  [2023-10-15 23:10:20] Design: 1 subject per condition (No biological variation).
INFO  [2023-10-15 23:10:20] Model fitting for 10 proteins.
  |                                                                            
  |                                                                      |   0%
  |                                                                            
  |=======                                                               |  10%
  |                                                                            
  |==============                                                        |  20%
  |                                                                            
  |=====================                                                 |  30%
  |                                                                            
  |============================                                          |  40%
  |                                                                            
  |===================================                                   |  50%
  |                                                                            
  |==========================================                            |  60%
  |                                                                            
  |=================================================                     |  70%
  |                                                                            
  |========================================================              |  80%
  |                                                                            
  |===============================================================       |  90%
  |                                                                            
  |======================================================================| 100%
INFO  [2023-10-15 23:10:20] Testing for 10 proteins:
  |                                                                            
  |                                                                      |   0%
  |                                                                            
  |=======                                                               |  10%
  |                                                                            
  |==============                                                        |  20%
  |                                                                            
  |=====================                                                 |  30%
  |                                                                            
  |============================                                          |  40%
  |                                                                            
  |===================================                                   |  50%
  |                                                                            
  |==========================================                            |  60%
  |                                                                            
  |=================================================                     |  70%
  |                                                                            
  |========================================================              |  80%
  |                                                                            
  |===============================================================       |  90%
  |                                                                            
  |======================================================================| 100%
INFO  [2023-10-15 23:10:20] Design: 5 mixtures.
INFO  [2023-10-15 23:10:20] Design: 3 technical replicated MS runs per mixture.
INFO  [2023-10-15 23:10:20] Design: 1 subject per condition (No biological variation).
INFO  [2023-10-15 23:10:20] Model fitting for 10 proteins.
  |                                                                            
  |                                                                      |   0%
  |                                                                            
  |=======                                                               |  10%
  |                                                                            
  |==============                                                        |  20%
  |                                                                            
  |=====================                                                 |  30%
  |                                                                            
  |============================                                          |  40%
  |                                                                            
  |===================================                                   |  50%
  |                                                                            
  |==========================================                            |  60%
  |                                                                            
  |=================================================                     |  70%
  |                                                                            
  |========================================================              |  80%
  |                                                                            
  |===============================================================       |  90%
  |                                                                            
  |======================================================================| 100%
INFO  [2023-10-15 23:10:21] ** MSstatsTMT - proteinSummarization function
INFO  [2023-10-15 23:10:21] Summarizing for Run : 161117_SILAC_HeLa_UPS1_TMT10_Mixture1_01raw ( 1  of  15 )
  |                                                                            
  |                                                                      |   0%
  |                                                                            
  |=======                                                               |  10%
  |                                                                            
  |==============                                                        |  20%
  |                                                                            
  |=====================                                                 |  30%
  |                                                                            
  |============================                                          |  40%
  |                                                                            
  |===================================                                   |  50%
  |                                                                            
  |==========================================                            |  60%
  |                                                                            
  |=================================================                     |  70%
  |                                                                            
  |========================================================              |  80%
  |                                                                            
  |===============================================================       |  90%
  |                                                                            
  |======================================================================| 100%
INFO  [2023-10-15 23:10:22] Summarizing for Run : 161117_SILAC_HeLa_UPS1_TMT10_Mixture1_02raw ( 2  of  15 )
  |                                                                            
  |                                                                      |   0%
  |                                                                            
  |=======                                                               |  10%
  |                                                                            
  |==============                                                        |  20%
  |                                                                            
  |=====================                                                 |  30%
  |                                                                            
  |============================                                          |  40%
  |                                                                            
  |===================================                                   |  50%
  |                                                                            
  |==========================================                            |  60%
  |                                                                            
  |=================================================                     |  70%
  |                                                                            
  |========================================================              |  80%
  |                                                                            
  |===============================================================       |  90%
  |                                                                            
  |======================================================================| 100%
INFO  [2023-10-15 23:10:22] Summarizing for Run : 161117_SILAC_HeLa_UPS1_TMT10_Mixture2_01raw ( 3  of  15 )
  |                                                                            
  |                                                                      |   0%
  |                                                                            
  |=======                                                               |  10%
  |                                                                            
  |==============                                                        |  20%
  |                                                                            
  |=====================                                                 |  30%
  |                                                                            
  |============================                                          |  40%
  |                                                                            
  |===================================                                   |  50%
  |                                                                            
  |==========================================                            |  60%
  |                                                                            
  |=================================================                     |  70%
  |                                                                            
  |========================================================              |  80%
  |                                                                            
  |===============================================================       |  90%
  |                                                                            
  |======================================================================| 100%
INFO  [2023-10-15 23:10:22] Summarizing for Run : 161117_SILAC_HeLa_UPS1_TMT10_Mixture2_02raw ( 4  of  15 )
  |                                                                            
  |                                                                      |   0%
  |                                                                            
  |=======                                                               |  10%
  |                                                                            
  |==============                                                        |  20%
  |                                                                            
  |=====================                                                 |  30%
  |                                                                            
  |============================                                          |  40%
  |                                                                            
  |===================================                                   |  50%
  |                                                                            
  |==========================================                            |  60%
  |                                                                            
  |=================================================                     |  70%
  |                                                                            
  |========================================================              |  80%
  |                                                                            
  |===============================================================       |  90%
  |                                                                            
  |======================================================================| 100%
INFO  [2023-10-15 23:10:22] Summarizing for Run : 161117_SILAC_HeLa_UPS1_TMT10_Mixture2_03raw ( 5  of  15 )
  |                                                                            
  |                                                                      |   0%
  |                                                                            
  |=======                                                               |  10%
  |                                                                            
  |==============                                                        |  20%
  |                                                                            
  |=====================                                                 |  30%
  |                                                                            
  |============================                                          |  40%
  |                                                                            
  |===================================                                   |  50%
  |                                                                            
  |==========================================                            |  60%
  |                                                                            
  |=================================================                     |  70%
  |                                                                            
  |========================================================              |  80%
  |                                                                            
  |===============================================================       |  90%
  |                                                                            
  |======================================================================| 100%
INFO  [2023-10-15 23:10:23] Summarizing for Run : 161117_SILAC_HeLa_UPS1_TMT10_Mixture3_01raw ( 6  of  15 )
  |                                                                            
  |                                                                      |   0%
  |                                                                            
  |=======                                                               |  10%
  |                                                                            
  |==============                                                        |  20%
  |                                                                            
  |=====================                                                 |  30%
  |                                                                            
  |============================                                          |  40%
  |                                                                            
  |===================================                                   |  50%
  |                                                                            
  |==========================================                            |  60%
  |                                                                            
  |=================================================                     |  70%
  |                                                                            
  |========================================================              |  80%
  |                                                                            
  |===============================================================       |  90%
  |                                                                            
  |======================================================================| 100%
INFO  [2023-10-15 23:10:23] Summarizing for Run : 161117_SILAC_HeLa_UPS1_TMT10_Mixture3_02raw ( 7  of  15 )
  |                                                                            
  |                                                                      |   0%
  |                                                                            
  |=======                                                               |  10%
  |                                                                            
  |==============                                                        |  20%
  |                                                                            
  |=====================                                                 |  30%
  |                                                                            
  |============================                                          |  40%
  |                                                                            
  |===================================                                   |  50%
  |                                                                            
  |==========================================                            |  60%
  |                                                                            
  |=================================================                     |  70%
  |                                                                            
  |========================================================              |  80%
  |                                                                            
  |===============================================================       |  90%
  |                                                                            
  |======================================================================| 100%
INFO  [2023-10-15 23:10:23] Summarizing for Run : 161117_SILAC_HeLa_UPS1_TMT10_Mixture4_01raw ( 8  of  15 )
  |                                                                            
  |                                                                      |   0%
  |                                                                            
  |=======                                                               |  10%
  |                                                                            
  |==============                                                        |  20%
  |                                                                            
  |=====================                                                 |  30%
  |                                                                            
  |============================                                          |  40%
  |                                                                            
  |===================================                                   |  50%
  |                                                                            
  |==========================================                            |  60%
  |                                                                            
  |=================================================                     |  70%
  |                                                                            
  |========================================================              |  80%
  |                                                                            
  |===============================================================       |  90%
  |                                                                            
  |======================================================================| 100%
INFO  [2023-10-15 23:10:23] Summarizing for Run : 161117_SILAC_HeLa_UPS1_TMT10_Mixture4_02raw ( 9  of  15 )
  |                                                                            
  |                                                                      |   0%
  |                                                                            
  |=======                                                               |  10%
  |                                                                            
  |==============                                                        |  20%
  |                                                                            
  |=====================                                                 |  30%
  |                                                                            
  |============================                                          |  40%
  |                                                                            
  |===================================                                   |  50%
  |                                                                            
  |==========================================                            |  60%
  |                                                                            
  |=================================================                     |  70%
  |                                                                            
  |========================================================              |  80%
  |                                                                            
  |===============================================================       |  90%
  |                                                                            
  |======================================================================| 100%
INFO  [2023-10-15 23:10:23] Summarizing for Run : 161117_SILAC_HeLa_UPS1_TMT10_Mixture5_01raw ( 10  of  15 )
  |                                                                            
  |                                                                      |   0%
  |                                                                            
  |=======                                                               |  10%
  |                                                                            
  |==============                                                        |  20%
  |                                                                            
  |=====================                                                 |  30%
  |                                                                            
  |============================                                          |  40%
  |                                                                            
  |===================================                                   |  50%
  |                                                                            
  |==========================================                            |  60%
  |                                                                            
  |=================================================                     |  70%
  |                                                                            
  |========================================================              |  80%
  |                                                                            
  |===============================================================       |  90%
  |                                                                            
  |======================================================================| 100%
INFO  [2023-10-15 23:10:24] Summarizing for Run : 161117_SILAC_HeLa_UPS1_TMT10_Mixture5_02raw ( 11  of  15 )
  |                                                                            
  |                                                                      |   0%
  |                                                                            
  |=======                                                               |  10%
  |                                                                            
  |==============                                                        |  20%
  |                                                                            
  |=====================                                                 |  30%
  |                                                                            
  |============================                                          |  40%
  |                                                                            
  |===================================                                   |  50%
  |                                                                            
  |==========================================                            |  60%
  |                                                                            
  |=================================================                     |  70%
  |                                                                            
  |========================================================              |  80%
  |                                                                            
  |===============================================================       |  90%
  |                                                                            
  |======================================================================| 100%
INFO  [2023-10-15 23:10:24] Summarizing for Run : 161117_SILAC_HeLa_UPS1_TMT10_Mixture4_03raw ( 12  of  15 )
  |                                                                            
  |                                                                      |   0%
  |                                                                            
  |=======                                                               |  10%
  |                                                                            
  |==============                                                        |  20%
  |                                                                            
  |=====================                                                 |  30%
  |                                                                            
  |============================                                          |  40%
  |                                                                            
  |===================================                                   |  50%
  |                                                                            
  |==========================================                            |  60%
  |                                                                            
  |=================================================                     |  70%
  |                                                                            
  |========================================================              |  80%
  |                                                                            
  |===============================================================       |  90%
  |                                                                            
  |======================================================================| 100%
INFO  [2023-10-15 23:10:24] Summarizing for Run : 161117_SILAC_HeLa_UPS1_TMT10_Mixture5_03raw ( 13  of  15 )
  |                                                                            
  |                                                                      |   0%
  |                                                                            
  |=======                                                               |  10%
  |                                                                            
  |==============                                                        |  20%
  |                                                                            
  |=====================                                                 |  30%
  |                                                                            
  |============================                                          |  40%
  |                                                                            
  |===================================                                   |  50%
  |                                                                            
  |==========================================                            |  60%
  |                                                                            
  |=================================================                     |  70%
  |                                                                            
  |========================================================              |  80%
  |                                                                            
  |===============================================================       |  90%
  |                                                                            
  |======================================================================| 100%
INFO  [2023-10-15 23:10:24] Summarizing for Run : 161117_SILAC_HeLa_UPS1_TMT10_Mixture1_03raw ( 14  of  15 )
  |                                                                            
  |                                                                      |   0%
  |                                                                            
  |=======                                                               |  10%
  |                                                                            
  |==============                                                        |  20%
  |                                                                            
  |=====================                                                 |  30%
  |                                                                            
  |============================                                          |  40%
  |                                                                            
  |===================================                                   |  50%
  |                                                                            
  |==========================================                            |  60%
  |                                                                            
  |=================================================                     |  70%
  |                                                                            
  |========================================================              |  80%
  |                                                                            
  |===============================================================       |  90%
  |                                                                            
  |======================================================================| 100%
INFO  [2023-10-15 23:10:24] Summarizing for Run : 161117_SILAC_HeLa_UPS1_TMT10_Mixture3_03raw ( 15  of  15 )
  |                                                                            
  |                                                                      |   0%
  |                                                                            
  |=======                                                               |  10%
  |                                                                            
  |==============                                                        |  20%
  |                                                                            
  |=====================                                                 |  30%
  |                                                                            
  |============================                                          |  40%
  |                                                                            
  |===================================                                   |  50%
  |                                                                            
  |==========================================                            |  60%
  |                                                                            
  |=================================================                     |  70%
  |                                                                            
  |========================================================              |  80%
  |                                                                            
  |===============================================================       |  90%
  |                                                                            
  |======================================================================| 100%
INFO  [2023-10-15 23:10:25] ** Protein-level summarization done by MSstats.
INFO  [2023-10-15 23:10:25] ** MSstatsTMT - proteinSummarization function
INFO  [2023-10-15 23:10:25] ** MSstatsTMT - proteinSummarization function
INFO  [2023-10-15 23:10:25] ** MSstatsTMT - proteinSummarization function
INFO  [2023-10-15 23:10:25] ** MSstatsTMT - proteinSummarization function
INFO  [2023-10-15 23:10:25] ** MSstatsTMT - proteinSummarization function
INFO  [2023-10-15 23:10:25] ** MSstatsTMT - proteinSummarization function
INFO  [2023-10-15 23:10:25] ** MSstatsTMT - proteinSummarization function
INFO  [2023-10-15 23:10:25] ** MSstatsTMT - proteinSummarization function
INFO  [2023-10-15 23:10:25] ** MSstatsTMT - proteinSummarization function
INFO  [2023-10-15 23:10:25] ** MSstatsTMT - proteinSummarization function
INFO  [2023-10-15 23:10:25] ** MSstatsTMT - proteinSummarization function
INFO  [2023-10-15 23:10:25] ** MSstatsTMT - proteinSummarization function
INFO  [2023-10-15 23:10:25] ** MSstatsTMT - proteinSummarization function
INFO  [2023-10-15 23:10:25] ** MSstatsTMT - proteinSummarization function
INFO  [2023-10-15 23:10:25] ** MSstatsTMT - proteinSummarization function
INFO  [2023-10-15 23:10:25] Summarizing for Run : 161117_SILAC_HeLa_UPS1_TMT10_Mixture1_01raw ( 1  of  15 )
[ FAIL 0 | WARN 0 | SKIP 0 | PASS 27 ]
> 
> proc.time()
   user  system elapsed 
  9.863   0.393   9.015 
MSstatsTMT.Rcheck/MSstatsTMT-Ex.timings
| name | user | system | elapsed | |
| MaxQtoMSstatsTMTFormat | 0.441 | 0.065 | 0.397 | |
| OpenMStoMSstatsTMTFormat | 0.120 | 0.000 | 0.115 | |
| PDtoMSstatsTMTFormat | 1.834 | 0.044 | 1.701 | |
| SpectroMinetoMSstatsTMTFormat | 0.221 | 0.000 | 0.215 | |
| annotation.mine | 0.000 | 0.002 | 0.002 | |
| annotation.mq | 0.000 | 0.001 | 0.002 | |
| annotation.pd | 0.000 | 0.002 | 0.002 | |
| dataProcessPlotsTMT | 32.269 | 0.464 | 31.512 | |
| evidence | 0.005 | 0.008 | 0.013 | |
| groupComparisonTMT | 6.214 | 0.124 | 5.203 | |
| input.pd | 0.029 | 0.004 | 0.034 | |
| proteinGroups | 0.038 | 0.035 | 0.074 | |
| proteinSummarization | 4.075 | 0.068 | 3.109 | |
| quant.pd.msstats | 0.045 | 0.004 | 0.047 | |
| raw.mine | 0.006 | 0.000 | 0.006 | |
| raw.om | 0.003 | 0.000 | 0.003 | |
| raw.pd | 0.003 | 0.004 | 0.006 | |
| test.pairwise | 0.000 | 0.002 | 0.002 | |