| Back to Multiple platform build/check report for BioC 3.17: simplified long |
|
This page was generated on 2023-10-16 11:37:16 -0400 (Mon, 16 Oct 2023).
| Hostname | OS | Arch (*) | R version | Installed pkgs |
|---|---|---|---|---|
| nebbiolo1 | Linux (Ubuntu 22.04.2 LTS) | x86_64 | 4.3.1 (2023-06-16) -- "Beagle Scouts" | 4626 |
| palomino3 | Windows Server 2022 Datacenter | x64 | 4.3.1 (2023-06-16 ucrt) -- "Beagle Scouts" | 4379 |
| merida1 | macOS 12.6.4 Monterey | x86_64 | 4.3.1 (2023-06-16) -- "Beagle Scouts" | 4395 |
| Click on any hostname to see more info about the system (e.g. compilers) (*) as reported by 'uname -p', except on Windows and Mac OS X | ||||
| Package 1293/2230 | Hostname | OS / Arch | INSTALL | BUILD | CHECK | BUILD BIN | ||||||||
| MSA2dist 1.4.0 (landing page) Kristian K Ullrich
| nebbiolo1 | Linux (Ubuntu 22.04.2 LTS) / x86_64 | OK | OK | OK | |||||||||
| palomino3 | Windows Server 2022 Datacenter / x64 | OK | OK | OK | OK | |||||||||
| merida1 | macOS 12.6.4 Monterey / x86_64 | OK | OK | OK | OK | |||||||||
| kjohnson2 | macOS 12.6.1 Monterey / arm64 | see weekly results here | ||||||||||||
|
To the developers/maintainers of the MSA2dist package: - Allow up to 24 hours (and sometimes 48 hours) for your latest push to git@git.bioconductor.org:packages/MSA2dist.git to reflect on this report. See Troubleshooting Build Report for more information. - Use the following Renviron settings to reproduce errors and warnings. - If 'R CMD check' started to fail recently on the Linux builder(s) over a missing dependency, add the missing dependency to 'Suggests:' in your DESCRIPTION file. See Renviron.bioc for more information. |
| Package: MSA2dist |
| Version: 1.4.0 |
| Command: /Library/Frameworks/R.framework/Resources/bin/R CMD check --install=check:MSA2dist.install-out.txt --library=/Library/Frameworks/R.framework/Resources/library --no-vignettes --timings MSA2dist_1.4.0.tar.gz |
| StartedAt: 2023-10-16 04:15:48 -0400 (Mon, 16 Oct 2023) |
| EndedAt: 2023-10-16 04:24:01 -0400 (Mon, 16 Oct 2023) |
| EllapsedTime: 492.5 seconds |
| RetCode: 0 |
| Status: OK |
| CheckDir: MSA2dist.Rcheck |
| Warnings: 0 |
##############################################################################
##############################################################################
###
### Running command:
###
### /Library/Frameworks/R.framework/Resources/bin/R CMD check --install=check:MSA2dist.install-out.txt --library=/Library/Frameworks/R.framework/Resources/library --no-vignettes --timings MSA2dist_1.4.0.tar.gz
###
##############################################################################
##############################################################################
* using log directory ‘/Users/biocbuild/bbs-3.17-bioc/meat/MSA2dist.Rcheck’
* using R version 4.3.1 (2023-06-16)
* using platform: x86_64-apple-darwin20 (64-bit)
* R was compiled by
Apple clang version 14.0.3 (clang-1403.0.22.14.1)
GNU Fortran (GCC) 12.2.0
* running under: macOS Monterey 12.6.4
* using session charset: UTF-8
* using option ‘--no-vignettes’
* checking for file ‘MSA2dist/DESCRIPTION’ ... OK
* checking extension type ... Package
* this is package ‘MSA2dist’ version ‘1.4.0’
* package encoding: UTF-8
* checking package namespace information ... OK
* checking package dependencies ... OK
* checking if this is a source package ... OK
* checking if there is a namespace ... OK
* checking for hidden files and directories ... OK
* checking for portable file names ... OK
* checking for sufficient/correct file permissions ... OK
* checking whether package ‘MSA2dist’ can be installed ... OK
* used C++ compiler: ‘Apple clang version 14.0.0 (clang-1400.0.29.202)’
* used SDK: ‘MacOSX11.3.sdk’
* checking C++ specification ... NOTE
Specified C++11: please drop specification unless essential
* checking installed package size ... OK
* checking package directory ... OK
* checking ‘build’ directory ... OK
* checking DESCRIPTION meta-information ... OK
* checking top-level files ... OK
* checking for left-over files ... OK
* checking index information ... OK
* checking package subdirectories ... OK
* checking R files for non-ASCII characters ... OK
* checking R files for syntax errors ... OK
* checking whether the package can be loaded ... OK
* checking whether the package can be loaded with stated dependencies ... OK
* checking whether the package can be unloaded cleanly ... OK
* checking whether the namespace can be loaded with stated dependencies ... OK
* checking whether the namespace can be unloaded cleanly ... OK
* checking dependencies in R code ... OK
* checking S3 generic/method consistency ... OK
* checking replacement functions ... OK
* checking foreign function calls ... OK
* checking R code for possible problems ... OK
* checking Rd files ... OK
* checking Rd metadata ... OK
* checking Rd cross-references ... OK
* checking for missing documentation entries ... OK
* checking for code/documentation mismatches ... OK
* checking Rd \usage sections ... OK
* checking Rd contents ... OK
* checking for unstated dependencies in examples ... OK
* checking contents of ‘data’ directory ... OK
* checking data for non-ASCII characters ... OK
* checking data for ASCII and uncompressed saves ... OK
* checking line endings in C/C++/Fortran sources/headers ... OK
* checking compiled code ... NOTE
Note: information on .o files is not available
* checking files in ‘vignettes’ ... OK
* checking examples ... OK
Examples with CPU (user + system) or elapsed time > 5s
user system elapsed
codonmat2xy 13.292 2.485 15.308
dnastring2kaks 2.725 1.376 8.153
* checking for unstated dependencies in ‘tests’ ... OK
* checking tests ...
Running ‘testthat.R’
OK
* checking for unstated dependencies in vignettes ... OK
* checking package vignettes in ‘inst/doc’ ... OK
* checking running R code from vignettes ... SKIPPED
* checking re-building of vignette outputs ... SKIPPED
* checking PDF version of manual ... OK
* DONE
Status: 2 NOTEs
See
‘/Users/biocbuild/bbs-3.17-bioc/meat/MSA2dist.Rcheck/00check.log’
for details.
MSA2dist.Rcheck/00install.out
############################################################################## ############################################################################## ### ### Running command: ### ### /Library/Frameworks/R.framework/Resources/bin/R CMD INSTALL MSA2dist ### ############################################################################## ############################################################################## * installing to library ‘/Library/Frameworks/R.framework/Versions/4.3-x86_64/Resources/library’ * installing *source* package ‘MSA2dist’ ... ** using staged installation ** libs using C++ compiler: ‘Apple clang version 14.0.0 (clang-1400.0.29.202)’ using C++11 using SDK: ‘MacOSX11.3.sdk’ clang++ -arch x86_64 -std=gnu++11 -I"/Library/Frameworks/R.framework/Resources/include" -DNDEBUG -I'/Library/Frameworks/R.framework/Versions/4.3-x86_64/Resources/library/Rcpp/include' -I'/Library/Frameworks/R.framework/Versions/4.3-x86_64/Resources/library/RcppThread/include' -I/opt/R/x86_64/include -fPIC -falign-functions=64 -Wall -g -O2 -c GY94.cpp -o GY94.o clang++ -arch x86_64 -std=gnu++11 -I"/Library/Frameworks/R.framework/Resources/include" -DNDEBUG -I'/Library/Frameworks/R.framework/Versions/4.3-x86_64/Resources/library/Rcpp/include' -I'/Library/Frameworks/R.framework/Versions/4.3-x86_64/Resources/library/RcppThread/include' -I/opt/R/x86_64/include -fPIC -falign-functions=64 -Wall -g -O2 -c KaKs.cpp -o KaKs.o clang++ -arch x86_64 -std=gnu++11 -I"/Library/Frameworks/R.framework/Resources/include" -DNDEBUG -I'/Library/Frameworks/R.framework/Versions/4.3-x86_64/Resources/library/Rcpp/include' -I'/Library/Frameworks/R.framework/Versions/4.3-x86_64/Resources/library/RcppThread/include' -I/opt/R/x86_64/include -fPIC -falign-functions=64 -Wall -g -O2 -c LPB93.cpp -o LPB93.o clang++ -arch x86_64 -std=gnu++11 -I"/Library/Frameworks/R.framework/Resources/include" -DNDEBUG -I'/Library/Frameworks/R.framework/Versions/4.3-x86_64/Resources/library/Rcpp/include' -I'/Library/Frameworks/R.framework/Versions/4.3-x86_64/Resources/library/RcppThread/include' -I/opt/R/x86_64/include -fPIC -falign-functions=64 -Wall -g -O2 -c LWL85.cpp -o LWL85.o clang++ -arch x86_64 -std=gnu++11 -I"/Library/Frameworks/R.framework/Resources/include" -DNDEBUG -I'/Library/Frameworks/R.framework/Versions/4.3-x86_64/Resources/library/Rcpp/include' -I'/Library/Frameworks/R.framework/Versions/4.3-x86_64/Resources/library/RcppThread/include' -I/opt/R/x86_64/include -fPIC -falign-functions=64 -Wall -g -O2 -c MSMA.cpp -o MSMA.o clang++ -arch x86_64 -std=gnu++11 -I"/Library/Frameworks/R.framework/Resources/include" -DNDEBUG -I'/Library/Frameworks/R.framework/Versions/4.3-x86_64/Resources/library/Rcpp/include' -I'/Library/Frameworks/R.framework/Versions/4.3-x86_64/Resources/library/RcppThread/include' -I/opt/R/x86_64/include -fPIC -falign-functions=64 -Wall -g -O2 -c MYN.cpp -o MYN.o clang++ -arch x86_64 -std=gnu++11 -I"/Library/Frameworks/R.framework/Resources/include" -DNDEBUG -I'/Library/Frameworks/R.framework/Versions/4.3-x86_64/Resources/library/Rcpp/include' -I'/Library/Frameworks/R.framework/Versions/4.3-x86_64/Resources/library/RcppThread/include' -I/opt/R/x86_64/include -fPIC -falign-functions=64 -Wall -g -O2 -c NG86.cpp -o NG86.o clang++ -arch x86_64 -std=gnu++11 -I"/Library/Frameworks/R.framework/Resources/include" -DNDEBUG -I'/Library/Frameworks/R.framework/Versions/4.3-x86_64/Resources/library/Rcpp/include' -I'/Library/Frameworks/R.framework/Versions/4.3-x86_64/Resources/library/RcppThread/include' -I/opt/R/x86_64/include -fPIC -falign-functions=64 -Wall -g -O2 -c RcppExports.cpp -o RcppExports.o clang++ -arch x86_64 -std=gnu++11 -I"/Library/Frameworks/R.framework/Resources/include" -DNDEBUG -I'/Library/Frameworks/R.framework/Versions/4.3-x86_64/Resources/library/Rcpp/include' -I'/Library/Frameworks/R.framework/Versions/4.3-x86_64/Resources/library/RcppThread/include' -I/opt/R/x86_64/include -fPIC -falign-functions=64 -Wall -g -O2 -c YN00.cpp -o YN00.o clang++ -arch x86_64 -std=gnu++11 -I"/Library/Frameworks/R.framework/Resources/include" -DNDEBUG -I'/Library/Frameworks/R.framework/Versions/4.3-x86_64/Resources/library/Rcpp/include' -I'/Library/Frameworks/R.framework/Versions/4.3-x86_64/Resources/library/RcppThread/include' -I/opt/R/x86_64/include -fPIC -falign-functions=64 -Wall -g -O2 -c base.cpp -o base.o clang++ -arch x86_64 -std=gnu++11 -I"/Library/Frameworks/R.framework/Resources/include" -DNDEBUG -I'/Library/Frameworks/R.framework/Versions/4.3-x86_64/Resources/library/Rcpp/include' -I'/Library/Frameworks/R.framework/Versions/4.3-x86_64/Resources/library/RcppThread/include' -I/opt/R/x86_64/include -fPIC -falign-functions=64 -Wall -g -O2 -c rcpp_KaKs.cpp -o rcpp_KaKs.o clang++ -arch x86_64 -std=gnu++11 -I"/Library/Frameworks/R.framework/Resources/include" -DNDEBUG -I'/Library/Frameworks/R.framework/Versions/4.3-x86_64/Resources/library/Rcpp/include' -I'/Library/Frameworks/R.framework/Versions/4.3-x86_64/Resources/library/RcppThread/include' -I/opt/R/x86_64/include -fPIC -falign-functions=64 -Wall -g -O2 -c rcpp_distSTRING.cpp -o rcpp_distSTRING.o clang++ -arch x86_64 -std=gnu++11 -I"/Library/Frameworks/R.framework/Resources/include" -DNDEBUG -I'/Library/Frameworks/R.framework/Versions/4.3-x86_64/Resources/library/Rcpp/include' -I'/Library/Frameworks/R.framework/Versions/4.3-x86_64/Resources/library/RcppThread/include' -I/opt/R/x86_64/include -fPIC -falign-functions=64 -Wall -g -O2 -c rcpp_pairwiseDeletionAA.cpp -o rcpp_pairwiseDeletionAA.o clang++ -arch x86_64 -std=gnu++11 -I"/Library/Frameworks/R.framework/Resources/include" -DNDEBUG -I'/Library/Frameworks/R.framework/Versions/4.3-x86_64/Resources/library/Rcpp/include' -I'/Library/Frameworks/R.framework/Versions/4.3-x86_64/Resources/library/RcppThread/include' -I/opt/R/x86_64/include -fPIC -falign-functions=64 -Wall -g -O2 -c rcpp_pairwiseDeletionDNA.cpp -o rcpp_pairwiseDeletionDNA.o clang++ -arch x86_64 -std=gnu++11 -dynamiclib -Wl,-headerpad_max_install_names -undefined dynamic_lookup -single_module -multiply_defined suppress -L/Library/Frameworks/R.framework/Resources/lib -L/opt/R/x86_64/lib -o MSA2dist.so GY94.o KaKs.o LPB93.o LWL85.o MSMA.o MYN.o NG86.o RcppExports.o YN00.o base.o rcpp_KaKs.o rcpp_distSTRING.o rcpp_pairwiseDeletionAA.o rcpp_pairwiseDeletionDNA.o -F/Library/Frameworks/R.framework/.. -framework R -Wl,-framework -Wl,CoreFoundation installing to /Library/Frameworks/R.framework/Versions/4.3-x86_64/Resources/library/00LOCK-MSA2dist/00new/MSA2dist/libs ** R ** data ** byte-compile and prepare package for lazy loading ** help *** installing help indices *** copying figures ** building package indices ** installing vignettes ** testing if installed package can be loaded from temporary location ** checking absolute paths in shared objects and dynamic libraries ** testing if installed package can be loaded from final location ** testing if installed package keeps a record of temporary installation path * DONE (MSA2dist)
MSA2dist.Rcheck/tests/testthat.Rout
R version 4.3.1 (2023-06-16) -- "Beagle Scouts"
Copyright (C) 2023 The R Foundation for Statistical Computing
Platform: x86_64-apple-darwin20 (64-bit)
R is free software and comes with ABSOLUTELY NO WARRANTY.
You are welcome to redistribute it under certain conditions.
Type 'license()' or 'licence()' for distribution details.
R is a collaborative project with many contributors.
Type 'contributors()' for more information and
'citation()' on how to cite R or R packages in publications.
Type 'demo()' for some demos, 'help()' for on-line help, or
'help.start()' for an HTML browser interface to help.
Type 'q()' to quit R.
> library(testthat)
> library(MSA2dist)
>
> test_check("MSA2dist")
Computing: [========================================] 100% (done)
Computing: [========================================] 100% (done)
Computing: [========================================] 100% (done)
Computing: [========================================] 100% (done)
Computing: [========================================] 100% (done)
Computing: [========================================] 100% (done)
Computing: [========================================] 100% (done)
Computing: [========================================] 100% (done)
Computing: [========================================] 100% (done)
Computing: [========================================] 100% (done)
Computing: [========================================] 100% (done)
Computing: [========================================] 100% (done)
Computing: [========================================] 100% (done)
Computing: [========================================] 100% (done)
Computing: [========================================] 100% (done)
[ FAIL 0 | WARN 0 | SKIP 0 | PASS 107 ]
>
> proc.time()
user system elapsed
132.091 15.344 182.617
MSA2dist.Rcheck/MSA2dist-Ex.timings
| name | user | system | elapsed | |
| AAMatrix-data | 0.004 | 0.002 | 0.009 | |
| GENETIC_CODE_TCAG | 0.007 | 0.007 | 0.019 | |
| aabin2aastring | 0.131 | 0.005 | 0.179 | |
| aastring2aabin | 0.669 | 0.011 | 0.911 | |
| aastring2aln | 0.340 | 0.007 | 0.480 | |
| aastring2dist | 1.598 | 0.053 | 2.145 | |
| addmask2string | 0.485 | 0.025 | 0.673 | |
| addpop2string | 0.735 | 0.013 | 0.966 | |
| addpos2string | 0.159 | 0.012 | 0.215 | |
| addregion2string | 0.440 | 0.010 | 0.599 | |
| aln2aastring | 0.679 | 0.011 | 0.864 | |
| aln2dnastring | 0.043 | 0.002 | 0.065 | |
| cds2aa | 1.048 | 0.105 | 1.480 | |
| cds2codonaln | 0.900 | 0.024 | 1.190 | |
| codon2numberAMBIG | 0.001 | 0.003 | 0.003 | |
| codon2numberTCAG | 0.002 | 0.002 | 0.007 | |
| codonmat2pnps | 0.080 | 0.004 | 0.113 | |
| codonmat2xy | 13.292 | 2.485 | 15.308 | |
| compareCodons | 0.110 | 0.014 | 0.163 | |
| dnabin2dnastring | 0.064 | 0.011 | 0.086 | |
| dnastring2aln | 0.031 | 0.005 | 0.043 | |
| dnastring2codonmat | 0.098 | 0.012 | 0.136 | |
| dnastring2dist | 0.384 | 0.085 | 0.585 | |
| dnastring2dnabin | 0.032 | 0.005 | 0.049 | |
| dnastring2kaks | 2.725 | 1.376 | 8.153 | |
| getmask | 3.237 | 0.826 | 0.611 | |
| getpos | 0.129 | 0.018 | 0.176 | |
| globalDeletion | 0.046 | 0.007 | 0.069 | |
| granthamMatrix | 0.003 | 0.008 | 0.014 | |
| hiv-data | 0.050 | 0.005 | 0.072 | |
| iupac-data | 0.108 | 0.011 | 0.151 | |
| iupacMatrix | 0.002 | 0.005 | 0.012 | |
| makePostalignedSeqs | 1.047 | 0.080 | 1.442 | |
| popinteger | 0.402 | 0.012 | 0.532 | |
| popnames | 0.396 | 0.016 | 0.535 | |
| rcpp_KaKs | 0.124 | 0.017 | 0.181 | |
| rcpp_distSTRING | 0.056 | 0.013 | 0.087 | |
| rcpp_pairwiseDeletionAA | 0.330 | 0.012 | 0.434 | |
| rcpp_pairwiseDeletionDNA | 0.025 | 0.005 | 0.036 | |
| region | 0.382 | 0.012 | 0.477 | |
| regionused | 0.403 | 0.017 | 0.519 | |
| string2region | 1.027 | 0.020 | 1.289 | |
| subString | 0.050 | 0.006 | 0.065 | |
| uptriidx | 0.001 | 0.001 | 0.003 | |