| Back to Multiple platform build/check report for BioC 3.17: simplified long |
|
This page was generated on 2023-10-16 11:37:16 -0400 (Mon, 16 Oct 2023).
| Hostname | OS | Arch (*) | R version | Installed pkgs |
|---|---|---|---|---|
| nebbiolo1 | Linux (Ubuntu 22.04.2 LTS) | x86_64 | 4.3.1 (2023-06-16) -- "Beagle Scouts" | 4626 |
| palomino3 | Windows Server 2022 Datacenter | x64 | 4.3.1 (2023-06-16 ucrt) -- "Beagle Scouts" | 4379 |
| merida1 | macOS 12.6.4 Monterey | x86_64 | 4.3.1 (2023-06-16) -- "Beagle Scouts" | 4395 |
| Click on any hostname to see more info about the system (e.g. compilers) (*) as reported by 'uname -p', except on Windows and Mac OS X | ||||
| Package 1270/2230 | Hostname | OS / Arch | INSTALL | BUILD | CHECK | BUILD BIN | ||||||||
| MOFA2 1.10.0 (landing page) Ricard Argelaguet
| nebbiolo1 | Linux (Ubuntu 22.04.2 LTS) / x86_64 | OK | OK | OK | |||||||||
| palomino3 | Windows Server 2022 Datacenter / x64 | OK | OK | OK | OK | |||||||||
| merida1 | macOS 12.6.4 Monterey / x86_64 | OK | OK | OK | OK | |||||||||
| kjohnson2 | macOS 12.6.1 Monterey / arm64 | see weekly results here | ||||||||||||
|
To the developers/maintainers of the MOFA2 package: - Allow up to 24 hours (and sometimes 48 hours) for your latest push to git@git.bioconductor.org:packages/MOFA2.git to reflect on this report. See Troubleshooting Build Report for more information. - Use the following Renviron settings to reproduce errors and warnings. - If 'R CMD check' started to fail recently on the Linux builder(s) over a missing dependency, add the missing dependency to 'Suggests:' in your DESCRIPTION file. See Renviron.bioc for more information. |
| Package: MOFA2 |
| Version: 1.10.0 |
| Command: /Library/Frameworks/R.framework/Resources/bin/R CMD check --install=check:MOFA2.install-out.txt --library=/Library/Frameworks/R.framework/Resources/library --no-vignettes --timings MOFA2_1.10.0.tar.gz |
| StartedAt: 2023-10-16 04:07:17 -0400 (Mon, 16 Oct 2023) |
| EndedAt: 2023-10-16 04:15:23 -0400 (Mon, 16 Oct 2023) |
| EllapsedTime: 485.8 seconds |
| RetCode: 0 |
| Status: OK |
| CheckDir: MOFA2.Rcheck |
| Warnings: 0 |
##############################################################################
##############################################################################
###
### Running command:
###
### /Library/Frameworks/R.framework/Resources/bin/R CMD check --install=check:MOFA2.install-out.txt --library=/Library/Frameworks/R.framework/Resources/library --no-vignettes --timings MOFA2_1.10.0.tar.gz
###
##############################################################################
##############################################################################
* using log directory ‘/Users/biocbuild/bbs-3.17-bioc/meat/MOFA2.Rcheck’
* using R version 4.3.1 (2023-06-16)
* using platform: x86_64-apple-darwin20 (64-bit)
* R was compiled by
Apple clang version 14.0.3 (clang-1403.0.22.14.1)
GNU Fortran (GCC) 12.2.0
* running under: macOS Monterey 12.6.4
* using session charset: UTF-8
* using option ‘--no-vignettes’
* checking for file ‘MOFA2/DESCRIPTION’ ... OK
* checking extension type ... Package
* this is package ‘MOFA2’ version ‘1.10.0’
* package encoding: UTF-8
* checking package namespace information ... OK
* checking package dependencies ... OK
* checking if this is a source package ... OK
* checking if there is a namespace ... OK
* checking for hidden files and directories ... OK
* checking for portable file names ... OK
* checking for sufficient/correct file permissions ... OK
* checking whether package ‘MOFA2’ can be installed ... NOTE
Found the following notes/warnings:
Non-staged installation was used
See ‘/Users/biocbuild/bbs-3.17-bioc/meat/MOFA2.Rcheck/00install.out’ for details.
* checking installed package size ... OK
* checking package directory ... OK
* checking ‘build’ directory ... OK
* checking DESCRIPTION meta-information ... OK
* checking top-level files ... OK
* checking for left-over files ... OK
* checking index information ... OK
* checking package subdirectories ... OK
* checking R files for non-ASCII characters ... OK
* checking R files for syntax errors ... OK
* checking whether the package can be loaded ... OK
* checking whether the package can be loaded with stated dependencies ... OK
* checking whether the package can be unloaded cleanly ... OK
* checking whether the namespace can be loaded with stated dependencies ... OK
* checking whether the namespace can be unloaded cleanly ... OK
* checking dependencies in R code ... OK
* checking S3 generic/method consistency ... OK
* checking replacement functions ... OK
* checking foreign function calls ... OK
* checking R code for possible problems ... NOTE
.plot_factors_vs_cov_1d: no visible binding for global variable
‘value.factor’
.plot_factors_vs_cov_1d: no visible binding for global variable
‘value_scaled’
.plot_factors_vs_cov_1d: no visible binding for global variable
‘value.covariate’
.plot_factors_vs_cov_1d: no visible binding for global variable ‘value’
.plot_factors_vs_cov_2d: no visible binding for global variable
‘value.factor’
.set_xax: no visible binding for global variable ‘value’
add_mofa_factors_to_seurat: no visible global function definition for
‘CreateDimReducObject’
create_mofa_from_SingleCellExperiment: no visible global function
definition for ‘colData’
get_interpolated_factors: no visible binding for global variable ‘L1’
get_interpolated_factors: no visible binding for global variable ‘L2’
get_interpolated_factors: no visible binding for global variable
‘value’
get_interpolated_factors: no visible binding for global variable
‘covariate’
get_interpolated_factors: no visible binding for global variable
‘covariate_value’
get_interpolated_factors: no visible binding for global variable
‘sample_id’
interpolate_factors: no visible binding for global variable ‘.’
plot_alignment: no visible binding for global variable ‘group’
plot_alignment: no visible binding for global variable ‘value.warped’
plot_alignment: no visible binding for global variable
‘value.unaligned’
plot_contribution_scores: no visible binding for global variable ‘view’
plot_data_overview: no visible binding for global variable ‘view’
plot_data_overview: no visible binding for global variable ‘ptotal’
plot_data_overview: no visible binding for global variable ‘ntotal’
plot_data_overview: no visible binding for global variable ‘group’
plot_data_overview: no visible binding for global variable
‘group_label’
plot_dimred: no visible binding for global variable ‘.’
plot_enrichment_detailed: no visible binding for global variable
‘pathway’
plot_enrichment_detailed: no visible binding for global variable
‘feature.statistic’
plot_factors_vs_cov: no visible binding for global variable ‘E2’
plot_factors_vs_cov: no visible binding for global variable ‘value’
plot_interpolation_vs_covariate: no visible binding for global variable
‘variance’
plot_interpolation_vs_covariate: no visible binding for global variable
‘group’
plot_interpolation_vs_covariate: no visible binding for global variable
‘value.covariate’
plot_interpolation_vs_covariate: no visible binding for global variable
‘value.factor’
plot_interpolation_vs_covariate: no visible binding for global variable
‘ymin’
plot_interpolation_vs_covariate: no visible binding for global variable
‘ymax’
plot_sharedness: no visible binding for global variable ‘sharedness’
plot_sharedness: no visible binding for global variable ‘value’
plot_smoothness: no visible binding for global variable ‘value’
plot_smoothness: no visible binding for global variable ‘smoothness’
plot_top_weights: no visible binding for global variable ‘value’
plot_weights: no visible binding for global variable ‘value’
plot_weights: no visible binding for global variable ‘.’
summarise_factors: no visible binding for global variable ‘value’
summarise_factors: no visible binding for global variable ‘level’
summarise_factors: no visible binding for global variable ‘group’
Undefined global functions or variables:
. CreateDimReducObject E2 L1 L2 colData covariate covariate_value
feature.statistic group group_label level ntotal pathway ptotal
sample_id sharedness smoothness value value.covariate value.factor
value.unaligned value.warped value_scaled variance view ymax ymin
* checking Rd files ... OK
* checking Rd metadata ... OK
* checking Rd cross-references ... NOTE
Package unavailable to check Rd xrefs: ‘PCGSE’
* checking for missing documentation entries ... OK
* checking for code/documentation mismatches ... OK
* checking Rd \usage sections ... OK
* checking Rd contents ... OK
* checking for unstated dependencies in examples ... OK
* checking line endings in shell scripts ... OK
* checking files in ‘vignettes’ ... OK
* checking examples ... OK
Examples with CPU (user + system) or elapsed time > 5s
user system elapsed
plot_dimred 5.240 0.083 7.025
plot_weights 4.309 0.073 5.902
calculate_variance_explained 3.638 0.282 5.780
* checking for unstated dependencies in ‘tests’ ... OK
* checking tests ...
Running ‘testthat.R’
OK
* checking for unstated dependencies in vignettes ... OK
* checking package vignettes in ‘inst/doc’ ... OK
* checking running R code from vignettes ... SKIPPED
* checking re-building of vignette outputs ... SKIPPED
* checking PDF version of manual ... OK
* DONE
Status: 3 NOTEs
See
‘/Users/biocbuild/bbs-3.17-bioc/meat/MOFA2.Rcheck/00check.log’
for details.
MOFA2.Rcheck/00install.out
############################################################################## ############################################################################## ### ### Running command: ### ### /Library/Frameworks/R.framework/Resources/bin/R CMD INSTALL MOFA2 ### ############################################################################## ############################################################################## * installing to library ‘/Library/Frameworks/R.framework/Versions/4.3-x86_64/Resources/library’ * installing *source* package ‘MOFA2’ ... ** using non-staged installation via StagedInstall field ** R ** inst ** byte-compile and prepare package for lazy loading Creating a generic function for ‘rownames’ from package ‘base’ in package ‘MOFA2’ Creating a generic function for ‘colnames’ from package ‘base’ in package ‘MOFA2’ Creating a generic function for ‘nrow’ from package ‘base’ in package ‘MOFA2’ Creating a generic function for ‘ncol’ from package ‘base’ in package ‘MOFA2’ Creating a generic function for ‘rownames<-’ from package ‘base’ in package ‘MOFA2’ Creating a generic function for ‘colnames<-’ from package ‘base’ in package ‘MOFA2’ ** help *** installing help indices ** building package indices ** installing vignettes ** testing if installed package can be loaded * DONE (MOFA2)
MOFA2.Rcheck/tests/testthat.Rout
R version 4.3.1 (2023-06-16) -- "Beagle Scouts"
Copyright (C) 2023 The R Foundation for Statistical Computing
Platform: x86_64-apple-darwin20 (64-bit)
R is free software and comes with ABSOLUTELY NO WARRANTY.
You are welcome to redistribute it under certain conditions.
Type 'license()' or 'licence()' for distribution details.
R is a collaborative project with many contributors.
Type 'contributors()' for more information and
'citation()' on how to cite R or R packages in publications.
Type 'demo()' for some demos, 'help()' for on-line help, or
'help.start()' for an HTML browser interface to help.
Type 'q()' to quit R.
> library(testthat)
> library(MOFA2)
Attaching package: 'MOFA2'
The following object is masked from 'package:stats':
predict
>
> test_check("MOFA2")
single_group
100
____________
| |
view_0 1000 | 100% |
|____________|
____________
| |
view_1 1000 | 100% |
|____________|
[ FAIL 0 | WARN 0 | SKIP 0 | PASS 25 ]
>
> proc.time()
user system elapsed
19.673 1.371 30.050
MOFA2.Rcheck/MOFA2-Ex.timings
| name | user | system | elapsed | |
| add_mofa_factors_to_seurat | 0.009 | 0.001 | 0.011 | |
| calculate_contribution_scores | 0.397 | 0.040 | 2.582 | |
| calculate_variance_explained | 3.638 | 0.282 | 5.780 | |
| calculate_variance_explained_per_sample | 0.360 | 0.029 | 0.530 | |
| cluster_samples | 0.844 | 0.030 | 1.196 | |
| compare_elbo | 1.123 | 0.050 | 1.607 | |
| compare_factors | 0.734 | 0.045 | 1.091 | |
| covariates_names | 0.452 | 0.048 | 1.863 | |
| create_mofa | 0.995 | 0.069 | 1.592 | |
| create_mofa_from_df | 0.969 | 0.046 | 1.341 | |
| create_mofa_from_matrix | 0.023 | 0.000 | 0.023 | |
| factors_names | 0.332 | 0.023 | 0.426 | |
| features_metadata | 0.850 | 0.145 | 1.359 | |
| features_names | 0.348 | 0.094 | 0.678 | |
| get_covariates | 0.436 | 0.025 | 0.624 | |
| get_data | 0.813 | 0.045 | 1.186 | |
| get_default_data_options | 1.014 | 0.047 | 1.446 | |
| get_default_mefisto_options | 0.235 | 0.010 | 0.308 | |
| get_default_model_options | 1.434 | 0.043 | 2.062 | |
| get_default_stochastic_options | 0.951 | 0.045 | 1.414 | |
| get_default_training_options | 0.985 | 0.042 | 1.352 | |
| get_dimensions | 0.327 | 0.017 | 0.465 | |
| get_elbo | 0.339 | 0.025 | 0.495 | |
| get_expectations | 0.335 | 0.017 | 0.479 | |
| get_factors | 0.343 | 0.017 | 0.491 | |
| get_imputed_data | 0.367 | 0.027 | 0.537 | |
| get_lengthscales | 0.450 | 0.024 | 0.649 | |
| get_scales | 0.438 | 0.022 | 0.625 | |
| get_variance_explained | 0.332 | 0.017 | 0.455 | |
| get_weights | 0.386 | 0.021 | 0.536 | |
| groups_names | 0.328 | 0.018 | 0.460 | |
| impute | 0.356 | 0.021 | 0.490 | |
| interpolate_factors | 0.509 | 0.028 | 0.770 | |
| load_model | 0.324 | 0.017 | 0.506 | |
| make_example_data | 0.005 | 0.001 | 0.010 | |
| plot_ascii_data | 0.348 | 0.020 | 0.530 | |
| plot_data_heatmap | 0.426 | 0.022 | 0.641 | |
| plot_data_overview | 0.681 | 0.029 | 0.889 | |
| plot_data_scatter | 3.037 | 0.074 | 4.098 | |
| plot_data_vs_cov | 1.112 | 0.028 | 1.455 | |
| plot_dimred | 5.240 | 0.083 | 7.025 | |
| plot_factor | 2.420 | 0.041 | 3.275 | |
| plot_factor_cor | 0.375 | 0.020 | 0.530 | |
| plot_factors | 1.258 | 0.025 | 1.691 | |
| plot_factors_vs_cov | 1.058 | 0.028 | 1.498 | |
| plot_group_kernel | 0.766 | 0.025 | 1.045 | |
| plot_interpolation_vs_covariate | 1.100 | 0.025 | 1.472 | |
| plot_smoothness | 0.489 | 0.021 | 0.657 | |
| plot_top_weights | 1.703 | 0.032 | 2.263 | |
| plot_variance_explained | 3.283 | 0.040 | 4.404 | |
| plot_variance_explained_by_covariates | 2.394 | 0.044 | 3.425 | |
| plot_variance_explained_per_feature | 0.749 | 0.021 | 1.110 | |
| plot_weights | 4.309 | 0.073 | 5.902 | |
| plot_weights_heatmap | 0.727 | 0.032 | 1.018 | |
| plot_weights_scatter | 0.719 | 0.031 | 1.072 | |
| predict | 0.335 | 0.016 | 0.468 | |
| prepare_mofa | 1.044 | 0.038 | 1.528 | |
| run_mofa | 0.980 | 0.041 | 1.486 | |
| run_tsne | 0.330 | 0.023 | 0.543 | |
| run_umap | 0.349 | 0.027 | 0.529 | |
| samples_metadata | 0.347 | 0.033 | 0.588 | |
| samples_names | 0.339 | 0.027 | 0.525 | |
| set_covariates | 0.073 | 0.006 | 0.124 | |
| subset_factors | 0.362 | 0.022 | 0.566 | |
| subset_groups | 0.363 | 0.029 | 0.592 | |
| subset_samples | 0.342 | 0.021 | 0.526 | |
| subset_views | 0.356 | 0.024 | 0.551 | |
| views_names | 0.346 | 0.023 | 0.551 | |