| Back to Multiple platform build/check report for BioC 3.17: simplified long |
|
This page was generated on 2023-10-16 11:35:29 -0400 (Mon, 16 Oct 2023).
| Hostname | OS | Arch (*) | R version | Installed pkgs |
|---|---|---|---|---|
| nebbiolo1 | Linux (Ubuntu 22.04.2 LTS) | x86_64 | 4.3.1 (2023-06-16) -- "Beagle Scouts" | 4626 |
| palomino3 | Windows Server 2022 Datacenter | x64 | 4.3.1 (2023-06-16 ucrt) -- "Beagle Scouts" | 4379 |
| merida1 | macOS 12.6.4 Monterey | x86_64 | 4.3.1 (2023-06-16) -- "Beagle Scouts" | 4395 |
| Click on any hostname to see more info about the system (e.g. compilers) (*) as reported by 'uname -p', except on Windows and Mac OS X | ||||
| Package 1099/2230 | Hostname | OS / Arch | INSTALL | BUILD | CHECK | BUILD BIN | ||||||||
| MACSr 1.8.0 (landing page) Qiang Hu
| nebbiolo1 | Linux (Ubuntu 22.04.2 LTS) / x86_64 | OK | OK | OK | |||||||||
| palomino3 | Windows Server 2022 Datacenter / x64 | ... NOT SUPPORTED ... | ||||||||||||
| merida1 | macOS 12.6.4 Monterey / x86_64 | OK | OK | OK | OK | |||||||||
| kjohnson2 | macOS 12.6.1 Monterey / arm64 | see weekly results here | ||||||||||||
|
To the developers/maintainers of the MACSr package: - Allow up to 24 hours (and sometimes 48 hours) for your latest push to git@git.bioconductor.org:packages/MACSr.git to reflect on this report. See Troubleshooting Build Report for more information. - Use the following Renviron settings to reproduce errors and warnings. - If 'R CMD check' started to fail recently on the Linux builder(s) over a missing dependency, add the missing dependency to 'Suggests:' in your DESCRIPTION file. See Renviron.bioc for more information. |
| Package: MACSr |
| Version: 1.8.0 |
| Command: /home/biocbuild/bbs-3.17-bioc/R/bin/R CMD check --install=check:MACSr.install-out.txt --library=/home/biocbuild/bbs-3.17-bioc/R/site-library --timings MACSr_1.8.0.tar.gz |
| StartedAt: 2023-10-15 22:26:55 -0400 (Sun, 15 Oct 2023) |
| EndedAt: 2023-10-15 22:30:33 -0400 (Sun, 15 Oct 2023) |
| EllapsedTime: 217.3 seconds |
| RetCode: 0 |
| Status: OK |
| CheckDir: MACSr.Rcheck |
| Warnings: 0 |
##############################################################################
##############################################################################
###
### Running command:
###
### /home/biocbuild/bbs-3.17-bioc/R/bin/R CMD check --install=check:MACSr.install-out.txt --library=/home/biocbuild/bbs-3.17-bioc/R/site-library --timings MACSr_1.8.0.tar.gz
###
##############################################################################
##############################################################################
* using log directory ‘/home/biocbuild/bbs-3.17-bioc/meat/MACSr.Rcheck’
* using R version 4.3.1 (2023-06-16)
* using platform: x86_64-pc-linux-gnu (64-bit)
* R was compiled by
gcc (Ubuntu 11.3.0-1ubuntu1~22.04.1) 11.3.0
GNU Fortran (Ubuntu 11.3.0-1ubuntu1~22.04.1) 11.3.0
* running under: Ubuntu 22.04.3 LTS
* using session charset: UTF-8
* checking for file ‘MACSr/DESCRIPTION’ ... OK
* this is package ‘MACSr’ version ‘1.8.0’
* package encoding: UTF-8
* checking package namespace information ... OK
* checking package dependencies ... OK
* checking if this is a source package ... OK
* checking if there is a namespace ... OK
* checking for hidden files and directories ... NOTE
Found the following hidden files and directories:
.BBSoptions
These were most likely included in error. See section ‘Package
structure’ in the ‘Writing R Extensions’ manual.
* checking for portable file names ... OK
* checking for sufficient/correct file permissions ... OK
* checking whether package ‘MACSr’ can be installed ... NOTE
Found the following notes/warnings:
Non-staged installation was used
See ‘/home/biocbuild/bbs-3.17-bioc/meat/MACSr.Rcheck/00install.out’ for details.
* checking installed package size ... OK
* checking package directory ... OK
* checking ‘build’ directory ... OK
* checking DESCRIPTION meta-information ... OK
* checking top-level files ... OK
* checking for left-over files ... OK
* checking index information ... OK
* checking package subdirectories ... OK
* checking R files for non-ASCII characters ... OK
* checking R files for syntax errors ... OK
* checking whether the package can be loaded ... OK
* checking whether the package can be loaded with stated dependencies ... OK
* checking whether the package can be unloaded cleanly ... OK
* checking whether the namespace can be loaded with stated dependencies ... OK
* checking whether the namespace can be unloaded cleanly ... OK
* checking loading without being on the library search path ... OK
* checking dependencies in R code ... OK
* checking S3 generic/method consistency ... OK
* checking replacement functions ... OK
* checking foreign function calls ... OK
* checking R code for possible problems ... OK
* checking Rd files ... OK
* checking Rd metadata ... OK
* checking Rd cross-references ... OK
* checking for missing documentation entries ... OK
* checking for code/documentation mismatches ... OK
* checking Rd \usage sections ... OK
* checking Rd contents ... OK
* checking for unstated dependencies in examples ... OK
* checking line endings in shell scripts ... OK
* checking files in ‘vignettes’ ... OK
* checking examples ... OK
Examples with CPU (user + system) or elapsed time > 5s
user system elapsed
bdgbroadcall 6.648 0.999 8.003
bdgdiff 4.427 0.292 5.113
* checking for unstated dependencies in ‘tests’ ... OK
* checking tests ...
Running ‘testthat.R’
OK
* checking for unstated dependencies in vignettes ... OK
* checking package vignettes in ‘inst/doc’ ... OK
* checking running R code from vignettes ...
‘MACSr.Rmd’ using ‘UTF-8’... OK
NONE
* checking re-building of vignette outputs ... OK
* checking PDF version of manual ... OK
* DONE
Status: 2 NOTEs
See
‘/home/biocbuild/bbs-3.17-bioc/meat/MACSr.Rcheck/00check.log’
for details.
MACSr.Rcheck/00install.out
############################################################################## ############################################################################## ### ### Running command: ### ### /home/biocbuild/bbs-3.17-bioc/R/bin/R CMD INSTALL MACSr ### ############################################################################## ############################################################################## * installing to library ‘/home/biocbuild/bbs-3.17-bioc/R/site-library’ * installing *source* package ‘MACSr’ ... ** using non-staged installation via StagedInstall field ** R ** inst ** byte-compile and prepare package for lazy loading ** help *** installing help indices ** building package indices ** installing vignettes ** testing if installed package can be loaded * DONE (MACSr)
MACSr.Rcheck/tests/testthat.Rout
R version 4.3.1 (2023-06-16) -- "Beagle Scouts"
Copyright (C) 2023 The R Foundation for Statistical Computing
Platform: x86_64-pc-linux-gnu (64-bit)
R is free software and comes with ABSOLUTELY NO WARRANTY.
You are welcome to redistribute it under certain conditions.
Type 'license()' or 'licence()' for distribution details.
R is a collaborative project with many contributors.
Type 'contributors()' for more information and
'citation()' on how to cite R or R packages in publications.
Type 'demo()' for some demos, 'help()' for on-line help, or
'help.start()' for an HTML browser interface to help.
Type 'q()' to quit R.
> library(testthat)
> library(MACSr)
>
> test_check("MACSr")
INFO @ Sun, 15 Oct 2023 22:29:58:
# Command line:
# ARGUMENTS LIST:
# name = run_callpeak_narrow0
# format = BED
# ChIP-seq file = ['/home/biocbuild/.cache/R/ExperimentHub/d2ba2809f65a_4601']
# control file = ['/home/biocbuild/.cache/R/ExperimentHub/d2ba3a5ebf34_4606']
# effective genome size = 5.20e+07
# band width = 300
# model fold = [5.0, 50.0]
# qvalue cutoff = 5.00e-02
# The maximum gap between significant sites is assigned as the read length/tag size.
# The minimum length of peaks is assigned as the predicted fragment length "d".
# Larger dataset will be scaled towards smaller dataset.
# Range for calculating regional lambda is: 1000 bps and 10000 bps
# Broad region calling is off
# Additional cutoff on fold-enrichment is: 0.10
# Paired-End mode is off
INFO @ Sun, 15 Oct 2023 22:29:58: #1 read tag files...
INFO @ Sun, 15 Oct 2023 22:29:58: #1 read treatment tags...
INFO @ Sun, 15 Oct 2023 22:29:59: #1.2 read input tags...
INFO @ Sun, 15 Oct 2023 22:29:59: #1 tag size is determined as 101 bps
INFO @ Sun, 15 Oct 2023 22:29:59: #1 tag size = 101.0
INFO @ Sun, 15 Oct 2023 22:29:59: #1 total tags in treatment: 49622
INFO @ Sun, 15 Oct 2023 22:29:59: #1 user defined the maximum tags...
INFO @ Sun, 15 Oct 2023 22:29:59: #1 filter out redundant tags at the same location and the same strand by allowing at most 1 tag(s)
INFO @ Sun, 15 Oct 2023 22:29:59: #1 tags after filtering in treatment: 48047
INFO @ Sun, 15 Oct 2023 22:29:59: #1 Redundant rate of treatment: 0.03
INFO @ Sun, 15 Oct 2023 22:29:59: #1 total tags in control: 50837
INFO @ Sun, 15 Oct 2023 22:29:59: #1 user defined the maximum tags...
INFO @ Sun, 15 Oct 2023 22:29:59: #1 filter out redundant tags at the same location and the same strand by allowing at most 1 tag(s)
INFO @ Sun, 15 Oct 2023 22:29:59: #1 tags after filtering in control: 50783
INFO @ Sun, 15 Oct 2023 22:29:59: #1 Redundant rate of control: 0.00
INFO @ Sun, 15 Oct 2023 22:29:59: #1 finished!
INFO @ Sun, 15 Oct 2023 22:29:59: #2 Build Peak Model...
INFO @ Sun, 15 Oct 2023 22:29:59: #2 looking for paired plus/minus strand peaks...
INFO @ Sun, 15 Oct 2023 22:29:59: #2 Total number of paired peaks: 469
INFO @ Sun, 15 Oct 2023 22:29:59: #2 Model building with cross-correlation: Done
INFO @ Sun, 15 Oct 2023 22:29:59: #2 finished!
INFO @ Sun, 15 Oct 2023 22:29:59: #2 predicted fragment length is 228 bps
INFO @ Sun, 15 Oct 2023 22:29:59: #2 alternative fragment length(s) may be 228 bps
INFO @ Sun, 15 Oct 2023 22:29:59: #2.2 Generate R script for model : /tmp/Rtmp1bh1Zu/run_callpeak_narrow0_model.r
INFO @ Sun, 15 Oct 2023 22:29:59: #3 Call peaks...
INFO @ Sun, 15 Oct 2023 22:29:59: #3 Pre-compute pvalue-qvalue table...
INFO @ Sun, 15 Oct 2023 22:29:59: #3 Cutoff vs peaks called will be analyzed!
INFO @ Sun, 15 Oct 2023 22:29:59: #3 Analysis of cutoff vs num of peaks or total length has been saved in b'/tmp/Rtmp1bh1Zu/run_callpeak_narrow0_cutoff_analysis.txt'
INFO @ Sun, 15 Oct 2023 22:29:59: #3 In the peak calling step, the following will be performed simultaneously:
INFO @ Sun, 15 Oct 2023 22:29:59: #3 Write bedGraph files for treatment pileup (after scaling if necessary)... run_callpeak_narrow0_treat_pileup.bdg
INFO @ Sun, 15 Oct 2023 22:29:59: #3 Write bedGraph files for control lambda (after scaling if necessary)... run_callpeak_narrow0_control_lambda.bdg
INFO @ Sun, 15 Oct 2023 22:29:59: #3 Pileup will be based on sequencing depth in treatment.
INFO @ Sun, 15 Oct 2023 22:29:59: #3 Call peaks for each chromosome...
INFO @ Sun, 15 Oct 2023 22:29:59: #4 Write output xls file... /tmp/Rtmp1bh1Zu/run_callpeak_narrow0_peaks.xls
INFO @ Sun, 15 Oct 2023 22:29:59: #4 Write peak in narrowPeak format file... /tmp/Rtmp1bh1Zu/run_callpeak_narrow0_peaks.narrowPeak
INFO @ Sun, 15 Oct 2023 22:29:59: #4 Write summits bed file... /tmp/Rtmp1bh1Zu/run_callpeak_narrow0_summits.bed
INFO @ Sun, 15 Oct 2023 22:29:59: Done!
[ FAIL 0 | WARN 0 | SKIP 0 | PASS 14 ]
>
> proc.time()
user system elapsed
27.424 2.131 30.287
MACSr.Rcheck/MACSr-Ex.timings
| name | user | system | elapsed | |
| bdgbroadcall | 6.648 | 0.999 | 8.003 | |
| bdgcmp | 3.272 | 0.272 | 4.015 | |
| bdgdiff | 4.427 | 0.292 | 5.113 | |
| bdgopt | 3.126 | 0.240 | 3.740 | |
| bdgpeakcall | 0 | 0 | 0 | |
| callpeak | 2.700 | 0.200 | 3.297 | |
| callvar | 0 | 0 | 0 | |
| cmbreps | 3.714 | 0.220 | 4.314 | |
| filterdup | 1.256 | 0.112 | 1.646 | |
| pileup | 1.279 | 0.099 | 1.655 | |
| predictd | 1.319 | 0.133 | 1.745 | |
| randsample | 1.246 | 0.104 | 1.644 | |
| refinepeak | 4.001 | 0.204 | 4.585 | |