| Back to Multiple platform build/check report for BioC 3.17: simplified long | 
  | 
This page was generated on 2023-10-16 11:35:28 -0400 (Mon, 16 Oct 2023).
| Hostname | OS | Arch (*) | R version | Installed pkgs | 
|---|---|---|---|---|
| nebbiolo1 | Linux (Ubuntu 22.04.2 LTS) | x86_64 | 4.3.1 (2023-06-16) -- "Beagle Scouts" | 4626 | 
| palomino3 | Windows Server 2022 Datacenter | x64 | 4.3.1 (2023-06-16 ucrt) -- "Beagle Scouts" | 4379 | 
| merida1 | macOS 12.6.4 Monterey | x86_64 | 4.3.1 (2023-06-16) -- "Beagle Scouts" | 4395 | 
| Click on any hostname to see more info about the system (e.g. compilers) (*) as reported by 'uname -p', except on Windows and Mac OS X | ||||
| Package 1081/2230 | Hostname | OS / Arch | INSTALL | BUILD | CHECK | BUILD BIN | ||||||||
| LowMACA 1.30.0  (landing page) Giorgio Melloni 
  | nebbiolo1 | Linux (Ubuntu 22.04.2 LTS) / x86_64 | OK | ERROR | skipped | |||||||||
| palomino3 | Windows Server 2022 Datacenter / x64 | OK | OK | OK | OK | |||||||||
| merida1 | macOS 12.6.4 Monterey / x86_64 | OK | OK | ERROR | OK | |||||||||
| kjohnson2 | macOS 12.6.1 Monterey / arm64 | see weekly results here | ||||||||||||
| 
To the developers/maintainers of the LowMACA package: - Allow up to 24 hours (and sometimes 48 hours) for your latest push to git@git.bioconductor.org:packages/LowMACA.git to reflect on this report. See Troubleshooting Build Report for more information. - Use the following Renviron settings to reproduce errors and warnings. - If 'R CMD check' started to fail recently on the Linux builder(s) over a missing dependency, add the missing dependency to 'Suggests:' in your DESCRIPTION file. See Renviron.bioc for more information.  | 
| Package: LowMACA | 
| Version: 1.30.0 | 
| Command: /home/biocbuild/bbs-3.17-bioc/R/bin/R CMD INSTALL LowMACA | 
| StartedAt: 2023-10-15 15:27:26 -0400 (Sun, 15 Oct 2023) | 
| EndedAt: 2023-10-15 15:28:19 -0400 (Sun, 15 Oct 2023) | 
| EllapsedTime: 52.6 seconds | 
| RetCode: 0 | 
| Status: OK | 
##############################################################################
##############################################################################
###
### Running command:
###
###   /home/biocbuild/bbs-3.17-bioc/R/bin/R CMD INSTALL LowMACA
###
##############################################################################
##############################################################################
* installing to library ‘/home/biocbuild/bbs-3.17-bioc/R/site-library’
* installing *source* package ‘LowMACA’ ...
** using staged installation
** R
** data
** inst
** byte-compile and prepare package for lazy loading
** help
*** installing help indices
** building package indices
** installing vignettes
** testing if installed package can be loaded from temporary location
Checking if clustalo is in the PATH...
Checking clustalo Version...
Checking perl installation...
Checking perl modules XML::Simple and LWP...
Can't locate XML/Simple.pm in @INC (you may need to install the XML::Simple module) (@INC contains: /etc/perl /usr/local/lib/x86_64-linux-gnu/perl/5.34.0 /usr/local/share/perl/5.34.0 /usr/lib/x86_64-linux-gnu/perl5/5.34 /usr/share/perl5 /usr/lib/x86_64-linux-gnu/perl-base /usr/lib/x86_64-linux-gnu/perl/5.34 /usr/share/perl/5.34 /usr/local/lib/site_perl).
BEGIN failed--compilation aborted.
Warning in system(paste(perl, "-MXML::Simple -e 1"), intern = TRUE) :
  running command '/usr/bin/perl -MXML::Simple -e 1' had status 2
Warning in .PerlModuleChecks(stop = FALSE, perl = "perl") :
  XML::Simple module for perl is not installed. 
            If you don't want to install a local clustal omega and use the web service, XML::Simple is required
** testing if installed package can be loaded from final location
Checking if clustalo is in the PATH...
Checking clustalo Version...
Checking perl installation...
Checking perl modules XML::Simple and LWP...
Can't locate XML/Simple.pm in @INC (you may need to install the XML::Simple module) (@INC contains: /etc/perl /usr/local/lib/x86_64-linux-gnu/perl/5.34.0 /usr/local/share/perl/5.34.0 /usr/lib/x86_64-linux-gnu/perl5/5.34 /usr/share/perl5 /usr/lib/x86_64-linux-gnu/perl-base /usr/lib/x86_64-linux-gnu/perl/5.34 /usr/share/perl/5.34 /usr/local/lib/site_perl).
BEGIN failed--compilation aborted.
Warning in system(paste(perl, "-MXML::Simple -e 1"), intern = TRUE) :
  running command '/usr/bin/perl -MXML::Simple -e 1' had status 2
Warning in .PerlModuleChecks(stop = FALSE, perl = "perl") :
  XML::Simple module for perl is not installed. 
            If you don't want to install a local clustal omega and use the web service, XML::Simple is required
** testing if installed package keeps a record of temporary installation path
* DONE (LowMACA)