| Back to Multiple platform build/check report for BioC 3.17: simplified long |
|
This page was generated on 2023-10-16 11:37:11 -0400 (Mon, 16 Oct 2023).
| Hostname | OS | Arch (*) | R version | Installed pkgs |
|---|---|---|---|---|
| nebbiolo1 | Linux (Ubuntu 22.04.2 LTS) | x86_64 | 4.3.1 (2023-06-16) -- "Beagle Scouts" | 4626 |
| palomino3 | Windows Server 2022 Datacenter | x64 | 4.3.1 (2023-06-16 ucrt) -- "Beagle Scouts" | 4379 |
| merida1 | macOS 12.6.4 Monterey | x86_64 | 4.3.1 (2023-06-16) -- "Beagle Scouts" | 4395 |
| Click on any hostname to see more info about the system (e.g. compilers) (*) as reported by 'uname -p', except on Windows and Mac OS X | ||||
| Package 1067/2230 | Hostname | OS / Arch | INSTALL | BUILD | CHECK | BUILD BIN | ||||||||
| LinkHD 1.14.0 (landing page) "Laura M Zingaretti"
| nebbiolo1 | Linux (Ubuntu 22.04.2 LTS) / x86_64 | OK | OK | OK | |||||||||
| palomino3 | Windows Server 2022 Datacenter / x64 | OK | OK | OK | OK | |||||||||
| merida1 | macOS 12.6.4 Monterey / x86_64 | OK | OK | OK | OK | |||||||||
| kjohnson2 | macOS 12.6.1 Monterey / arm64 | see weekly results here | ||||||||||||
|
To the developers/maintainers of the LinkHD package: - Allow up to 24 hours (and sometimes 48 hours) for your latest push to git@git.bioconductor.org:packages/LinkHD.git to reflect on this report. See Troubleshooting Build Report for more information. - Use the following Renviron settings to reproduce errors and warnings. - If 'R CMD check' started to fail recently on the Linux builder(s) over a missing dependency, add the missing dependency to 'Suggests:' in your DESCRIPTION file. See Renviron.bioc for more information. |
| Package: LinkHD |
| Version: 1.14.0 |
| Command: /Library/Frameworks/R.framework/Resources/bin/R CMD check --install=check:LinkHD.install-out.txt --library=/Library/Frameworks/R.framework/Resources/library --no-vignettes --timings LinkHD_1.14.0.tar.gz |
| StartedAt: 2023-10-16 03:14:27 -0400 (Mon, 16 Oct 2023) |
| EndedAt: 2023-10-16 03:22:38 -0400 (Mon, 16 Oct 2023) |
| EllapsedTime: 491.3 seconds |
| RetCode: 0 |
| Status: OK |
| CheckDir: LinkHD.Rcheck |
| Warnings: 0 |
##############################################################################
##############################################################################
###
### Running command:
###
### /Library/Frameworks/R.framework/Resources/bin/R CMD check --install=check:LinkHD.install-out.txt --library=/Library/Frameworks/R.framework/Resources/library --no-vignettes --timings LinkHD_1.14.0.tar.gz
###
##############################################################################
##############################################################################
* using log directory ‘/Users/biocbuild/bbs-3.17-bioc/meat/LinkHD.Rcheck’
* using R version 4.3.1 (2023-06-16)
* using platform: x86_64-apple-darwin20 (64-bit)
* R was compiled by
Apple clang version 14.0.3 (clang-1403.0.22.14.1)
GNU Fortran (GCC) 12.2.0
* running under: macOS Monterey 12.6.4
* using session charset: UTF-8
* using option ‘--no-vignettes’
* checking for file ‘LinkHD/DESCRIPTION’ ... OK
* checking extension type ... Package
* this is package ‘LinkHD’ version ‘1.14.0’
* package encoding: UTF-8
* checking package namespace information ... OK
* checking package dependencies ... OK
* checking if this is a source package ... OK
* checking if there is a namespace ... OK
* checking for hidden files and directories ... OK
* checking for portable file names ... OK
* checking for sufficient/correct file permissions ... OK
* checking whether package ‘LinkHD’ can be installed ... OK
* checking installed package size ... OK
* checking package directory ... OK
* checking ‘build’ directory ... OK
* checking DESCRIPTION meta-information ... OK
* checking top-level files ... OK
* checking for left-over files ... OK
* checking index information ... OK
* checking package subdirectories ... OK
* checking R files for non-ASCII characters ... OK
* checking R files for syntax errors ... OK
* checking whether the package can be loaded ... OK
* checking whether the package can be loaded with stated dependencies ... OK
* checking whether the package can be unloaded cleanly ... OK
* checking whether the namespace can be loaded with stated dependencies ... OK
* checking whether the namespace can be unloaded cleanly ... OK
* checking dependencies in R code ... OK
* checking S3 generic/method consistency ... OK
* checking replacement functions ... OK
* checking foreign function calls ... OK
* checking R code for possible problems ... OK
* checking Rd files ... OK
* checking Rd metadata ... OK
* checking Rd cross-references ... OK
* checking for missing documentation entries ... OK
* checking for code/documentation mismatches ... OK
* checking Rd \usage sections ... OK
* checking Rd contents ... OK
* checking for unstated dependencies in examples ... OK
* checking contents of ‘data’ directory ... OK
* checking data for non-ASCII characters ... OK
* checking LazyData ... OK
* checking data for ASCII and uncompressed saves ... OK
* checking files in ‘vignettes’ ... OK
* checking examples ... OK
Examples with CPU (user + system) or elapsed time > 5s
user system elapsed
OTU2Taxa-OTU2Taxa 7.494 0.243 10.125
VarTable-methods 4.283 0.045 5.566
Var_coordinates-methods 4.269 0.048 5.507
VarSelection 4.218 0.070 5.586
sign_values-methods 4.236 0.024 5.451
Variables-methods 4.202 0.026 5.361
* checking for unstated dependencies in vignettes ... OK
* checking package vignettes in ‘inst/doc’ ... OK
* checking running R code from vignettes ... SKIPPED
* checking re-building of vignette outputs ... SKIPPED
* checking PDF version of manual ... OK
* DONE
Status: OK
LinkHD.Rcheck/00install.out
############################################################################## ############################################################################## ### ### Running command: ### ### /Library/Frameworks/R.framework/Resources/bin/R CMD INSTALL LinkHD ### ############################################################################## ############################################################################## * installing to library ‘/Library/Frameworks/R.framework/Versions/4.3-x86_64/Resources/library’ * installing *source* package ‘LinkHD’ ... ** using staged installation ** R ** data *** moving datasets to lazyload DB ** byte-compile and prepare package for lazy loading ** help *** installing help indices ** building package indices ** installing vignettes ** testing if installed package can be loaded from temporary location ** testing if installed package can be loaded from final location ** testing if installed package keeps a record of temporary installation path * DONE (LinkHD)
LinkHD.Rcheck/LinkHD-Ex.timings
| name | user | system | elapsed | |
| Compromise_matrix-methods | 2.248 | 0.380 | 3.338 | |
| DataProcessing | 0.014 | 0.004 | 0.020 | |
| DistStatis-Class | 0.001 | 0.001 | 0.002 | |
| DistStatis-CompromisePlot | 1.233 | 0.048 | 1.608 | |
| DistStatis-CorrelationPlot | 1.453 | 0.043 | 1.900 | |
| DistStatis-GlobalPlot | 1.793 | 0.077 | 2.361 | |
| Euclid_Im-methods | 0.851 | 0.029 | 1.130 | |
| Inertia_RV-methods | 0.826 | 0.016 | 1.099 | |
| Inertia_comp-methods | 0.800 | 0.019 | 1.061 | |
| LinkData-LinkData | 0.821 | 0.015 | 1.049 | |
| OTU2Taxa-OTU2Taxa | 7.494 | 0.243 | 10.125 | |
| RQO-methods | 0.790 | 0.011 | 0.986 | |
| Read_Data | 0 | 0 | 0 | |
| Ruminotypes | 0.001 | 0.003 | 0.004 | |
| Taraoceans | 0.002 | 0.002 | 0.005 | |
| Trajectories-methods | 1.553 | 0.938 | 3.041 | |
| VarSelection-Class | 0.001 | 0.001 | 0.002 | |
| VarSelection | 4.218 | 0.070 | 5.586 | |
| VarTable-methods | 4.283 | 0.045 | 5.566 | |
| Var_coordinates-methods | 4.269 | 0.048 | 5.507 | |
| Variables-methods | 4.202 | 0.026 | 5.361 | |
| compromise_coords-methods | 0.845 | 0.026 | 1.140 | |
| correl-methods | 0.841 | 0.014 | 1.089 | |
| dAB-dAB | 1.561 | 0.035 | 2.053 | |
| sign_values-methods | 4.236 | 0.024 | 5.451 | |