| Back to Multiple platform build/check report for BioC 3.17: simplified long |
|
This page was generated on 2023-10-16 11:36:16 -0400 (Mon, 16 Oct 2023).
| Hostname | OS | Arch (*) | R version | Installed pkgs |
|---|---|---|---|---|
| nebbiolo1 | Linux (Ubuntu 22.04.2 LTS) | x86_64 | 4.3.1 (2023-06-16) -- "Beagle Scouts" | 4626 |
| palomino3 | Windows Server 2022 Datacenter | x64 | 4.3.1 (2023-06-16 ucrt) -- "Beagle Scouts" | 4379 |
| merida1 | macOS 12.6.4 Monterey | x86_64 | 4.3.1 (2023-06-16) -- "Beagle Scouts" | 4395 |
| Click on any hostname to see more info about the system (e.g. compilers) (*) as reported by 'uname -p', except on Windows and Mac OS X | ||||
| Package 1052/2230 | Hostname | OS / Arch | INSTALL | BUILD | CHECK | BUILD BIN | ||||||||
| KnowSeq 1.14.1 (landing page) Daniel Castillo-Secilla
| nebbiolo1 | Linux (Ubuntu 22.04.2 LTS) / x86_64 | OK | OK | OK | |||||||||
| palomino3 | Windows Server 2022 Datacenter / x64 | OK | OK | OK | OK | |||||||||
| merida1 | macOS 12.6.4 Monterey / x86_64 | OK | OK | OK | OK | |||||||||
| kjohnson2 | macOS 12.6.1 Monterey / arm64 | see weekly results here | ||||||||||||
|
To the developers/maintainers of the KnowSeq package: - Allow up to 24 hours (and sometimes 48 hours) for your latest push to git@git.bioconductor.org:packages/KnowSeq.git to reflect on this report. See Troubleshooting Build Report for more information. - Use the following Renviron settings to reproduce errors and warnings. - If 'R CMD check' started to fail recently on the Linux builder(s) over a missing dependency, add the missing dependency to 'Suggests:' in your DESCRIPTION file. See Renviron.bioc for more information. |
| Package: KnowSeq |
| Version: 1.14.1 |
| Command: F:\biocbuild\bbs-3.17-bioc\R\bin\R.exe CMD check --no-multiarch --install=check:KnowSeq.install-out.txt --library=F:\biocbuild\bbs-3.17-bioc\R\library --no-vignettes --timings KnowSeq_1.14.1.tar.gz |
| StartedAt: 2023-10-16 03:28:24 -0400 (Mon, 16 Oct 2023) |
| EndedAt: 2023-10-16 03:33:08 -0400 (Mon, 16 Oct 2023) |
| EllapsedTime: 283.4 seconds |
| RetCode: 0 |
| Status: OK |
| CheckDir: KnowSeq.Rcheck |
| Warnings: 0 |
##############################################################################
##############################################################################
###
### Running command:
###
### F:\biocbuild\bbs-3.17-bioc\R\bin\R.exe CMD check --no-multiarch --install=check:KnowSeq.install-out.txt --library=F:\biocbuild\bbs-3.17-bioc\R\library --no-vignettes --timings KnowSeq_1.14.1.tar.gz
###
##############################################################################
##############################################################################
* using log directory 'F:/biocbuild/bbs-3.17-bioc/meat/KnowSeq.Rcheck'
* using R version 4.3.1 (2023-06-16 ucrt)
* using platform: x86_64-w64-mingw32 (64-bit)
* R was compiled by
gcc.exe (GCC) 12.2.0
GNU Fortran (GCC) 12.2.0
* running under: Windows Server 2022 x64 (build 20348)
* using session charset: UTF-8
* using option '--no-vignettes'
* checking for file 'KnowSeq/DESCRIPTION' ... OK
* checking extension type ... Package
* this is package 'KnowSeq' version '1.14.1'
* package encoding: UTF-8
* checking package namespace information ... OK
* checking package dependencies ... OK
* checking if this is a source package ... OK
* checking if there is a namespace ... OK
* checking for hidden files and directories ... OK
* checking for portable file names ... OK
* checking whether package 'KnowSeq' can be installed ... OK
* checking installed package size ... NOTE
installed size is 7.2Mb
sub-directories of 1Mb or more:
extdata 6.9Mb
* checking package directory ... OK
* checking 'build' directory ... OK
* checking DESCRIPTION meta-information ... OK
* checking top-level files ... OK
* checking for left-over files ... OK
* checking index information ... OK
* checking package subdirectories ... OK
* checking R files for non-ASCII characters ... OK
* checking R files for syntax errors ... OK
* checking whether the package can be loaded ... OK
* checking whether the package can be loaded with stated dependencies ... OK
* checking whether the package can be unloaded cleanly ... OK
* checking whether the namespace can be loaded with stated dependencies ... OK
* checking whether the namespace can be unloaded cleanly ... OK
* checking dependencies in R code ... OK
* checking S3 generic/method consistency ... OK
* checking replacement functions ... OK
* checking foreign function calls ... OK
* checking R code for possible problems ... NOTE
DEGsExtraction: warning in topTable(fit, number = number, coef = 2,
sort.by = "logFC", p.value = pvalue, adjust = "fdr", lfc = lfc):
partial argument match of 'adjust' to 'adjust.method'
RNAseqQA : outlierBarPlot: no visible binding for global variable 'x'
RNAseqQA : outlierBarPlot: no visible binding for global variable 'y'
RNAseqQA: no visible binding for global variable 'Var1'
RNAseqQA: no visible binding for global variable 'Var2'
RNAseqQA: no visible binding for global variable 'value'
RNAseqQA: no visible binding for global variable 'Expression'
RNAseqQA: no visible binding for global variable 'Samples'
dataPlot: no visible binding for global variable 'Var1'
dataPlot: no visible binding for global variable 'Var2'
dataPlot: no visible binding for global variable 'value'
dataPlot: no visible binding for global variable 'Classes'
dataPlot: no visible binding for global variable 'Value'
knowseqReport: no visible binding for global variable 'target'
Undefined global functions or variables:
Classes Expression Samples Value Var1 Var2 target value x y
* checking Rd files ... OK
* checking Rd metadata ... OK
* checking Rd cross-references ... OK
* checking for missing documentation entries ... OK
* checking for code/documentation mismatches ... OK
* checking Rd \usage sections ... OK
* checking Rd contents ... OK
* checking for unstated dependencies in examples ... OK
* checking files in 'vignettes' ... OK
* checking examples ... OK
Examples with CPU (user + system) or elapsed time > 5s
user system elapsed
dataPlot 20.74 0.35 21.11
rf_trn 15.39 0.50 15.89
svm_trn 14.97 0.23 15.21
svm_test 14.97 0.14 15.11
downloadPublicSeries 0.93 0.03 15.92
* checking for unstated dependencies in vignettes ... OK
* checking package vignettes in 'inst/doc' ... OK
* checking running R code from vignettes ... SKIPPED
* checking re-building of vignette outputs ... SKIPPED
* checking PDF version of manual ... OK
* DONE
Status: 2 NOTEs
See
'F:/biocbuild/bbs-3.17-bioc/meat/KnowSeq.Rcheck/00check.log'
for details.
KnowSeq.Rcheck/00install.out
############################################################################## ############################################################################## ### ### Running command: ### ### F:\biocbuild\bbs-3.17-bioc\R\bin\R.exe CMD INSTALL KnowSeq ### ############################################################################## ############################################################################## * installing to library 'F:/biocbuild/bbs-3.17-bioc/R/library' * installing *source* package 'KnowSeq' ... ** using staged installation ** R ** inst ** byte-compile and prepare package for lazy loading ** help *** installing help indices ** building package indices ** installing vignettes ** testing if installed package can be loaded from temporary location ** testing if installed package can be loaded from final location ** testing if installed package keeps a record of temporary installation path * DONE (KnowSeq)
KnowSeq.Rcheck/KnowSeq-Ex.timings
| name | user | system | elapsed | |
| DEGsEvidences | 0.98 | 0.07 | 3.30 | |
| DEGsExtraction | 0.86 | 0.08 | 4.47 | |
| DEGsToDiseases | 0.36 | 0.00 | 0.52 | |
| DEGsToPathways | 0.40 | 0.02 | 0.69 | |
| RNAseqQA | 2.34 | 0.06 | 2.41 | |
| batchEffectRemoval | 1.33 | 0.00 | 1.33 | |
| calculateGeneExpressionValues | 0.54 | 0.06 | 0.61 | |
| countsToMatrix | 0.07 | 0.00 | 0.07 | |
| dataPlot | 20.74 | 0.35 | 21.11 | |
| downloadPublicSeries | 0.93 | 0.03 | 15.92 | |
| featureSelection | 0.02 | 0.00 | 0.03 | |
| fileMove | 0 | 0 | 0 | |
| gdcClientDownload | 0 | 0 | 0 | |
| geneOntologyEnrichment | 0 | 0 | 0 | |
| getGenesAnnotation | 0.25 | 0.01 | 0.27 | |
| hisatAlignment | 0 | 0 | 0 | |
| knn_test | 0.06 | 0.00 | 0.06 | |
| knn_trn | 1.53 | 0.04 | 1.56 | |
| knowseqReport | 0.02 | 0.00 | 0.02 | |
| plotConfMatrix | 0.01 | 0.00 | 0.01 | |
| rawAlignment | 0 | 0 | 0 | |
| rf_test | 4.10 | 0.23 | 4.33 | |
| rf_trn | 15.39 | 0.50 | 15.89 | |
| sraToFastq | 0 | 0 | 0 | |
| svm_test | 14.97 | 0.14 | 15.11 | |
| svm_trn | 14.97 | 0.23 | 15.21 | |