| Back to Multiple platform build/check report for BioC 3.17: simplified long |
|
This page was generated on 2023-10-16 11:35:27 -0400 (Mon, 16 Oct 2023).
| Hostname | OS | Arch (*) | R version | Installed pkgs |
|---|---|---|---|---|
| nebbiolo1 | Linux (Ubuntu 22.04.2 LTS) | x86_64 | 4.3.1 (2023-06-16) -- "Beagle Scouts" | 4626 |
| palomino3 | Windows Server 2022 Datacenter | x64 | 4.3.1 (2023-06-16 ucrt) -- "Beagle Scouts" | 4379 |
| merida1 | macOS 12.6.4 Monterey | x86_64 | 4.3.1 (2023-06-16) -- "Beagle Scouts" | 4395 |
| Click on any hostname to see more info about the system (e.g. compilers) (*) as reported by 'uname -p', except on Windows and Mac OS X | ||||
| Package 992/2230 | Hostname | OS / Arch | INSTALL | BUILD | CHECK | BUILD BIN | ||||||||
| IMPCdata 1.36.0 (landing page) Jeremy Mason
| nebbiolo1 | Linux (Ubuntu 22.04.2 LTS) / x86_64 | OK | OK | OK | |||||||||
| palomino3 | Windows Server 2022 Datacenter / x64 | OK | OK | OK | OK | |||||||||
| merida1 | macOS 12.6.4 Monterey / x86_64 | OK | OK | OK | OK | |||||||||
| kjohnson2 | macOS 12.6.1 Monterey / arm64 | see weekly results here | ||||||||||||
|
To the developers/maintainers of the IMPCdata package: - Allow up to 24 hours (and sometimes 48 hours) for your latest push to git@git.bioconductor.org:packages/IMPCdata.git to reflect on this report. See Troubleshooting Build Report for more information. - Use the following Renviron settings to reproduce errors and warnings. - If 'R CMD check' started to fail recently on the Linux builder(s) over a missing dependency, add the missing dependency to 'Suggests:' in your DESCRIPTION file. See Renviron.bioc for more information. |
| Package: IMPCdata |
| Version: 1.36.0 |
| Command: /home/biocbuild/bbs-3.17-bioc/R/bin/R CMD check --install=check:IMPCdata.install-out.txt --library=/home/biocbuild/bbs-3.17-bioc/R/site-library --timings IMPCdata_1.36.0.tar.gz |
| StartedAt: 2023-10-15 22:08:41 -0400 (Sun, 15 Oct 2023) |
| EndedAt: 2023-10-15 22:12:46 -0400 (Sun, 15 Oct 2023) |
| EllapsedTime: 244.2 seconds |
| RetCode: 0 |
| Status: OK |
| CheckDir: IMPCdata.Rcheck |
| Warnings: 0 |
##############################################################################
##############################################################################
###
### Running command:
###
### /home/biocbuild/bbs-3.17-bioc/R/bin/R CMD check --install=check:IMPCdata.install-out.txt --library=/home/biocbuild/bbs-3.17-bioc/R/site-library --timings IMPCdata_1.36.0.tar.gz
###
##############################################################################
##############################################################################
* using log directory ‘/home/biocbuild/bbs-3.17-bioc/meat/IMPCdata.Rcheck’
* using R version 4.3.1 (2023-06-16)
* using platform: x86_64-pc-linux-gnu (64-bit)
* R was compiled by
gcc (Ubuntu 11.3.0-1ubuntu1~22.04.1) 11.3.0
GNU Fortran (Ubuntu 11.3.0-1ubuntu1~22.04.1) 11.3.0
* running under: Ubuntu 22.04.3 LTS
* using session charset: UTF-8
* checking for file ‘IMPCdata/DESCRIPTION’ ... OK
* checking extension type ... Package
* this is package ‘IMPCdata’ version ‘1.36.0’
* checking package namespace information ... OK
* checking package dependencies ... OK
* checking if this is a source package ... OK
* checking if there is a namespace ... OK
* checking for hidden files and directories ... OK
* checking for portable file names ... OK
* checking for sufficient/correct file permissions ... OK
* checking whether package ‘IMPCdata’ can be installed ... OK
* checking installed package size ... OK
* checking package directory ... OK
* checking ‘build’ directory ... OK
* checking DESCRIPTION meta-information ... OK
* checking top-level files ... OK
* checking for left-over files ... OK
* checking index information ... OK
* checking package subdirectories ... OK
* checking R files for non-ASCII characters ... OK
* checking R files for syntax errors ... OK
* checking whether the package can be loaded ... OK
* checking whether the package can be loaded with stated dependencies ... OK
* checking whether the package can be unloaded cleanly ... OK
* checking whether the namespace can be loaded with stated dependencies ... OK
* checking whether the namespace can be unloaded cleanly ... OK
* checking loading without being on the library search path ... OK
* checking dependencies in R code ... OK
* checking S3 generic/method consistency ... OK
* checking replacement functions ... OK
* checking foreign function calls ... OK
* checking R code for possible problems ... OK
* checking Rd files ... OK
* checking Rd metadata ... OK
* checking Rd cross-references ... OK
* checking for missing documentation entries ... OK
* checking for code/documentation mismatches ... OK
* checking Rd \usage sections ... OK
* checking Rd contents ... OK
* checking for unstated dependencies in examples ... OK
* checking files in ‘vignettes’ ... OK
* checking examples ... OK
Examples with CPU (user + system) or elapsed time > 5s
user system elapsed
getPhenCenters 1.586 0.012 18.544
printPipelines 0.634 0.007 5.349
getProcedures 0.579 0.015 6.610
printProcedures 0.528 0.001 5.343
printPhenCenters 0.233 0.008 6.849
* checking for unstated dependencies in vignettes ... OK
* checking package vignettes in ‘inst/doc’ ... OK
* checking running R code from vignettes ...
‘IMPCdata.Rnw’... OK
OK
* checking re-building of vignette outputs ... OK
* checking PDF version of manual ... OK
* DONE
Status: OK
IMPCdata.Rcheck/00install.out
############################################################################## ############################################################################## ### ### Running command: ### ### /home/biocbuild/bbs-3.17-bioc/R/bin/R CMD INSTALL IMPCdata ### ############################################################################## ############################################################################## * installing to library ‘/home/biocbuild/bbs-3.17-bioc/R/site-library’ * installing *source* package ‘IMPCdata’ ... ** using staged installation ** R ** inst ** byte-compile and prepare package for lazy loading ** help *** installing help indices ** building package indices ** installing vignettes ** testing if installed package can be loaded from temporary location ** testing if installed package can be loaded from final location ** testing if installed package keeps a record of temporary installation path * DONE (IMPCdata)
IMPCdata.Rcheck/IMPCdata-Ex.timings
| name | user | system | elapsed | |
| getAlleles | 0.548 | 0.005 | 4.864 | |
| getGenes | 0.578 | 0.004 | 3.698 | |
| getIMPCDataset | 0.266 | 0.000 | 4.096 | |
| getIMPCTable | 0.374 | 0.003 | 3.097 | |
| getName | 0.080 | 0.004 | 0.802 | |
| getParameters | 0.716 | 0.005 | 4.262 | |
| getPhenCenters | 1.586 | 0.012 | 18.544 | |
| getPipelines | 0.781 | 0.000 | 4.908 | |
| getProcedures | 0.579 | 0.015 | 6.610 | |
| getStrains | 0.252 | 0.005 | 3.497 | |
| getZygosities | 0.091 | 0.000 | 0.593 | |
| printAlleles | 0.758 | 0.007 | 3.763 | |
| printGenes | 0.589 | 0.001 | 3.875 | |
| printParameters | 0.606 | 0.004 | 3.996 | |
| printPhenCenters | 0.233 | 0.008 | 6.849 | |
| printPipelines | 0.634 | 0.007 | 5.349 | |
| printProcedures | 0.528 | 0.001 | 5.343 | |
| printStrains | 0.360 | 0.004 | 3.523 | |