| Back to Multiple platform build/check report for BioC 3.17: simplified long |
|
This page was generated on 2023-10-16 11:37:08 -0400 (Mon, 16 Oct 2023).
| Hostname | OS | Arch (*) | R version | Installed pkgs |
|---|---|---|---|---|
| nebbiolo1 | Linux (Ubuntu 22.04.2 LTS) | x86_64 | 4.3.1 (2023-06-16) -- "Beagle Scouts" | 4626 |
| palomino3 | Windows Server 2022 Datacenter | x64 | 4.3.1 (2023-06-16 ucrt) -- "Beagle Scouts" | 4379 |
| merida1 | macOS 12.6.4 Monterey | x86_64 | 4.3.1 (2023-06-16) -- "Beagle Scouts" | 4395 |
| Click on any hostname to see more info about the system (e.g. compilers) (*) as reported by 'uname -p', except on Windows and Mac OS X | ||||
| Package 934/2230 | Hostname | OS / Arch | INSTALL | BUILD | CHECK | BUILD BIN | ||||||||
| HilbertCurve 1.30.0 (landing page) Zuguang Gu
| nebbiolo1 | Linux (Ubuntu 22.04.2 LTS) / x86_64 | OK | OK | OK | |||||||||
| palomino3 | Windows Server 2022 Datacenter / x64 | OK | OK | OK | OK | |||||||||
| merida1 | macOS 12.6.4 Monterey / x86_64 | OK | OK | OK | OK | |||||||||
| kjohnson2 | macOS 12.6.1 Monterey / arm64 | see weekly results here | ||||||||||||
|
To the developers/maintainers of the HilbertCurve package: - Allow up to 24 hours (and sometimes 48 hours) for your latest push to git@git.bioconductor.org:packages/HilbertCurve.git to reflect on this report. See Troubleshooting Build Report for more information. - Use the following Renviron settings to reproduce errors and warnings. - If 'R CMD check' started to fail recently on the Linux builder(s) over a missing dependency, add the missing dependency to 'Suggests:' in your DESCRIPTION file. See Renviron.bioc for more information. |
| Package: HilbertCurve |
| Version: 1.30.0 |
| Command: /Library/Frameworks/R.framework/Resources/bin/R CMD check --install=check:HilbertCurve.install-out.txt --library=/Library/Frameworks/R.framework/Resources/library --no-vignettes --timings HilbertCurve_1.30.0.tar.gz |
| StartedAt: 2023-10-16 02:39:13 -0400 (Mon, 16 Oct 2023) |
| EndedAt: 2023-10-16 02:44:46 -0400 (Mon, 16 Oct 2023) |
| EllapsedTime: 333.1 seconds |
| RetCode: 0 |
| Status: OK |
| CheckDir: HilbertCurve.Rcheck |
| Warnings: 0 |
##############################################################################
##############################################################################
###
### Running command:
###
### /Library/Frameworks/R.framework/Resources/bin/R CMD check --install=check:HilbertCurve.install-out.txt --library=/Library/Frameworks/R.framework/Resources/library --no-vignettes --timings HilbertCurve_1.30.0.tar.gz
###
##############################################################################
##############################################################################
* using log directory ‘/Users/biocbuild/bbs-3.17-bioc/meat/HilbertCurve.Rcheck’
* using R version 4.3.1 (2023-06-16)
* using platform: x86_64-apple-darwin20 (64-bit)
* R was compiled by
Apple clang version 14.0.3 (clang-1403.0.22.14.1)
GNU Fortran (GCC) 12.2.0
* running under: macOS Monterey 12.6.4
* using session charset: UTF-8
* using option ‘--no-vignettes’
* checking for file ‘HilbertCurve/DESCRIPTION’ ... OK
* checking extension type ... Package
* this is package ‘HilbertCurve’ version ‘1.30.0’
* checking package namespace information ... OK
* checking package dependencies ... OK
* checking if this is a source package ... OK
* checking if there is a namespace ... OK
* checking for hidden files and directories ... OK
* checking for portable file names ... OK
* checking for sufficient/correct file permissions ... OK
* checking whether package ‘HilbertCurve’ can be installed ... OK
* checking installed package size ... OK
* checking package directory ... OK
* checking ‘build’ directory ... OK
* checking DESCRIPTION meta-information ... OK
* checking top-level files ... OK
* checking for left-over files ... OK
* checking index information ... OK
* checking package subdirectories ... OK
* checking R files for non-ASCII characters ... OK
* checking R files for syntax errors ... OK
* checking whether the package can be loaded ... OK
* checking whether the package can be loaded with stated dependencies ... OK
* checking whether the package can be unloaded cleanly ... OK
* checking whether the namespace can be loaded with stated dependencies ... OK
* checking whether the namespace can be unloaded cleanly ... OK
* checking startup messages can be suppressed ... OK
* checking dependencies in R code ... OK
* checking S3 generic/method consistency ... OK
* checking replacement functions ... OK
* checking foreign function calls ... OK
* checking R code for possible problems ... NOTE
hc_which,HilbertCurve: no visible binding for global variable ‘hc’
Undefined global functions or variables:
hc
* checking Rd files ... OK
* checking Rd metadata ... OK
* checking Rd cross-references ... OK
* checking for missing documentation entries ... OK
* checking for code/documentation mismatches ... OK
* checking Rd \usage sections ... OK
* checking Rd contents ... OK
* checking for unstated dependencies in examples ... OK
* checking installed files from ‘inst/doc’ ... OK
* checking files in ‘vignettes’ ... OK
* checking examples ... OK
Examples with CPU (user + system) or elapsed time > 5s
user system elapsed
hc_layer-HilbertCurve-method 23.406 0.454 31.408
hc_layer-GenomicHilbertCurve-method 18.934 0.272 23.336
GenomicHilbertCurve 16.275 0.280 20.759
hc_png-HilbertCurve-method 7.685 0.139 11.438
hc_map-GenomicHilbertCurve-method 7.029 0.094 9.518
* checking for unstated dependencies in ‘tests’ ... OK
* checking tests ...
Running ‘test-all.R’
OK
* checking for unstated dependencies in vignettes ... OK
* checking package vignettes in ‘inst/doc’ ... OK
* checking running R code from vignettes ... SKIPPED
* checking re-building of vignette outputs ... SKIPPED
* checking PDF version of manual ... OK
* DONE
Status: 1 NOTE
See
‘/Users/biocbuild/bbs-3.17-bioc/meat/HilbertCurve.Rcheck/00check.log’
for details.
HilbertCurve.Rcheck/00install.out
############################################################################## ############################################################################## ### ### Running command: ### ### /Library/Frameworks/R.framework/Resources/bin/R CMD INSTALL HilbertCurve ### ############################################################################## ############################################################################## * installing to library ‘/Library/Frameworks/R.framework/Versions/4.3-x86_64/Resources/library’ * installing *source* package ‘HilbertCurve’ ... ** using staged installation ** R ** inst ** byte-compile and prepare package for lazy loading ** help *** installing help indices ** building package indices ** installing vignettes ** testing if installed package can be loaded from temporary location ** testing if installed package can be loaded from final location ** testing if installed package keeps a record of temporary installation path * DONE (HilbertCurve)
HilbertCurve.Rcheck/tests/test-all.Rout
R version 4.3.1 (2023-06-16) -- "Beagle Scouts"
Copyright (C) 2023 The R Foundation for Statistical Computing
Platform: x86_64-apple-darwin20 (64-bit)
R is free software and comes with ABSOLUTELY NO WARRANTY.
You are welcome to redistribute it under certain conditions.
Type 'license()' or 'licence()' for distribution details.
R is a collaborative project with many contributors.
Type 'contributors()' for more information and
'citation()' on how to cite R or R packages in publications.
Type 'demo()' for some demos, 'help()' for on-line help, or
'help.start()' for an HTML browser interface to help.
Type 'q()' to quit R.
> library(testthat)
> suppressWarnings(suppressPackageStartupMessages(library(HilbertCurve)))
>
> test_check("HilbertCurve")
[ FAIL 0 | WARN 0 | SKIP 0 | PASS 8 ]
>
> proc.time()
user system elapsed
7.657 0.539 11.740
HilbertCurve.Rcheck/HilbertCurve-Ex.timings
| name | user | system | elapsed | |
| GenomicHilbertCurve-class | 0.001 | 0.001 | 0.001 | |
| GenomicHilbertCurve | 16.275 | 0.280 | 20.759 | |
| HilbertCurve-class | 0.000 | 0.000 | 0.001 | |
| HilbertCurve | 1.009 | 0.051 | 1.290 | |
| default_overlay | 0.001 | 0.000 | 0.002 | |
| hc_centered_text-HilbertCurve-method | 0.246 | 0.003 | 0.310 | |
| hc_layer-GenomicHilbertCurve-method | 18.934 | 0.272 | 23.336 | |
| hc_layer-HilbertCurve-method | 23.406 | 0.454 | 31.408 | |
| hc_layer-dispatch | 0.000 | 0.001 | 0.002 | |
| hc_level-HilbertCurve-method | 0.045 | 0.003 | 0.062 | |
| hc_map-GenomicHilbertCurve-method | 7.029 | 0.094 | 9.518 | |
| hc_normal_points-HilbertCurve-method | 0.000 | 0.001 | 0.000 | |
| hc_offset-HilbertCurve-method | 0.016 | 0.002 | 0.024 | |
| hc_png-HilbertCurve-method | 7.685 | 0.139 | 11.438 | |
| hc_points-GenomicHilbertCurve-method | 0.778 | 0.023 | 1.038 | |
| hc_points-HilbertCurve-method | 1.542 | 0.067 | 2.057 | |
| hc_points-dispatch | 0.000 | 0.001 | 0.003 | |
| hc_polygon-GenomicHilbertCurve-method | 0.847 | 0.018 | 1.284 | |
| hc_polygon-HilbertCurve-method | 0.187 | 0.010 | 0.436 | |
| hc_polygon-dispatch | 0 | 0 | 0 | |
| hc_rect-GenomicHilbertCurve-method | 0.608 | 0.019 | 0.950 | |
| hc_rect-HilbertCurve-method | 0.146 | 0.009 | 0.216 | |
| hc_rect-dispatch | 0.000 | 0.000 | 0.001 | |
| hc_segmented_points-HilbertCurve-method | 0.000 | 0.000 | 0.001 | |
| hc_segments-GenomicHilbertCurve-method | 1.102 | 0.028 | 1.538 | |
| hc_segments-HilbertCurve-method | 0.201 | 0.011 | 0.267 | |
| hc_segments-dispatch | 0.000 | 0.001 | 0.003 | |
| hc_text-GenomicHilbertCurve-method | 0.497 | 0.019 | 0.681 | |
| hc_text-HilbertCurve-method | 0.117 | 0.010 | 0.176 | |
| hc_text-dispatch | 0 | 0 | 0 | |
| hc_which-GenomicHilbertCurve-method | 0 | 0 | 0 | |
| hc_which-HilbertCurve-method | 0.000 | 0.000 | 0.001 | |
| hc_which-dispatch | 0.000 | 0.001 | 0.001 | |
| is_white | 0.001 | 0.001 | 0.000 | |
| show-HilbertCurve-method | 0.013 | 0.001 | 0.019 | |
| unzoom-HilbertCurve-method | 0.013 | 0.001 | 0.017 | |
| zoom-HilbertCurve-method | 0.012 | 0.002 | 0.023 | |