| Back to Multiple platform build/check report for BioC 3.17: simplified long | 
  | 
This page was generated on 2023-10-13 11:35:32 -0400 (Fri, 13 Oct 2023).
| Hostname | OS | Arch (*) | R version | Installed pkgs | 
|---|---|---|---|---|
| nebbiolo1 | Linux (Ubuntu 22.04.2 LTS) | x86_64 | 4.3.1 (2023-06-16) -- "Beagle Scouts" | 4626 | 
| palomino3 | Windows Server 2022 Datacenter | x64 | 4.3.1 (2023-06-16 ucrt) -- "Beagle Scouts" | 4379 | 
| merida1 | macOS 12.6.4 Monterey | x86_64 | 4.3.1 (2023-06-16) -- "Beagle Scouts" | 4395 | 
| Click on any hostname to see more info about the system (e.g. compilers) (*) as reported by 'uname -p', except on Windows and Mac OS X | ||||
| Package 917/2230 | Hostname | OS / Arch | INSTALL | BUILD | CHECK | BUILD BIN | ||||||||
| HelloRanges 1.26.0  (landing page) Michael Lawrence 
  | nebbiolo1 | Linux (Ubuntu 22.04.2 LTS) / x86_64 | OK | OK | ERROR | |||||||||
| palomino3 | Windows Server 2022 Datacenter / x64 | OK | OK | OK | OK | |||||||||
| merida1 | macOS 12.6.4 Monterey / x86_64 | OK | OK | OK | OK | |||||||||
| kjohnson2 | macOS 12.6.1 Monterey / arm64 | see weekly results here | ||||||||||||
| 
To the developers/maintainers of the HelloRanges package: - Allow up to 24 hours (and sometimes 48 hours) for your latest push to git@git.bioconductor.org:packages/HelloRanges.git to reflect on this report. See Troubleshooting Build Report for more information. - Use the following Renviron settings to reproduce errors and warnings. - If 'R CMD check' started to fail recently on the Linux builder(s) over a missing dependency, add the missing dependency to 'Suggests:' in your DESCRIPTION file. See Renviron.bioc for more information.  | 
| Package: HelloRanges | 
| Version: 1.26.0 | 
| Command: /home/biocbuild/bbs-3.17-bioc/R/bin/R CMD check --install=check:HelloRanges.install-out.txt --library=/home/biocbuild/bbs-3.17-bioc/R/site-library --timings HelloRanges_1.26.0.tar.gz | 
| StartedAt: 2023-10-12 21:56:50 -0400 (Thu, 12 Oct 2023) | 
| EndedAt: 2023-10-12 22:07:01 -0400 (Thu, 12 Oct 2023) | 
| EllapsedTime: 610.7 seconds | 
| RetCode: 1 | 
| Status: ERROR | 
| CheckDir: HelloRanges.Rcheck | 
| Warnings: NA | 
##############################################################################
##############################################################################
###
### Running command:
###
###   /home/biocbuild/bbs-3.17-bioc/R/bin/R CMD check --install=check:HelloRanges.install-out.txt --library=/home/biocbuild/bbs-3.17-bioc/R/site-library --timings HelloRanges_1.26.0.tar.gz
###
##############################################################################
##############################################################################
* using log directory ‘/home/biocbuild/bbs-3.17-bioc/meat/HelloRanges.Rcheck’
* using R version 4.3.1 (2023-06-16)
* using platform: x86_64-pc-linux-gnu (64-bit)
* R was compiled by
    gcc (Ubuntu 11.3.0-1ubuntu1~22.04.1) 11.3.0
    GNU Fortran (Ubuntu 11.3.0-1ubuntu1~22.04.1) 11.3.0
* running under: Ubuntu 22.04.3 LTS
* using session charset: UTF-8
* checking for file ‘HelloRanges/DESCRIPTION’ ... OK
* checking extension type ... Package
* this is package ‘HelloRanges’ version ‘1.26.0’
* checking package namespace information ... OK
* checking package dependencies ... NOTE
Depends: includes the non-default packages:
  'BiocGenerics', 'S4Vectors', 'IRanges', 'GenomicRanges',
  'Biostrings', 'BSgenome', 'GenomicFeatures', 'VariantAnnotation',
  'Rsamtools', 'GenomicAlignments', 'rtracklayer', 'GenomeInfoDb',
  'SummarizedExperiment', 'BiocIO'
Adding so many packages to the search path is excessive and importing
selectively is preferable.
* checking if this is a source package ... OK
* checking if there is a namespace ... OK
* checking for hidden files and directories ... OK
* checking for portable file names ... OK
* checking for sufficient/correct file permissions ... OK
* checking whether package ‘HelloRanges’ can be installed ... OK
* checking installed package size ... OK
* checking package directory ... OK
* checking ‘build’ directory ... OK
* checking DESCRIPTION meta-information ... OK
* checking top-level files ... OK
* checking for left-over files ... OK
* checking index information ... OK
* checking package subdirectories ... OK
* checking R files for non-ASCII characters ... OK
* checking R files for syntax errors ... OK
* checking whether the package can be loaded ... OK
* checking whether the package can be loaded with stated dependencies ... OK
* checking whether the package can be unloaded cleanly ... OK
* checking whether the namespace can be loaded with stated dependencies ... OK
* checking whether the namespace can be unloaded cleanly ... OK
* checking loading without being on the library search path ... OK
* checking dependencies in R code ... NOTE
Packages in Depends field not imported from:
  ‘BSgenome’ ‘GenomicAlignments’ ‘GenomicFeatures’ ‘VariantAnnotation’
  These packages need to be imported from (in the NAMESPACE file)
  for when this namespace is loaded but not attached.
Unexported objects imported by ':::' calls:
  ‘BiocGenerics:::testPackage’ ‘IRanges:::subgrouping’
  ‘S4Vectors:::make_zero_col_DataFrame’
  See the note in ?`:::` about the use of this operator.
* checking S3 generic/method consistency ... OK
* checking replacement functions ... OK
* checking foreign function calls ... OK
* checking R code for possible problems ... OK
* checking Rd files ... OK
* checking Rd metadata ... OK
* checking Rd cross-references ... OK
* checking for missing documentation entries ... OK
* checking for code/documentation mismatches ... OK
* checking Rd \usage sections ... OK
* checking Rd contents ... OK
* checking for unstated dependencies in examples ... OK
* checking files in ‘vignettes’ ... OK
* checking examples ... OK
* checking for unstated dependencies in ‘tests’ ... OK
* checking tests ...
  Running ‘HelloRanges_unit_tests.R’
 ERROR
Running the tests in ‘tests/HelloRanges_unit_tests.R’ failed.
Last 13 lines of output:
  Loading required package: GenomicAlignments
  Loading required package: BiocIO
  
  Attaching package: 'BiocIO'
  
  The following object is masked from 'package:rtracklayer':
  
      FileForFormat
  
  [1] TRUE
  > HelloRanges:::.test()
  Error in library("RUnit", quietly = TRUE) : 
    there is no package called 'RUnit'
  Calls: <Anonymous> -> <Anonymous> -> library
  Execution halted
* checking for unstated dependencies in vignettes ... OK
* checking package vignettes in ‘inst/doc’ ... OK
* checking running R code from vignettes ...
  ‘tutorial.Rnw’... failed
 WARNING
Errors in running code in vignettes:
when running code in ‘tutorial.Rnw’
  ...
  [386122] chr9:123627986-123627987:- chr9:123626395-123626396:-
  [386123] chr9:123628304-123628305:- chr9:123628109-123628110:-
  [386124] chr9:123629146-123629147:- chr9:123628375-123628376:-
  [386125] chr9:123631084-123631085:- chr9:123629244-123629245:-
> library(TxDb.Hsapiens.UCSC.hg19.knownGene)
  When sourcing ‘tutorial.R’:
Error: there is no package called ‘TxDb.Hsapiens.UCSC.hg19.knownGene’
Execution halted
* checking re-building of vignette outputs ... NOTE
Error(s) in re-building vignettes:
--- re-building ‘tutorial.Rnw’ using Sweave
Loading required package: BiocGenerics
Attaching package: ‘BiocGenerics’
The following objects are masked from ‘package:stats’:
    IQR, mad, sd, var, xtabs
The following objects are masked from ‘package:base’:
    Filter, Find, Map, Position, Reduce, anyDuplicated, aperm, append,
    as.data.frame, basename, cbind, colnames, dirname, do.call,
    duplicated, eval, evalq, get, grep, grepl, intersect, is.unsorted,
    lapply, mapply, match, mget, order, paste, pmax, pmax.int, pmin,
    pmin.int, rank, rbind, rownames, sapply, setdiff, sort, table,
    tapply, union, unique, unsplit, which.max, which.min
Loading required package: S4Vectors
Loading required package: stats4
Attaching package: ‘S4Vectors’
The following object is masked from ‘package:utils’:
    findMatches
The following objects are masked from ‘package:base’:
    I, expand.grid, unname
Loading required package: IRanges
Loading required package: GenomicRanges
Loading required package: GenomeInfoDb
Loading required package: Biostrings
Loading required package: XVector
Attaching package: ‘Biostrings’
The following object is masked from ‘package:base’:
    strsplit
Loading required package: BSgenome
Loading required package: rtracklayer
Loading required package: GenomicFeatures
Loading required package: AnnotationDbi
Loading required package: Biobase
Welcome to Bioconductor
    Vignettes contain introductory material; view with
    'browseVignettes()'. To cite Bioconductor, see
    'citation("Biobase")', and for packages 'citation("pkgname")'.
Loading required package: VariantAnnotation
Loading required package: MatrixGenerics
Loading required package: matrixStats
Attaching package: ‘matrixStats’
The following objects are masked from ‘package:Biobase’:
    anyMissing, rowMedians
Attaching package: ‘MatrixGenerics’
The following objects are masked from ‘package:matrixStats’:
    colAlls, colAnyNAs, colAnys, colAvgsPerRowSet, colCollapse,
    colCounts, colCummaxs, colCummins, colCumprods, colCumsums,
    colDiffs, colIQRDiffs, colIQRs, colLogSumExps, colMadDiffs,
    colMads, colMaxs, colMeans2, colMedians, colMins, colOrderStats,
    colProds, colQuantiles, colRanges, colRanks, colSdDiffs, colSds,
    colSums2, colTabulates, colVarDiffs, colVars, colWeightedMads,
    colWeightedMeans, colWeightedMedians, colWeightedSds,
    colWeightedVars, rowAlls, rowAnyNAs, rowAnys, rowAvgsPerColSet,
    rowCollapse, rowCounts, rowCummaxs, rowCummins, rowCumprods,
    rowCumsums, rowDiffs, rowIQRDiffs, rowIQRs, rowLogSumExps,
    rowMadDiffs, rowMads, rowMaxs, rowMeans2, rowMedians, rowMins,
    rowOrderStats, rowProds, rowQuantiles, rowRanges, rowRanks,
    rowSdDiffs, rowSds, rowSums2, rowTabulates, rowVarDiffs, rowVars,
    rowWeightedMads, rowWeightedMeans, rowWeightedMedians,
    rowWeightedSds, rowWeightedVars
The following object is masked from ‘package:Biobase’:
    rowMedians
Loading required package: SummarizedExperiment
Loading required package: Rsamtools
Attaching package: ‘VariantAnnotation’
The following object is masked from ‘package:base’:
    tabulate
Loading required package: GenomicAlignments
Loading required package: BiocIO
Attaching package: ‘BiocIO’
The following object is masked from ‘package:rtracklayer’:
    FileForFormat
Assuming BED format for piped input
Error: processing vignette 'tutorial.Rnw' failed with diagnostics:
 chunk 56 (label = answer-6) 
Error in library(TxDb.Hsapiens.UCSC.hg19.knownGene) : 
  there is no package called ‘TxDb.Hsapiens.UCSC.hg19.knownGene’
--- failed re-building ‘tutorial.Rnw’
SUMMARY: processing the following file failed:
  ‘tutorial.Rnw’
Error: Vignette re-building failed.
Execution halted
* checking PDF version of manual ... OK
* DONE
Status: 1 ERROR, 1 WARNING, 3 NOTEs
See
  ‘/home/biocbuild/bbs-3.17-bioc/meat/HelloRanges.Rcheck/00check.log’
for details.
HelloRanges.Rcheck/00install.out
############################################################################## ############################################################################## ### ### Running command: ### ### /home/biocbuild/bbs-3.17-bioc/R/bin/R CMD INSTALL HelloRanges ### ############################################################################## ############################################################################## * installing to library ‘/home/biocbuild/bbs-3.17-bioc/R/site-library’ * installing *source* package ‘HelloRanges’ ... ** using staged installation ** R ** inst ** byte-compile and prepare package for lazy loading ** help *** installing help indices ** building package indices ** installing vignettes ** testing if installed package can be loaded from temporary location ** testing if installed package can be loaded from final location ** testing if installed package keeps a record of temporary installation path * DONE (HelloRanges)
HelloRanges.Rcheck/tests/HelloRanges_unit_tests.Rout.fail
R version 4.3.1 (2023-06-16) -- "Beagle Scouts"
Copyright (C) 2023 The R Foundation for Statistical Computing
Platform: x86_64-pc-linux-gnu (64-bit)
R is free software and comes with ABSOLUTELY NO WARRANTY.
You are welcome to redistribute it under certain conditions.
Type 'license()' or 'licence()' for distribution details.
R is a collaborative project with many contributors.
Type 'contributors()' for more information and
'citation()' on how to cite R or R packages in publications.
Type 'demo()' for some demos, 'help()' for on-line help, or
'help.start()' for an HTML browser interface to help.
Type 'q()' to quit R.
> require("HelloRanges") || stop("unable to load HelloRanges package")
Loading required package: HelloRanges
Loading required package: BiocGenerics
Attaching package: 'BiocGenerics'
The following objects are masked from 'package:stats':
    IQR, mad, sd, var, xtabs
The following objects are masked from 'package:base':
    Filter, Find, Map, Position, Reduce, anyDuplicated, aperm, append,
    as.data.frame, basename, cbind, colnames, dirname, do.call,
    duplicated, eval, evalq, get, grep, grepl, intersect, is.unsorted,
    lapply, mapply, match, mget, order, paste, pmax, pmax.int, pmin,
    pmin.int, rank, rbind, rownames, sapply, setdiff, sort, table,
    tapply, union, unique, unsplit, which.max, which.min
Loading required package: S4Vectors
Loading required package: stats4
Attaching package: 'S4Vectors'
The following object is masked from 'package:utils':
    findMatches
The following objects are masked from 'package:base':
    I, expand.grid, unname
Loading required package: IRanges
Loading required package: GenomicRanges
Loading required package: GenomeInfoDb
Loading required package: Biostrings
Loading required package: XVector
Attaching package: 'Biostrings'
The following object is masked from 'package:base':
    strsplit
Loading required package: BSgenome
Loading required package: rtracklayer
Loading required package: GenomicFeatures
Loading required package: AnnotationDbi
Loading required package: Biobase
Welcome to Bioconductor
    Vignettes contain introductory material; view with
    'browseVignettes()'. To cite Bioconductor, see
    'citation("Biobase")', and for packages 'citation("pkgname")'.
Loading required package: VariantAnnotation
Loading required package: MatrixGenerics
Loading required package: matrixStats
Attaching package: 'matrixStats'
The following objects are masked from 'package:Biobase':
    anyMissing, rowMedians
Attaching package: 'MatrixGenerics'
The following objects are masked from 'package:matrixStats':
    colAlls, colAnyNAs, colAnys, colAvgsPerRowSet, colCollapse,
    colCounts, colCummaxs, colCummins, colCumprods, colCumsums,
    colDiffs, colIQRDiffs, colIQRs, colLogSumExps, colMadDiffs,
    colMads, colMaxs, colMeans2, colMedians, colMins, colOrderStats,
    colProds, colQuantiles, colRanges, colRanks, colSdDiffs, colSds,
    colSums2, colTabulates, colVarDiffs, colVars, colWeightedMads,
    colWeightedMeans, colWeightedMedians, colWeightedSds,
    colWeightedVars, rowAlls, rowAnyNAs, rowAnys, rowAvgsPerColSet,
    rowCollapse, rowCounts, rowCummaxs, rowCummins, rowCumprods,
    rowCumsums, rowDiffs, rowIQRDiffs, rowIQRs, rowLogSumExps,
    rowMadDiffs, rowMads, rowMaxs, rowMeans2, rowMedians, rowMins,
    rowOrderStats, rowProds, rowQuantiles, rowRanges, rowRanks,
    rowSdDiffs, rowSds, rowSums2, rowTabulates, rowVarDiffs, rowVars,
    rowWeightedMads, rowWeightedMeans, rowWeightedMedians,
    rowWeightedSds, rowWeightedVars
The following object is masked from 'package:Biobase':
    rowMedians
Loading required package: SummarizedExperiment
Loading required package: Rsamtools
Attaching package: 'VariantAnnotation'
The following object is masked from 'package:base':
    tabulate
Loading required package: GenomicAlignments
Loading required package: BiocIO
Attaching package: 'BiocIO'
The following object is masked from 'package:rtracklayer':
    FileForFormat
[1] TRUE
> HelloRanges:::.test()
Error in library("RUnit", quietly = TRUE) : 
  there is no package called 'RUnit'
Calls: <Anonymous> -> <Anonymous> -> library
Execution halted
HelloRanges.Rcheck/HelloRanges-Ex.timings
| name | user | system | elapsed | |
| bedtools_closest | 0.226 | 0.001 | 0.227 | |
| bedtools_complement | 0.012 | 0.003 | 0.017 | |
| bedtools_coverage | 0.104 | 0.024 | 0.128 | |
| bedtools_flank | 0.086 | 0.015 | 0.101 | |
| bedtools_genomecov | 0.102 | 0.016 | 0.118 | |
| bedtools_getfasta | 0.036 | 0.008 | 0.044 | |
| bedtools_groupby | 0.048 | 0.008 | 0.056 | |
| bedtools_intersect | 0.449 | 0.017 | 0.464 | |
| bedtools_jaccard | 0.080 | 0.007 | 0.089 | |
| bedtools_makewindows | 0.082 | 0.001 | 0.081 | |
| bedtools_map | 0.149 | 0.000 | 0.149 | |
| bedtools_merge | 0.183 | 0.000 | 0.182 | |
| bedtools_multiinter | 1.004 | 0.096 | 1.101 | |
| bedtools_nuc | 0.041 | 0.000 | 0.041 | |
| bedtools_shift | 0.049 | 0.000 | 0.049 | |
| bedtools_slop | 0.051 | 0.008 | 0.060 | |
| bedtools_subtract | 0.085 | 0.007 | 0.093 | |
| bedtools_unionbedg | 0.040 | 0.004 | 0.044 | |
| distmode | 0.000 | 0.002 | 0.002 | |