| Back to Multiple platform build/check report for BioC 3.17: simplified long | 
  | 
This page was generated on 2023-10-16 11:37:05 -0400 (Mon, 16 Oct 2023).
| Hostname | OS | Arch (*) | R version | Installed pkgs | 
|---|---|---|---|---|
| nebbiolo1 | Linux (Ubuntu 22.04.2 LTS) | x86_64 | 4.3.1 (2023-06-16) -- "Beagle Scouts" | 4626 | 
| palomino3 | Windows Server 2022 Datacenter | x64 | 4.3.1 (2023-06-16 ucrt) -- "Beagle Scouts" | 4379 | 
| merida1 | macOS 12.6.4 Monterey | x86_64 | 4.3.1 (2023-06-16) -- "Beagle Scouts" | 4395 | 
| Click on any hostname to see more info about the system (e.g. compilers) (*) as reported by 'uname -p', except on Windows and Mac OS X | ||||
| Package 805/2230 | Hostname | OS / Arch | INSTALL | BUILD | CHECK | BUILD BIN | ||||||||
| GenomicDistributions 1.8.0  (landing page) Kristyna Kupkova 
  | nebbiolo1 | Linux (Ubuntu 22.04.2 LTS) / x86_64 | OK | OK | OK | |||||||||
| palomino3 | Windows Server 2022 Datacenter / x64 | OK | OK | OK | OK | |||||||||
| merida1 | macOS 12.6.4 Monterey / x86_64 | OK | OK | OK | OK | |||||||||
| kjohnson2 | macOS 12.6.1 Monterey / arm64 | see weekly results here | ||||||||||||
| 
To the developers/maintainers of the GenomicDistributions package: - Allow up to 24 hours (and sometimes 48 hours) for your latest push to git@git.bioconductor.org:packages/GenomicDistributions.git to reflect on this report. See Troubleshooting Build Report for more information. - Use the following Renviron settings to reproduce errors and warnings. - If 'R CMD check' started to fail recently on the Linux builder(s) over a missing dependency, add the missing dependency to 'Suggests:' in your DESCRIPTION file. See Renviron.bioc for more information.  | 
| Package: GenomicDistributions | 
| Version: 1.8.0 | 
| Command: /Library/Frameworks/R.framework/Resources/bin/R CMD check --install=check:GenomicDistributions.install-out.txt --library=/Library/Frameworks/R.framework/Resources/library --no-vignettes --timings GenomicDistributions_1.8.0.tar.gz | 
| StartedAt: 2023-10-16 02:03:11 -0400 (Mon, 16 Oct 2023) | 
| EndedAt: 2023-10-16 02:10:18 -0400 (Mon, 16 Oct 2023) | 
| EllapsedTime: 426.8 seconds | 
| RetCode: 0 | 
| Status: OK | 
| CheckDir: GenomicDistributions.Rcheck | 
| Warnings: 0 | 
##############################################################################
##############################################################################
###
### Running command:
###
###   /Library/Frameworks/R.framework/Resources/bin/R CMD check --install=check:GenomicDistributions.install-out.txt --library=/Library/Frameworks/R.framework/Resources/library --no-vignettes --timings GenomicDistributions_1.8.0.tar.gz
###
##############################################################################
##############################################################################
* using log directory ‘/Users/biocbuild/bbs-3.17-bioc/meat/GenomicDistributions.Rcheck’
* using R version 4.3.1 (2023-06-16)
* using platform: x86_64-apple-darwin20 (64-bit)
* R was compiled by
    Apple clang version 14.0.3 (clang-1403.0.22.14.1)
    GNU Fortran (GCC) 12.2.0
* running under: macOS Monterey 12.6.4
* using session charset: UTF-8
* using option ‘--no-vignettes’
* checking for file ‘GenomicDistributions/DESCRIPTION’ ... OK
* this is package ‘GenomicDistributions’ version ‘1.8.0’
* package encoding: UTF-8
* checking package namespace information ... OK
* checking package dependencies ... OK
* checking if this is a source package ... OK
* checking if there is a namespace ... OK
* checking for hidden files and directories ... OK
* checking for portable file names ... OK
* checking for sufficient/correct file permissions ... OK
* checking whether package ‘GenomicDistributions’ can be installed ... OK
* checking installed package size ... OK
* checking package directory ... OK
* checking ‘build’ directory ... OK
* checking DESCRIPTION meta-information ... OK
* checking top-level files ... OK
* checking for left-over files ... OK
* checking index information ... OK
* checking package subdirectories ... OK
* checking R files for non-ASCII characters ... OK
* checking R files for syntax errors ... OK
* checking whether the package can be loaded ... OK
* checking whether the package can be loaded with stated dependencies ... OK
* checking whether the package can be unloaded cleanly ... OK
* checking whether the namespace can be loaded with stated dependencies ... OK
* checking whether the namespace can be unloaded cleanly ... OK
* checking dependencies in R code ... OK
* checking S3 generic/method consistency ... OK
* checking replacement functions ... OK
* checking foreign function calls ... OK
* checking R code for possible problems ... OK
* checking Rd files ... OK
* checking Rd metadata ... OK
* checking Rd cross-references ... OK
* checking for missing documentation entries ... OK
* checking for code/documentation mismatches ... OK
* checking Rd \usage sections ... OK
* checking Rd contents ... OK
* checking for unstated dependencies in examples ... OK
* checking contents of ‘data’ directory ... OK
* checking data for non-ASCII characters ... OK
* checking LazyData ... OK
* checking data for ASCII and uncompressed saves ... OK
* checking files in ‘vignettes’ ... OK
* checking examples ... OK
Examples with CPU (user + system) or elapsed time > 5s
                           user system elapsed
getGeneModelsFromGTF     12.889  0.604  17.635
calcCumulativePartitions  4.510  0.135   5.846
calcChromBins             4.345  0.036   5.447
plotCumulativePartitions  3.823  0.136   5.211
plotExpectedPartitions    3.800  0.067   5.237
* checking for unstated dependencies in ‘tests’ ... OK
* checking tests ...
  Running ‘testthat.R’
 OK
* checking for unstated dependencies in vignettes ... OK
* checking package vignettes in ‘inst/doc’ ... OK
* checking running R code from vignettes ... SKIPPED
* checking re-building of vignette outputs ... SKIPPED
* checking PDF version of manual ... OK
* DONE
Status: OK
GenomicDistributions.Rcheck/00install.out
############################################################################## ############################################################################## ### ### Running command: ### ### /Library/Frameworks/R.framework/Resources/bin/R CMD INSTALL GenomicDistributions ### ############################################################################## ############################################################################## * installing to library ‘/Library/Frameworks/R.framework/Versions/4.3-x86_64/Resources/library’ * installing *source* package ‘GenomicDistributions’ ... ** using staged installation ** R ** data *** moving datasets to lazyload DB ** inst ** byte-compile and prepare package for lazy loading ** help *** installing help indices ** building package indices ** installing vignettes ** testing if installed package can be loaded from temporary location ** testing if installed package can be loaded from final location ** testing if installed package keeps a record of temporary installation path * DONE (GenomicDistributions)
GenomicDistributions.Rcheck/tests/testthat.Rout
R version 4.3.1 (2023-06-16) -- "Beagle Scouts"
Copyright (C) 2023 The R Foundation for Statistical Computing
Platform: x86_64-apple-darwin20 (64-bit)
R is free software and comes with ABSOLUTELY NO WARRANTY.
You are welcome to redistribute it under certain conditions.
Type 'license()' or 'licence()' for distribution details.
R is a collaborative project with many contributors.
Type 'contributors()' for more information and
'citation()' on how to cite R or R packages in publications.
Type 'demo()' for some demos, 'help()' for on-line help, or
'help.start()' for an HTML browser interface to help.
Type 'q()' to quit R.
> library(testthat)
> library("GenomicDistributions")
Loading required package: IRanges
Loading required package: BiocGenerics
Attaching package: 'BiocGenerics'
The following objects are masked from 'package:stats':
    IQR, mad, sd, var, xtabs
The following objects are masked from 'package:base':
    Filter, Find, Map, Position, Reduce, anyDuplicated, aperm, append,
    as.data.frame, basename, cbind, colnames, dirname, do.call,
    duplicated, eval, evalq, get, grep, grepl, intersect, is.unsorted,
    lapply, mapply, match, mget, order, paste, pmax, pmax.int, pmin,
    pmin.int, rank, rbind, rownames, sapply, setdiff, sort, table,
    tapply, union, unique, unsplit, which.max, which.min
Loading required package: S4Vectors
Loading required package: stats4
Attaching package: 'S4Vectors'
The following object is masked from 'package:utils':
    findMatches
The following objects are masked from 'package:base':
    I, expand.grid, unname
Loading required package: GenomicRanges
Loading required package: GenomeInfoDb
> 
> test_check("GenomicDistributions")
[ FAIL 0 | WARN 0 | SKIP 1 | PASS 48 ]
══ Skipped tests (1) ═══════════════════════════════════════════════════════════
• empty test (1): 'test_all.R:139:1'
[ FAIL 0 | WARN 0 | SKIP 1 | PASS 48 ]
> 
> proc.time()
   user  system elapsed 
 47.231   1.729  61.920 
GenomicDistributions.Rcheck/GenomicDistributions-Ex.timings
| name | user | system | elapsed | |
| binBSGenome | 0.000 | 0.001 | 0.000 | |
| binChroms | 0.025 | 0.002 | 0.033 | |
| binRegion | 0.002 | 0.000 | 0.002 | |
| calcChromBins | 4.345 | 0.036 | 5.447 | |
| calcChromBinsRef | 0.034 | 0.004 | 0.056 | |
| calcChromBinsRefSlow | 0.032 | 0.003 | 0.052 | |
| calcCumulativePartitions | 4.510 | 0.135 | 5.846 | |
| calcCumulativePartitionsRef | 3.432 | 0.083 | 4.483 | |
| calcDinuclFreq | 0.000 | 0.001 | 0.001 | |
| calcDinuclFreqRef | 0.001 | 0.001 | 0.000 | |
| calcExpectedPartitions | 3.004 | 0.063 | 3.878 | |
| calcExpectedPartitionsRef | 2.924 | 0.063 | 3.863 | |
| calcFeatureDist | 0.222 | 0.023 | 0.307 | |
| calcFeatureDistRefTSS | 0.343 | 0.026 | 0.441 | |
| calcGCContent | 0.000 | 0.001 | 0.001 | |
| calcGCContentRef | 0 | 0 | 0 | |
| calcNearestNeighbors | 0.068 | 0.001 | 0.102 | |
| calcNeighborDist | 0.443 | 0.013 | 0.603 | |
| calcPartitions | 2.707 | 0.061 | 3.547 | |
| calcPartitionsRef | 2.812 | 0.069 | 3.756 | |
| calcSummarySignal | 0.048 | 0.001 | 0.064 | |
| calcWidth | 0.001 | 0.000 | 0.001 | |
| dot-validateInputs | 0.000 | 0.000 | 0.007 | |
| dtToGr | 0.022 | 0.001 | 0.025 | |
| genomePartitionList | 2.512 | 0.046 | 3.353 | |
| getChromSizes | 0.005 | 0.005 | 0.018 | |
| getChromSizesFromFasta | 0.040 | 0.002 | 0.048 | |
| getGeneModels | 0.153 | 0.017 | 0.227 | |
| getGeneModelsFromGTF | 12.889 | 0.604 | 17.635 | |
| getGenomeBins | 3.624 | 0.025 | 4.848 | |
| getTssFromGTF | 0.226 | 0.004 | 0.307 | |
| loadBSgenome | 0.000 | 0.001 | 0.001 | |
| loadEnsDb | 0.000 | 0.001 | 0.000 | |
| nlist | 0.001 | 0.001 | 0.001 | |
| plotChromBins | 0.090 | 0.002 | 0.120 | |
| plotCumulativePartitions | 3.823 | 0.136 | 5.211 | |
| plotDinuclFreq | 0.033 | 0.002 | 0.047 | |
| plotExpectedPartitions | 3.800 | 0.067 | 5.237 | |
| plotFeatureDist | 0.530 | 0.018 | 0.805 | |
| plotGCContent | 0.067 | 0.002 | 0.088 | |
| plotNeighborDist | 0.026 | 0.001 | 0.028 | |
| plotPartitions | 3.740 | 0.056 | 4.813 | |
| plotQTHist | 0.083 | 0.001 | 0.116 | |
| plotSummarySignal | 0.191 | 0.004 | 0.257 | |
| retrieveFile | 0.002 | 0.001 | 0.003 | |