| Back to Multiple platform build/check report for BioC 3.17: simplified long |
|
This page was generated on 2023-10-16 11:37:05 -0400 (Mon, 16 Oct 2023).
| Hostname | OS | Arch (*) | R version | Installed pkgs |
|---|---|---|---|---|
| nebbiolo1 | Linux (Ubuntu 22.04.2 LTS) | x86_64 | 4.3.1 (2023-06-16) -- "Beagle Scouts" | 4626 |
| palomino3 | Windows Server 2022 Datacenter | x64 | 4.3.1 (2023-06-16 ucrt) -- "Beagle Scouts" | 4379 |
| merida1 | macOS 12.6.4 Monterey | x86_64 | 4.3.1 (2023-06-16) -- "Beagle Scouts" | 4395 |
| Click on any hostname to see more info about the system (e.g. compilers) (*) as reported by 'uname -p', except on Windows and Mac OS X | ||||
| Package 799/2230 | Hostname | OS / Arch | INSTALL | BUILD | CHECK | BUILD BIN | ||||||||
| GenomAutomorphism 1.2.0 (landing page) Robersy Sanchez
| nebbiolo1 | Linux (Ubuntu 22.04.2 LTS) / x86_64 | OK | OK | OK | |||||||||
| palomino3 | Windows Server 2022 Datacenter / x64 | OK | OK | OK | OK | |||||||||
| merida1 | macOS 12.6.4 Monterey / x86_64 | OK | OK | OK | OK | |||||||||
| kjohnson2 | macOS 12.6.1 Monterey / arm64 | see weekly results here | ||||||||||||
|
To the developers/maintainers of the GenomAutomorphism package: - Allow up to 24 hours (and sometimes 48 hours) for your latest push to git@git.bioconductor.org:packages/GenomAutomorphism.git to reflect on this report. See Troubleshooting Build Report for more information. - Use the following Renviron settings to reproduce errors and warnings. - If 'R CMD check' started to fail recently on the Linux builder(s) over a missing dependency, add the missing dependency to 'Suggests:' in your DESCRIPTION file. See Renviron.bioc for more information. |
| Package: GenomAutomorphism |
| Version: 1.2.0 |
| Command: /Library/Frameworks/R.framework/Resources/bin/R CMD check --install=check:GenomAutomorphism.install-out.txt --library=/Library/Frameworks/R.framework/Resources/library --no-vignettes --timings GenomAutomorphism_1.2.0.tar.gz |
| StartedAt: 2023-10-16 02:02:06 -0400 (Mon, 16 Oct 2023) |
| EndedAt: 2023-10-16 02:17:51 -0400 (Mon, 16 Oct 2023) |
| EllapsedTime: 945.8 seconds |
| RetCode: 0 |
| Status: OK |
| CheckDir: GenomAutomorphism.Rcheck |
| Warnings: 0 |
##############################################################################
##############################################################################
###
### Running command:
###
### /Library/Frameworks/R.framework/Resources/bin/R CMD check --install=check:GenomAutomorphism.install-out.txt --library=/Library/Frameworks/R.framework/Resources/library --no-vignettes --timings GenomAutomorphism_1.2.0.tar.gz
###
##############################################################################
##############################################################################
* using log directory ‘/Users/biocbuild/bbs-3.17-bioc/meat/GenomAutomorphism.Rcheck’
* using R version 4.3.1 (2023-06-16)
* using platform: x86_64-apple-darwin20 (64-bit)
* R was compiled by
Apple clang version 14.0.3 (clang-1403.0.22.14.1)
GNU Fortran (GCC) 12.2.0
* running under: macOS Monterey 12.6.4
* using session charset: UTF-8
* using option ‘--no-vignettes’
* checking for file ‘GenomAutomorphism/DESCRIPTION’ ... OK
* this is package ‘GenomAutomorphism’ version ‘1.2.0’
* package encoding: UTF-8
* checking package namespace information ... OK
* checking package dependencies ... OK
* checking if this is a source package ... OK
* checking if there is a namespace ... OK
* checking for hidden files and directories ... OK
* checking for portable file names ... OK
* checking for sufficient/correct file permissions ... OK
* checking whether package ‘GenomAutomorphism’ can be installed ... OK
* checking installed package size ... OK
* checking package directory ... OK
* checking ‘build’ directory ... OK
* checking DESCRIPTION meta-information ... OK
* checking top-level files ... OK
* checking for left-over files ... OK
* checking index information ... OK
* checking package subdirectories ... OK
* checking R files for non-ASCII characters ... OK
* checking R files for syntax errors ... OK
* checking whether the package can be loaded ... OK
* checking whether the package can be loaded with stated dependencies ... OK
* checking whether the package can be unloaded cleanly ... OK
* checking whether the namespace can be loaded with stated dependencies ... OK
* checking whether the namespace can be unloaded cleanly ... OK
* checking dependencies in R code ... OK
* checking S3 generic/method consistency ... OK
* checking replacement functions ... OK
* checking foreign function calls ... OK
* checking R code for possible problems ... OK
* checking Rd files ... OK
* checking Rd metadata ... OK
* checking Rd cross-references ... NOTE
Package unavailable to check Rd xrefs: ‘mod’
* checking for missing documentation entries ... OK
* checking for code/documentation mismatches ... OK
* checking Rd \usage sections ... OK
* checking Rd contents ... OK
* checking for unstated dependencies in examples ... OK
* checking contents of ‘data’ directory ... OK
* checking data for non-ASCII characters ... OK
* checking data for ASCII and uncompressed saves ... OK
* checking files in ‘vignettes’ ... OK
* checking examples ... OK
Examples with CPU (user + system) or elapsed time > 5s
user system elapsed
automorphisms 6.968 0.296 146.580
aminoacid_dist 4.433 1.378 23.715
AutomorphismList 4.800 0.080 6.193
autZ64 2.505 0.094 49.291
aut3D 2.225 0.194 49.035
autZ125 2.126 0.095 49.314
autZ5 1.457 0.084 47.053
codon_dist_matrix 0.071 0.015 19.010
* checking for unstated dependencies in ‘tests’ ... OK
* checking tests ...
Running ‘spelling.R’
Running ‘testthat.R’
OK
* checking for unstated dependencies in vignettes ... OK
* checking package vignettes in ‘inst/doc’ ... OK
* checking running R code from vignettes ... SKIPPED
* checking re-building of vignette outputs ... SKIPPED
* checking PDF version of manual ... OK
* DONE
Status: 1 NOTE
See
‘/Users/biocbuild/bbs-3.17-bioc/meat/GenomAutomorphism.Rcheck/00check.log’
for details.
GenomAutomorphism.Rcheck/00install.out
############################################################################## ############################################################################## ### ### Running command: ### ### /Library/Frameworks/R.framework/Resources/bin/R CMD INSTALL GenomAutomorphism ### ############################################################################## ############################################################################## * installing to library ‘/Library/Frameworks/R.framework/Versions/4.3-x86_64/Resources/library’ * installing *source* package ‘GenomAutomorphism’ ... ** using staged installation ** R ** data ** inst ** byte-compile and prepare package for lazy loading Creating a new generic function for ‘mod’ in package ‘GenomAutomorphism’ ** help *** installing help indices *** copying figures ** building package indices ** installing vignettes ** testing if installed package can be loaded from temporary location ** testing if installed package can be loaded from final location ** testing if installed package keeps a record of temporary installation path * DONE (GenomAutomorphism)
GenomAutomorphism.Rcheck/tests/spelling.Rout
R version 4.3.1 (2023-06-16) -- "Beagle Scouts"
Copyright (C) 2023 The R Foundation for Statistical Computing
Platform: x86_64-apple-darwin20 (64-bit)
R is free software and comes with ABSOLUTELY NO WARRANTY.
You are welcome to redistribute it under certain conditions.
Type 'license()' or 'licence()' for distribution details.
R is a collaborative project with many contributors.
Type 'contributors()' for more information and
'citation()' on how to cite R or R packages in publications.
Type 'demo()' for some demos, 'help()' for on-line help, or
'help.start()' for an HTML browser interface to help.
Type 'q()' to quit R.
> if (requireNamespace("spelling", quietly = TRUE)) {
+ spelling::spell_check_test(
+ vignettes = TRUE, error = FALSE,
+ skip_on_cran = TRUE
+ )
+ }
NULL
>
> proc.time()
user system elapsed
0.357 0.118 0.474
GenomAutomorphism.Rcheck/tests/testthat.Rout
R version 4.3.1 (2023-06-16) -- "Beagle Scouts"
Copyright (C) 2023 The R Foundation for Statistical Computing
Platform: x86_64-apple-darwin20 (64-bit)
R is free software and comes with ABSOLUTELY NO WARRANTY.
You are welcome to redistribute it under certain conditions.
Type 'license()' or 'licence()' for distribution details.
R is a collaborative project with many contributors.
Type 'contributors()' for more information and
'citation()' on how to cite R or R packages in publications.
Type 'demo()' for some demos, 'help()' for on-line help, or
'help.start()' for an HTML browser interface to help.
Type 'q()' to quit R.
> library(testthat)
> library(GenomAutomorphism)
>
> test_check("GenomAutomorphism")
[ FAIL 0 | WARN 7 | SKIP 0 | PASS 31 ]
[ FAIL 0 | WARN 7 | SKIP 0 | PASS 31 ]
>
> proc.time()
user system elapsed
33.144 1.741 165.929
GenomAutomorphism.Rcheck/GenomAutomorphism-Ex.timings
| name | user | system | elapsed | |
| AutomorphismByCoef | 0.960 | 0.030 | 1.231 | |
| AutomorphismList | 4.800 | 0.080 | 6.193 | |
| CodonSeq | 0.866 | 0.022 | 1.119 | |
| aa_mutmat | 0.044 | 0.015 | 0.102 | |
| aaindex2 | 0.012 | 0.002 | 0.018 | |
| aaindex3 | 0.009 | 0.002 | 0.018 | |
| aminoacid_dist | 4.433 | 1.378 | 23.715 | |
| as.AutomorphismList | 1.200 | 0.094 | 1.661 | |
| aut3D | 2.225 | 0.194 | 49.035 | |
| autZ125 | 2.126 | 0.095 | 49.314 | |
| autZ5 | 1.457 | 0.084 | 47.053 | |
| autZ64 | 2.505 | 0.094 | 49.291 | |
| autm | 0.146 | 0.021 | 0.204 | |
| automorphismByRanges | 0.258 | 0.009 | 0.336 | |
| automorphism_bycoef | 0.231 | 0.006 | 0.287 | |
| automorphisms | 6.968 | 0.296 | 146.580 | |
| base2codon | 0.139 | 0.008 | 0.159 | |
| base2int | 0.003 | 0.002 | 0.005 | |
| base_coord | 0.387 | 0.015 | 0.478 | |
| cdm_z64 | 0.050 | 0.004 | 0.062 | |
| codon_coord | 1.267 | 0.027 | 1.709 | |
| codon_dist | 0.649 | 0.016 | 0.884 | |
| codon_dist_matrix | 0.071 | 0.015 | 19.010 | |
| conserved_regions | 0.972 | 0.083 | 1.293 | |
| extract-methods | 1.037 | 0.052 | 1.464 | |
| getAutomorphisms | 0.424 | 0.026 | 0.571 | |
| get_coord | 0.858 | 0.021 | 1.112 | |
| get_mutscore | 0.271 | 0.006 | 0.343 | |
| matrices | 0.816 | 0.023 | 1.081 | |
| mod | 0.003 | 0.002 | 0.006 | |
| modeq | 0.002 | 0.001 | 0.007 | |
| modlineq | 0.006 | 0.005 | 0.015 | |
| mut_type | 0.004 | 0.002 | 0.005 | |
| reexports | 0.247 | 0.016 | 0.347 | |
| seqranges | 0.910 | 0.016 | 1.365 | |
| slapply | 0.005 | 0.002 | 0.008 | |
| sortByChromAndStart | 0.145 | 0.001 | 0.184 | |
| str2chr | 0.000 | 0.002 | 0.003 | |
| str2dig | 0.001 | 0.002 | 0.003 | |
| translation | 1.15 | 0.02 | 1.49 | |