| Back to Multiple platform build/check report for BioC 3.17: simplified long | 
  | 
This page was generated on 2023-10-16 11:35:23 -0400 (Mon, 16 Oct 2023).
| Hostname | OS | Arch (*) | R version | Installed pkgs | 
|---|---|---|---|---|
| nebbiolo1 | Linux (Ubuntu 22.04.2 LTS) | x86_64 | 4.3.1 (2023-06-16) -- "Beagle Scouts" | 4626 | 
| palomino3 | Windows Server 2022 Datacenter | x64 | 4.3.1 (2023-06-16 ucrt) -- "Beagle Scouts" | 4379 | 
| merida1 | macOS 12.6.4 Monterey | x86_64 | 4.3.1 (2023-06-16) -- "Beagle Scouts" | 4395 | 
| Click on any hostname to see more info about the system (e.g. compilers) (*) as reported by 'uname -p', except on Windows and Mac OS X | ||||
| Package 791/2230 | Hostname | OS / Arch | INSTALL | BUILD | CHECK | BUILD BIN | ||||||||
| GeneStructureTools 1.20.0  (landing page) Beth Signal 
  | nebbiolo1 | Linux (Ubuntu 22.04.2 LTS) / x86_64 | OK | OK | OK | |||||||||
| palomino3 | Windows Server 2022 Datacenter / x64 | OK | OK | OK | OK | |||||||||
| merida1 | macOS 12.6.4 Monterey / x86_64 | OK | OK | OK | OK | |||||||||
| kjohnson2 | macOS 12.6.1 Monterey / arm64 | see weekly results here | ||||||||||||
| 
To the developers/maintainers of the GeneStructureTools package: - Allow up to 24 hours (and sometimes 48 hours) for your latest push to git@git.bioconductor.org:packages/GeneStructureTools.git to reflect on this report. See Troubleshooting Build Report for more information. - Use the following Renviron settings to reproduce errors and warnings. - If 'R CMD check' started to fail recently on the Linux builder(s) over a missing dependency, add the missing dependency to 'Suggests:' in your DESCRIPTION file. See Renviron.bioc for more information.  | 
| Package: GeneStructureTools | 
| Version: 1.20.0 | 
| Command: /home/biocbuild/bbs-3.17-bioc/R/bin/R CMD check --install=check:GeneStructureTools.install-out.txt --library=/home/biocbuild/bbs-3.17-bioc/R/site-library --timings GeneStructureTools_1.20.0.tar.gz | 
| StartedAt: 2023-10-15 21:33:22 -0400 (Sun, 15 Oct 2023) | 
| EndedAt: 2023-10-15 21:41:24 -0400 (Sun, 15 Oct 2023) | 
| EllapsedTime: 481.5 seconds | 
| RetCode: 0 | 
| Status: OK | 
| CheckDir: GeneStructureTools.Rcheck | 
| Warnings: 0 | 
##############################################################################
##############################################################################
###
### Running command:
###
###   /home/biocbuild/bbs-3.17-bioc/R/bin/R CMD check --install=check:GeneStructureTools.install-out.txt --library=/home/biocbuild/bbs-3.17-bioc/R/site-library --timings GeneStructureTools_1.20.0.tar.gz
###
##############################################################################
##############################################################################
* using log directory ‘/home/biocbuild/bbs-3.17-bioc/meat/GeneStructureTools.Rcheck’
* using R version 4.3.1 (2023-06-16)
* using platform: x86_64-pc-linux-gnu (64-bit)
* R was compiled by
    gcc (Ubuntu 11.3.0-1ubuntu1~22.04.1) 11.3.0
    GNU Fortran (Ubuntu 11.3.0-1ubuntu1~22.04.1) 11.3.0
* running under: Ubuntu 22.04.3 LTS
* using session charset: UTF-8
* checking for file ‘GeneStructureTools/DESCRIPTION’ ... OK
* checking extension type ... Package
* this is package ‘GeneStructureTools’ version ‘1.20.0’
* package encoding: UTF-8
* checking package namespace information ... OK
* checking package dependencies ... OK
* checking if this is a source package ... OK
* checking if there is a namespace ... OK
* checking for hidden files and directories ... OK
* checking for portable file names ... OK
* checking for sufficient/correct file permissions ... OK
* checking whether package ‘GeneStructureTools’ can be installed ... OK
* checking installed package size ... OK
* checking package directory ... OK
* checking ‘build’ directory ... OK
* checking DESCRIPTION meta-information ... OK
* checking top-level files ... OK
* checking for left-over files ... OK
* checking index information ... OK
* checking package subdirectories ... OK
* checking R files for non-ASCII characters ... OK
* checking R files for syntax errors ... OK
* checking whether the package can be loaded ... OK
* checking whether the package can be loaded with stated dependencies ... OK
* checking whether the package can be unloaded cleanly ... OK
* checking whether the namespace can be loaded with stated dependencies ... OK
* checking whether the namespace can be unloaded cleanly ... OK
* checking loading without being on the library search path ... OK
* checking dependencies in R code ... OK
* checking S3 generic/method consistency ... OK
* checking replacement functions ... OK
* checking foreign function calls ... OK
* checking R code for possible problems ... OK
* checking Rd files ... OK
* checking Rd metadata ... OK
* checking Rd cross-references ... OK
* checking for missing documentation entries ... OK
* checking for code/documentation mismatches ... OK
* checking Rd \usage sections ... OK
* checking Rd contents ... OK
* checking for unstated dependencies in examples ... OK
* checking files in ‘vignettes’ ... OK
* checking examples ... OK
Examples with CPU (user + system) or elapsed time > 5s
                                    user system elapsed
leafcutterTranscriptChangeSummary 22.378  0.368  22.746
whippetTranscriptChangeSummary    11.517  0.171  11.690
* checking for unstated dependencies in vignettes ... OK
* checking package vignettes in ‘inst/doc’ ... OK
* checking running R code from vignettes ...
  ‘Vignette.Rmd’ using ‘UTF-8’... OK
 NONE
* checking re-building of vignette outputs ... OK
* checking PDF version of manual ... OK
* DONE
Status: OK
GeneStructureTools.Rcheck/00install.out
############################################################################## ############################################################################## ### ### Running command: ### ### /home/biocbuild/bbs-3.17-bioc/R/bin/R CMD INSTALL GeneStructureTools ### ############################################################################## ############################################################################## * installing to library ‘/home/biocbuild/bbs-3.17-bioc/R/site-library’ * installing *source* package ‘GeneStructureTools’ ... ** using staged installation ** R ** inst ** byte-compile and prepare package for lazy loading ** help *** installing help indices ** building package indices ** installing vignettes ** testing if installed package can be loaded from temporary location ** testing if installed package can be loaded from final location ** testing if installed package keeps a record of temporary installation path * DONE (GeneStructureTools)
GeneStructureTools.Rcheck/GeneStructureTools-Ex.timings
| name | user | system | elapsed | |
| DEXSeqIdsToGeneIds | 0.003 | 0.000 | 0.004 | |
| UTR2UTR53 | 3.159 | 0.203 | 3.363 | |
| addBroadTypes | 0.161 | 0.008 | 0.169 | |
| addIntronInTranscript | 1.718 | 0.090 | 1.807 | |
| alternativeIntronUsage | 3.877 | 0.048 | 3.925 | |
| annotateGeneModel | 0.755 | 0.012 | 0.767 | |
| attrChangeAltSpliced | 1.121 | 0.011 | 1.133 | |
| coordinates-methods | 0.058 | 0.006 | 0.063 | |
| diffSplicingResults-methods | 0.053 | 0.009 | 0.061 | |
| exonsToTranscripts | 0.236 | 0.008 | 0.243 | |
| filterGtfOverlap | 0.249 | 0.004 | 0.252 | |
| filterWhippetEvents | 0.066 | 0.001 | 0.068 | |
| findDEXexonType | 2.350 | 0.008 | 2.359 | |
| findExonContainingTranscripts | 0.373 | 0.012 | 0.385 | |
| findIntronContainingTranscripts | 0.637 | 0.007 | 0.644 | |
| findJunctionPairs | 1.216 | 0.027 | 1.242 | |
| formatWhippetEvents | 0.015 | 0.001 | 0.016 | |
| getOrfs | 0.684 | 0.016 | 0.700 | |
| getUOrfs | 0.512 | 0.016 | 0.528 | |
| junctions-methods | 0.051 | 0.013 | 0.063 | |
| leafcutterTranscriptChangeSummary | 22.378 | 0.368 | 22.746 | |
| makeGeneModel | 0.155 | 0.004 | 0.159 | |
| maxLocation | 0.003 | 0.000 | 0.003 | |
| orfDiff | 1.403 | 0.039 | 1.443 | |
| orfSimilarity | 0.000 | 0.000 | 0.001 | |
| overlapTypes | 2.147 | 0.000 | 2.148 | |
| readCounts-methods | 0.057 | 0.002 | 0.059 | |
| readWhippetDIFFfiles | 0.005 | 0.000 | 0.005 | |
| readWhippetDataSet | 0.050 | 0.012 | 0.061 | |
| readWhippetJNCfiles | 0.026 | 0.004 | 0.028 | |
| readWhippetPSIfiles | 0.012 | 0.004 | 0.016 | |
| removeDuplicateTranscripts | 0.242 | 0.004 | 0.247 | |
| removeSameExon | 0.195 | 0.008 | 0.204 | |
| removeVersion | 0.000 | 0.000 | 0.001 | |
| reorderExonNumbers | 0.202 | 0.000 | 0.203 | |
| replaceJunction | 3.741 | 0.017 | 3.759 | |
| skipExonInTranscript | 1.373 | 0.027 | 1.400 | |
| summariseExonTypes | 2.355 | 0.004 | 2.360 | |
| transcriptChangeSummary | 1.331 | 0.040 | 1.370 | |
| whippetTranscriptChangeSummary | 11.517 | 0.171 | 11.690 | |