| Back to Multiple platform build/check report for BioC 3.17: simplified long |
|
This page was generated on 2023-10-16 11:35:24 -0400 (Mon, 16 Oct 2023).
| Hostname | OS | Arch (*) | R version | Installed pkgs |
|---|---|---|---|---|
| nebbiolo1 | Linux (Ubuntu 22.04.2 LTS) | x86_64 | 4.3.1 (2023-06-16) -- "Beagle Scouts" | 4626 |
| palomino3 | Windows Server 2022 Datacenter | x64 | 4.3.1 (2023-06-16 ucrt) -- "Beagle Scouts" | 4379 |
| merida1 | macOS 12.6.4 Monterey | x86_64 | 4.3.1 (2023-06-16) -- "Beagle Scouts" | 4395 |
| Click on any hostname to see more info about the system (e.g. compilers) (*) as reported by 'uname -p', except on Windows and Mac OS X | ||||
| Package 857/2230 | Hostname | OS / Arch | INSTALL | BUILD | CHECK | BUILD BIN | ||||||||
| GOexpress 1.34.0 (landing page) Kevin Rue-Albrecht
| nebbiolo1 | Linux (Ubuntu 22.04.2 LTS) / x86_64 | OK | OK | OK | |||||||||
| palomino3 | Windows Server 2022 Datacenter / x64 | OK | OK | OK | OK | |||||||||
| merida1 | macOS 12.6.4 Monterey / x86_64 | OK | OK | OK | OK | |||||||||
| kjohnson2 | macOS 12.6.1 Monterey / arm64 | see weekly results here | ||||||||||||
|
To the developers/maintainers of the GOexpress package: - Allow up to 24 hours (and sometimes 48 hours) for your latest push to git@git.bioconductor.org:packages/GOexpress.git to reflect on this report. See Troubleshooting Build Report for more information. - Use the following Renviron settings to reproduce errors and warnings. - If 'R CMD check' started to fail recently on the Linux builder(s) over a missing dependency, add the missing dependency to 'Suggests:' in your DESCRIPTION file. See Renviron.bioc for more information. |
| Package: GOexpress |
| Version: 1.34.0 |
| Command: /home/biocbuild/bbs-3.17-bioc/R/bin/R CMD check --install=check:GOexpress.install-out.txt --library=/home/biocbuild/bbs-3.17-bioc/R/site-library --timings GOexpress_1.34.0.tar.gz |
| StartedAt: 2023-10-15 21:45:08 -0400 (Sun, 15 Oct 2023) |
| EndedAt: 2023-10-15 21:47:47 -0400 (Sun, 15 Oct 2023) |
| EllapsedTime: 158.4 seconds |
| RetCode: 0 |
| Status: OK |
| CheckDir: GOexpress.Rcheck |
| Warnings: 0 |
##############################################################################
##############################################################################
###
### Running command:
###
### /home/biocbuild/bbs-3.17-bioc/R/bin/R CMD check --install=check:GOexpress.install-out.txt --library=/home/biocbuild/bbs-3.17-bioc/R/site-library --timings GOexpress_1.34.0.tar.gz
###
##############################################################################
##############################################################################
* using log directory ‘/home/biocbuild/bbs-3.17-bioc/meat/GOexpress.Rcheck’
* using R version 4.3.1 (2023-06-16)
* using platform: x86_64-pc-linux-gnu (64-bit)
* R was compiled by
gcc (Ubuntu 11.3.0-1ubuntu1~22.04.1) 11.3.0
GNU Fortran (Ubuntu 11.3.0-1ubuntu1~22.04.1) 11.3.0
* running under: Ubuntu 22.04.3 LTS
* using session charset: UTF-8
* checking for file ‘GOexpress/DESCRIPTION’ ... OK
* this is package ‘GOexpress’ version ‘1.34.0’
* checking package namespace information ... OK
* checking package dependencies ... OK
* checking if this is a source package ... OK
* checking if there is a namespace ... OK
* checking for hidden files and directories ... NOTE
Found the following hidden files and directories:
.travis.yml
These were most likely included in error. See section ‘Package
structure’ in the ‘Writing R Extensions’ manual.
* checking for portable file names ... OK
* checking for sufficient/correct file permissions ... OK
* checking whether package ‘GOexpress’ can be installed ... OK
* checking installed package size ... OK
* checking package directory ... OK
* checking ‘build’ directory ... OK
* checking DESCRIPTION meta-information ... OK
* checking top-level files ... OK
* checking for left-over files ... OK
* checking index information ... OK
* checking package subdirectories ... OK
* checking R files for non-ASCII characters ... OK
* checking R files for syntax errors ... OK
* checking whether the package can be loaded ... OK
* checking whether the package can be loaded with stated dependencies ... OK
* checking whether the package can be unloaded cleanly ... OK
* checking whether the namespace can be loaded with stated dependencies ... OK
* checking whether the namespace can be unloaded cleanly ... OK
* checking loading without being on the library search path ... OK
* checking dependencies in R code ... OK
* checking S3 generic/method consistency ... OK
* checking replacement functions ... OK
* checking foreign function calls ... OK
* checking R code for possible problems ... NOTE
GO_analyse: no visible binding for global variable ‘microarray2dataset’
GO_analyse: no visible binding for global variable ‘prefix2dataset’
mart_from_ensembl: no visible binding for global variable
‘prefix2dataset’
Undefined global functions or variables:
microarray2dataset prefix2dataset
* checking Rd files ... OK
* checking Rd metadata ... OK
* checking Rd cross-references ... OK
* checking for missing documentation entries ... OK
* checking for code/documentation mismatches ... OK
* checking Rd \usage sections ... OK
* checking Rd contents ... OK
* checking for unstated dependencies in examples ... OK
* checking contents of ‘data’ directory ... OK
* checking data for non-ASCII characters ... OK
* checking LazyData ... OK
* checking data for ASCII and uncompressed saves ... OK
* checking files in ‘vignettes’ ... OK
* checking examples ... OK
* checking for unstated dependencies in vignettes ... OK
* checking package vignettes in ‘inst/doc’ ... OK
* checking running R code from vignettes ...
‘GOexpress-UsersGuide.Rnw’ using ‘UTF-8’... OK
OK
* checking re-building of vignette outputs ... OK
* checking PDF version of manual ... OK
* DONE
Status: 2 NOTEs
See
‘/home/biocbuild/bbs-3.17-bioc/meat/GOexpress.Rcheck/00check.log’
for details.
GOexpress.Rcheck/00install.out
############################################################################## ############################################################################## ### ### Running command: ### ### /home/biocbuild/bbs-3.17-bioc/R/bin/R CMD INSTALL GOexpress ### ############################################################################## ############################################################################## * installing to library ‘/home/biocbuild/bbs-3.17-bioc/R/site-library’ * installing *source* package ‘GOexpress’ ... ** using staged installation ** R ** data *** moving datasets to lazyload DB ** inst ** byte-compile and prepare package for lazy loading ** help *** installing help indices ** building package indices ** installing vignettes ** testing if installed package can be loaded from temporary location ** testing if installed package can be loaded from final location ** testing if installed package keeps a record of temporary installation path * DONE (GOexpress)
GOexpress.Rcheck/GOexpress-Ex.timings
| name | user | system | elapsed | |
| AlvMac | 0.190 | 0.013 | 0.203 | |
| AlvMac_GOgenes | 0.587 | 0.028 | 0.615 | |
| AlvMac_allGO | 0.025 | 0.016 | 0.041 | |
| AlvMac_allgenes | 0.007 | 0.000 | 0.007 | |
| AlvMac_results | 0.144 | 0.052 | 0.196 | |
| AlvMac_results.pVal | 1.243 | 1.688 | 2.931 | |
| GO_analyse | 2.128 | 0.096 | 2.225 | |
| GOexpress-package | 0.000 | 0.003 | 0.003 | |
| cluster_GO | 0.509 | 0.051 | 0.561 | |
| expression_plot | 2.054 | 0.132 | 2.187 | |
| expression_plot_symbol | 1.009 | 0.028 | 1.037 | |
| expression_profiles | 0.738 | 0.016 | 0.753 | |
| expression_profiles_symbol | 1.374 | 0.040 | 1.414 | |
| heatmap_GO | 0.426 | 0.016 | 0.442 | |
| hist_scores | 0.235 | 0.012 | 0.248 | |
| list_genes | 0.103 | 0.004 | 0.107 | |
| microarray2dataset | 0.006 | 0.007 | 0.013 | |
| pValue_GO | 0 | 0 | 0 | |
| plot_design | 0.684 | 0.052 | 0.735 | |
| prefix2dataset | 0.010 | 0.000 | 0.009 | |
| quantiles_scores | 0.125 | 0.000 | 0.124 | |
| rerank | 0.188 | 0.016 | 0.204 | |
| subEset | 0.038 | 0.000 | 0.039 | |
| subset_scores | 0.168 | 0.007 | 0.176 | |
| table_genes | 0.091 | 0.003 | 0.095 | |