| Back to Multiple platform build/check report for BioC 3.17: simplified long | 
  | 
This page was generated on 2023-10-16 11:35:24 -0400 (Mon, 16 Oct 2023).
| Hostname | OS | Arch (*) | R version | Installed pkgs | 
|---|---|---|---|---|
| nebbiolo1 | Linux (Ubuntu 22.04.2 LTS) | x86_64 | 4.3.1 (2023-06-16) -- "Beagle Scouts" | 4626 | 
| palomino3 | Windows Server 2022 Datacenter | x64 | 4.3.1 (2023-06-16 ucrt) -- "Beagle Scouts" | 4379 | 
| merida1 | macOS 12.6.4 Monterey | x86_64 | 4.3.1 (2023-06-16) -- "Beagle Scouts" | 4395 | 
| Click on any hostname to see more info about the system (e.g. compilers) (*) as reported by 'uname -p', except on Windows and Mac OS X | ||||
| Package 824/2230 | Hostname | OS / Arch | INSTALL | BUILD | CHECK | BUILD BIN | ||||||||
| GEOquery 2.68.0  (landing page) Sean Davis 
  | nebbiolo1 | Linux (Ubuntu 22.04.2 LTS) / x86_64 | OK | OK | ERROR | |||||||||
| palomino3 | Windows Server 2022 Datacenter / x64 | OK | OK | OK | OK | |||||||||
| merida1 | macOS 12.6.4 Monterey / x86_64 | OK | OK | OK | OK | |||||||||
| kjohnson2 | macOS 12.6.1 Monterey / arm64 | see weekly results here | ||||||||||||
| 
To the developers/maintainers of the GEOquery package: - Allow up to 24 hours (and sometimes 48 hours) for your latest push to git@git.bioconductor.org:packages/GEOquery.git to reflect on this report. See Troubleshooting Build Report for more information. - Use the following Renviron settings to reproduce errors and warnings. - If 'R CMD check' started to fail recently on the Linux builder(s) over a missing dependency, add the missing dependency to 'Suggests:' in your DESCRIPTION file. See Renviron.bioc for more information.  | 
| Package: GEOquery | 
| Version: 2.68.0 | 
| Command: /home/biocbuild/bbs-3.17-bioc/R/bin/R CMD check --install=check:GEOquery.install-out.txt --library=/home/biocbuild/bbs-3.17-bioc/R/site-library --timings GEOquery_2.68.0.tar.gz | 
| StartedAt: 2023-10-15 21:39:05 -0400 (Sun, 15 Oct 2023) | 
| EndedAt: 2023-10-15 21:41:40 -0400 (Sun, 15 Oct 2023) | 
| EllapsedTime: 154.7 seconds | 
| RetCode: 1 | 
| Status: ERROR | 
| CheckDir: GEOquery.Rcheck | 
| Warnings: NA | 
##############################################################################
##############################################################################
###
### Running command:
###
###   /home/biocbuild/bbs-3.17-bioc/R/bin/R CMD check --install=check:GEOquery.install-out.txt --library=/home/biocbuild/bbs-3.17-bioc/R/site-library --timings GEOquery_2.68.0.tar.gz
###
##############################################################################
##############################################################################
* using log directory ‘/home/biocbuild/bbs-3.17-bioc/meat/GEOquery.Rcheck’
* using R version 4.3.1 (2023-06-16)
* using platform: x86_64-pc-linux-gnu (64-bit)
* R was compiled by
    gcc (Ubuntu 11.3.0-1ubuntu1~22.04.1) 11.3.0
    GNU Fortran (Ubuntu 11.3.0-1ubuntu1~22.04.1) 11.3.0
* running under: Ubuntu 22.04.3 LTS
* using session charset: UTF-8
* checking for file ‘GEOquery/DESCRIPTION’ ... OK
* checking extension type ... Package
* this is package ‘GEOquery’ version ‘2.68.0’
* package encoding: UTF-8
* checking package namespace information ... OK
* checking package dependencies ... OK
* checking if this is a source package ... OK
* checking if there is a namespace ... OK
* checking for hidden files and directories ... OK
* checking for portable file names ... OK
* checking for sufficient/correct file permissions ... OK
* checking whether package ‘GEOquery’ can be installed ... OK
* checking installed package size ... NOTE
  installed size is 13.2Mb
  sub-directories of 1Mb or more:
    extdata  12.8Mb
* checking package directory ... OK
* checking ‘build’ directory ... OK
* checking DESCRIPTION meta-information ... NOTE
License components which are templates and need '+ file LICENSE':
  MIT
* checking top-level files ... NOTE
File
  LICENSE
is not mentioned in the DESCRIPTION file.
* checking for left-over files ... OK
* checking index information ... OK
* checking package subdirectories ... OK
* checking R files for non-ASCII characters ... OK
* checking R files for syntax errors ... OK
* checking whether the package can be loaded ... OK
* checking whether the package can be loaded with stated dependencies ... OK
* checking whether the package can be unloaded cleanly ... OK
* checking whether the namespace can be loaded with stated dependencies ... NOTE
Warning: no function found corresponding to methods exports from ‘GEOquery’ for: ‘show’
A namespace must be able to be loaded with just the base namespace
loaded: otherwise if the namespace gets loaded by a saved object, the
session will be unable to start.
Probably some imports need to be declared in the NAMESPACE file.
* checking whether the namespace can be unloaded cleanly ... OK
* checking loading without being on the library search path ... OK
* checking startup messages can be suppressed ... OK
* checking dependencies in R code ... NOTE
Namespace in Imports field not imported from: ‘R.utils’
  All declared Imports should be used.
Package in Depends field not imported from: ‘methods’
  These packages need to be imported from (in the NAMESPACE file)
  for when this namespace is loaded but not attached.
* checking S3 generic/method consistency ... OK
* checking replacement functions ... OK
* checking foreign function calls ... OK
* checking R code for possible problems ... NOTE
File ‘GEOquery/R/zzz.R’:
  .onLoad calls:
    packageStartupMessage("Setting options('download.file.method.GEOquery'='auto')")
    packageStartupMessage("Setting options('GEOquery.inmemory.gpl'=FALSE)")
See section ‘Good practice’ in '?.onAttach'.
.parseGPLTxt: no visible global function definition for ‘new’
.parseGPLWithLimits: no visible global function definition for ‘new’
.parseGSMTxt: no visible global function definition for ‘new’
.parseGSMWithLimits: no visible global function definition for ‘new’
GDS2MA: no visible global function definition for ‘new’
GDS2MA: no visible binding for global variable ‘MA’
GDS2eSet: no visible global function definition for ‘new’
fastTabRead: no visible global function definition for ‘read.table’
fastTabRead: no visible global function definition for ‘read.delim’
parseGDS: no visible global function definition for ‘new’
parseGSE: no visible global function definition for ‘new’
parseGSEMatrix: no visible global function definition for ‘new’
parseGSEMatrix: no visible binding for global variable ‘.’
parseGSEMatrix: no visible binding for global variable
  ‘characteristics’
parseGSEMatrix: no visible binding for global variable ‘kvpair’
parseGSEMatrix: no visible binding for global variable ‘accession’
parseGSEMatrix: no visible binding for global variable ‘k’
parseGSEMatrix: no visible binding for global variable ‘v’
parseGSEMatrix: no visible global function definition for ‘read.table’
parseGSEMatrix: no visible global function definition for ‘as’
Undefined global functions or variables:
  . MA accession as characteristics k kvpair new read.delim read.table
  v
Consider adding
  importFrom("methods", "as", "new")
  importFrom("utils", "read.delim", "read.table")
to your NAMESPACE file (and ensure that your DESCRIPTION Imports field
contains 'methods').
* checking Rd files ... OK
* checking Rd metadata ... OK
* checking Rd cross-references ... OK
* checking for missing documentation entries ... OK
* checking for code/documentation mismatches ... OK
* checking Rd \usage sections ... OK
* checking Rd contents ... OK
* checking for unstated dependencies in examples ... OK
* checking files in ‘vignettes’ ... OK
* checking examples ... OK
Examples with CPU (user + system) or elapsed time > 5s
        user system elapsed
getGEO 2.935  1.028   5.446
* checking for unstated dependencies in ‘tests’ ... OK
* checking tests ...
  Running ‘testthat.R’
 ERROR
Running the tests in ‘tests/testthat.R’ failed.
Last 13 lines of output:
  Error in `curl::curl_download(url, destfile, mode = mode, quiet = quiet, 
      handle = h)`: Error in the HTTP2 framing layer
  Backtrace:
      ▆
   1. └─GEOquery::getGEO("GPL15505") at test_GPL.R:23:4
   2.   └─GEOquery::getGEOfile(GEO, destdir = destdir, AnnotGPL = AnnotGPL)
   3.     └─GEOquery:::downloadFile(myurl, destfile, mode = mode, quiet = TRUE)
   4.       └─base::tryCatch(...)
   5.         └─base (local) tryCatchList(expr, classes, parentenv, handlers)
   6.           └─base (local) tryCatchOne(expr, names, parentenv, handlers[[1L]])
   7.             └─value[[3L]](cond)
  
  [ FAIL 1 | WARN 0 | SKIP 0 | PASS 206 ]
  Error: Test failures
  Execution halted
* checking for unstated dependencies in vignettes ... OK
* checking package vignettes in ‘inst/doc’ ... OK
* checking running R code from vignettes ...
  ‘GEOquery.Rmd’ using ‘UTF-8’... OK
 NONE
* checking re-building of vignette outputs ... OK
* checking PDF version of manual ... OK
* DONE
Status: 1 ERROR, 6 NOTEs
See
  ‘/home/biocbuild/bbs-3.17-bioc/meat/GEOquery.Rcheck/00check.log’
for details.
GEOquery.Rcheck/00install.out
############################################################################## ############################################################################## ### ### Running command: ### ### /home/biocbuild/bbs-3.17-bioc/R/bin/R CMD INSTALL GEOquery ### ############################################################################## ############################################################################## * installing to library ‘/home/biocbuild/bbs-3.17-bioc/R/site-library’ * installing *source* package ‘GEOquery’ ... ** using staged installation ** R ** inst ** byte-compile and prepare package for lazy loading ** help *** installing help indices ** building package indices ** installing vignettes ** testing if installed package can be loaded from temporary location ** testing if installed package can be loaded from final location ** testing if installed package keeps a record of temporary installation path * DONE (GEOquery)
GEOquery.Rcheck/tests/testthat.Rout.fail
R version 4.3.1 (2023-06-16) -- "Beagle Scouts"
Copyright (C) 2023 The R Foundation for Statistical Computing
Platform: x86_64-pc-linux-gnu (64-bit)
R is free software and comes with ABSOLUTELY NO WARRANTY.
You are welcome to redistribute it under certain conditions.
Type 'license()' or 'licence()' for distribution details.
R is a collaborative project with many contributors.
Type 'contributors()' for more information and
'citation()' on how to cite R or R packages in publications.
Type 'demo()' for some demos, 'help()' for on-line help, or
'help.start()' for an HTML browser interface to help.
Type 'q()' to quit R.
> library(testthat)
> library(GEOquery)
Loading required package: Biobase
Loading required package: BiocGenerics
Attaching package: 'BiocGenerics'
The following objects are masked from 'package:stats':
    IQR, mad, sd, var, xtabs
The following objects are masked from 'package:base':
    Filter, Find, Map, Position, Reduce, anyDuplicated, aperm, append,
    as.data.frame, basename, cbind, colnames, dirname, do.call,
    duplicated, eval, evalq, get, grep, grepl, intersect, is.unsorted,
    lapply, mapply, match, mget, order, paste, pmax, pmax.int, pmin,
    pmin.int, rank, rbind, rownames, sapply, setdiff, sort, table,
    tapply, union, unique, unsplit, which.max, which.min
Welcome to Bioconductor
    Vignettes contain introductory material; view with
    'browseVignettes()'. To cite Bioconductor, see
    'citation("Biobase")', and for packages 'citation("pkgname")'.
Setting options('download.file.method.GEOquery'='auto')
Setting options('GEOquery.inmemory.gpl'=FALSE)
> 
> test_check("GEOquery")
trying URL 'https://ftp.ncbi.nlm.nih.gov/geo/series/GSE1nnn/GSE1000/suppl//GSE1000_RAW.tar?tool=geoquery'
Content type 'application/x-tar' length 35307520 bytes (33.7 MB)
==================================================
downloaded 33.7 MB
trying URL 'https://ftp.ncbi.nlm.nih.gov/geo/samples/GSM15nnn/GSM15789/suppl//GSM15789.cel.gz?tool=geoquery'
Content type 'application/x-gzip' length 3507725 bytes (3.3 MB)
==================================================
downloaded 3.3 MB
trying URL 'https://ftp.ncbi.nlm.nih.gov/geo/samples/GSM15nnn/GSM15789/suppl//GSM15789.cel.gz?tool=geoquery'
Content type 'application/x-gzip' length 3507725 bytes (3.3 MB)
==================================================
downloaded 3.3 MB
[ FAIL 1 | WARN 0 | SKIP 0 | PASS 206 ]
══ Failed tests ════════════════════════════════════════════════════════════════
── Error ('test_GPL.R:23:5'): short GPL works ──────────────────────────────────
Error in `curl::curl_download(url, destfile, mode = mode, quiet = quiet, 
    handle = h)`: Error in the HTTP2 framing layer
Backtrace:
    ▆
 1. └─GEOquery::getGEO("GPL15505") at test_GPL.R:23:4
 2.   └─GEOquery::getGEOfile(GEO, destdir = destdir, AnnotGPL = AnnotGPL)
 3.     └─GEOquery:::downloadFile(myurl, destfile, mode = mode, quiet = TRUE)
 4.       └─base::tryCatch(...)
 5.         └─base (local) tryCatchList(expr, classes, parentenv, handlers)
 6.           └─base (local) tryCatchOne(expr, names, parentenv, handlers[[1L]])
 7.             └─value[[3L]](cond)
[ FAIL 1 | WARN 0 | SKIP 0 | PASS 206 ]
Error: Test failures
Execution halted
GEOquery.Rcheck/GEOquery-Ex.timings
| name | user | system | elapsed | |
| coercion | 0 | 0 | 0 | |
| getGEO | 2.935 | 1.028 | 5.446 | |
| getGEOSuppFiles | 0.081 | 0.005 | 0.189 | |
| getGEOfile | 0 | 0 | 0 | |
| getGSEDataTables | 0.549 | 0.029 | 0.834 | |
| gunzip | 0 | 0 | 0 | |