| Back to Multiple platform build/check report for BioC 3.17: simplified long | 
  | 
This page was generated on 2023-10-16 11:35:19 -0400 (Mon, 16 Oct 2023).
| Hostname | OS | Arch (*) | R version | Installed pkgs | 
|---|---|---|---|---|
| nebbiolo1 | Linux (Ubuntu 22.04.2 LTS) | x86_64 | 4.3.1 (2023-06-16) -- "Beagle Scouts" | 4626 | 
| palomino3 | Windows Server 2022 Datacenter | x64 | 4.3.1 (2023-06-16 ucrt) -- "Beagle Scouts" | 4379 | 
| merida1 | macOS 12.6.4 Monterey | x86_64 | 4.3.1 (2023-06-16) -- "Beagle Scouts" | 4395 | 
| Click on any hostname to see more info about the system (e.g. compilers) (*) as reported by 'uname -p', except on Windows and Mac OS X | ||||
| Package 579/2230 | Hostname | OS / Arch | INSTALL | BUILD | CHECK | BUILD BIN | ||||||||
| DNAcopy 1.74.1  (landing page) Venkatraman E. Seshan 
  | nebbiolo1 | Linux (Ubuntu 22.04.2 LTS) / x86_64 | OK | OK | OK | |||||||||
| palomino3 | Windows Server 2022 Datacenter / x64 | OK | OK | OK | OK | |||||||||
| merida1 | macOS 12.6.4 Monterey / x86_64 | OK | OK | OK | OK | |||||||||
| kjohnson2 | macOS 12.6.1 Monterey / arm64 | see weekly results here | ||||||||||||
| 
To the developers/maintainers of the DNAcopy package: - Allow up to 24 hours (and sometimes 48 hours) for your latest push to git@git.bioconductor.org:packages/DNAcopy.git to reflect on this report. See Troubleshooting Build Report for more information. - Use the following Renviron settings to reproduce errors and warnings. - If 'R CMD check' started to fail recently on the Linux builder(s) over a missing dependency, add the missing dependency to 'Suggests:' in your DESCRIPTION file. See Renviron.bioc for more information.  | 
| Package: DNAcopy | 
| Version: 1.74.1 | 
| Command: /home/biocbuild/bbs-3.17-bioc/R/bin/R CMD INSTALL DNAcopy | 
| StartedAt: 2023-10-15 15:06:36 -0400 (Sun, 15 Oct 2023) | 
| EndedAt: 2023-10-15 15:06:44 -0400 (Sun, 15 Oct 2023) | 
| EllapsedTime: 8.7 seconds | 
| RetCode: 0 | 
| Status: OK | 
##############################################################################
##############################################################################
###
### Running command:
###
###   /home/biocbuild/bbs-3.17-bioc/R/bin/R CMD INSTALL DNAcopy
###
##############################################################################
##############################################################################
* installing to library ‘/home/biocbuild/bbs-3.17-bioc/R/site-library’
* installing *source* package ‘DNAcopy’ ...
** using staged installation
** libs
using C compiler: ‘gcc (Ubuntu 11.4.0-1ubuntu1~22.04) 11.4.0’
using Fortran compiler: ‘GNU Fortran (Ubuntu 11.4.0-1ubuntu1~22.04) 11.4.0’
gfortran  -fpic  -g -O2  -Wall -c cbsWtstats.f -o cbsWtstats.o
cbsWtstats.f:283:72:
  283 |       iseg(2) = tmaxj
      |                                                                        ^
Warning: ‘tmaxj’ may be used uninitialized in this function [-Wmaybe-uninitialized]
cbsWtstats.f:282:72:
  282 |       iseg(1) = tmaxi
      |                                                                        ^
Warning: ‘tmaxi’ may be used uninitialized in this function [-Wmaybe-uninitialized]
gfortran  -fpic  -g -O2  -Wall -c cbststats.f -o cbststats.o
cbststats.f:258:72:
  258 |                      tmaxj = sxmxi + i2j
      |                                                                        ^
Warning: ‘sxmxi’ may be used uninitialized in this function [-Wmaybe-uninitialized]
gfortran  -fpic  -g -O2  -Wall -c changepoints-wtd.f -o changepoints-wtd.o
gfortran  -fpic  -g -O2  -Wall -c changepoints.f -o changepoints.o
gfortran  -fpic  -g -O2  -Wall -c esegment.f -o esegment.o
gcc -I"/home/biocbuild/bbs-3.17-bioc/R/include" -DNDEBUG   -I/usr/local/include    -fpic  -g -O2  -Wall -c flchoose.c -o flchoose.o
gcc -I"/home/biocbuild/bbs-3.17-bioc/R/include" -DNDEBUG   -I/usr/local/include    -fpic  -g -O2  -Wall -c fphyper.c -o fphyper.o
gcc -I"/home/biocbuild/bbs-3.17-bioc/R/include" -DNDEBUG   -I/usr/local/include    -fpic  -g -O2  -Wall -c fpnorm.c -o fpnorm.o
gfortran  -fpic  -g -O2  -Wall -c getbdry.f -o getbdry.o
gfortran  -fpic  -g -O2  -Wall -c prune.f -o prune.o
gcc -I"/home/biocbuild/bbs-3.17-bioc/R/include" -DNDEBUG   -I/usr/local/include    -fpic  -g -O2  -Wall -c rshared.c -o rshared.o
gfortran  -fpic  -g -O2  -Wall -c segmentp.f -o segmentp.o
gfortran  -fpic  -g -O2  -Wall -c smoothCNA.f -o smoothCNA.o
gfortran  -fpic  -g -O2  -Wall -c tailprobs.f -o tailprobs.o
gcc -shared -L/home/biocbuild/bbs-3.17-bioc/R/lib -L/usr/local/lib -o DNAcopy.so cbsWtstats.o cbststats.o changepoints-wtd.o changepoints.o esegment.o flchoose.o fphyper.o fpnorm.o getbdry.o prune.o rshared.o segmentp.o smoothCNA.o tailprobs.o -lgfortran -lm -lquadmath -L/home/biocbuild/bbs-3.17-bioc/R/lib -lR
installing to /home/biocbuild/bbs-3.17-bioc/R/site-library/00LOCK-DNAcopy/00new/DNAcopy/libs
** R
** data
*** moving datasets to lazyload DB
** demo
** inst
** byte-compile and prepare package for lazy loading
** help
*** installing help indices
** building package indices
** installing vignettes
** testing if installed package can be loaded from temporary location
** checking absolute paths in shared objects and dynamic libraries
** testing if installed package can be loaded from final location
** testing if installed package keeps a record of temporary installation path
* DONE (DNAcopy)