| Back to Multiple platform build/check report for BioC 3.17: simplified long |
|
This page was generated on 2023-10-16 11:35:17 -0400 (Mon, 16 Oct 2023).
| Hostname | OS | Arch (*) | R version | Installed pkgs |
|---|---|---|---|---|
| nebbiolo1 | Linux (Ubuntu 22.04.2 LTS) | x86_64 | 4.3.1 (2023-06-16) -- "Beagle Scouts" | 4626 |
| palomino3 | Windows Server 2022 Datacenter | x64 | 4.3.1 (2023-06-16 ucrt) -- "Beagle Scouts" | 4379 |
| merida1 | macOS 12.6.4 Monterey | x86_64 | 4.3.1 (2023-06-16) -- "Beagle Scouts" | 4395 |
| Click on any hostname to see more info about the system (e.g. compilers) (*) as reported by 'uname -p', except on Windows and Mac OS X | ||||
| Package 437/2230 | Hostname | OS / Arch | INSTALL | BUILD | CHECK | BUILD BIN | ||||||||
| CoSIA 1.0.0 (landing page) Amanda D. Clark
| nebbiolo1 | Linux (Ubuntu 22.04.2 LTS) / x86_64 | OK | OK | OK | |||||||||
| palomino3 | Windows Server 2022 Datacenter / x64 | OK | ERROR | skipped | skipped | |||||||||
| merida1 | macOS 12.6.4 Monterey / x86_64 | OK | OK | OK | OK | |||||||||
| kjohnson2 | macOS 12.6.1 Monterey / arm64 | see weekly results here | ||||||||||||
|
To the developers/maintainers of the CoSIA package: - Allow up to 24 hours (and sometimes 48 hours) for your latest push to git@git.bioconductor.org:packages/CoSIA.git to reflect on this report. See Troubleshooting Build Report for more information. - Use the following Renviron settings to reproduce errors and warnings. - If 'R CMD check' started to fail recently on the Linux builder(s) over a missing dependency, add the missing dependency to 'Suggests:' in your DESCRIPTION file. See Renviron.bioc for more information. |
| Package: CoSIA |
| Version: 1.0.0 |
| Command: /home/biocbuild/bbs-3.17-bioc/R/bin/R CMD check --install=check:CoSIA.install-out.txt --library=/home/biocbuild/bbs-3.17-bioc/R/site-library --timings CoSIA_1.0.0.tar.gz |
| StartedAt: 2023-10-15 20:23:14 -0400 (Sun, 15 Oct 2023) |
| EndedAt: 2023-10-15 20:39:59 -0400 (Sun, 15 Oct 2023) |
| EllapsedTime: 1004.8 seconds |
| RetCode: 0 |
| Status: OK |
| CheckDir: CoSIA.Rcheck |
| Warnings: 0 |
##############################################################################
##############################################################################
###
### Running command:
###
### /home/biocbuild/bbs-3.17-bioc/R/bin/R CMD check --install=check:CoSIA.install-out.txt --library=/home/biocbuild/bbs-3.17-bioc/R/site-library --timings CoSIA_1.0.0.tar.gz
###
##############################################################################
##############################################################################
* using log directory ‘/home/biocbuild/bbs-3.17-bioc/meat/CoSIA.Rcheck’
* using R version 4.3.1 (2023-06-16)
* using platform: x86_64-pc-linux-gnu (64-bit)
* R was compiled by
gcc (Ubuntu 11.3.0-1ubuntu1~22.04.1) 11.3.0
GNU Fortran (Ubuntu 11.3.0-1ubuntu1~22.04.1) 11.3.0
* running under: Ubuntu 22.04.3 LTS
* using session charset: UTF-8
* checking for file ‘CoSIA/DESCRIPTION’ ... OK
* checking extension type ... Package
* this is package ‘CoSIA’ version ‘1.0.0’
* package encoding: UTF-8
* checking package namespace information ... OK
* checking package dependencies ... OK
* checking if this is a source package ... OK
* checking if there is a namespace ... OK
* checking for hidden files and directories ... OK
* checking for portable file names ... OK
* checking for sufficient/correct file permissions ... OK
* checking whether package ‘CoSIA’ can be installed ... OK
* checking installed package size ... OK
* checking package directory ... OK
* checking ‘build’ directory ... OK
* checking DESCRIPTION meta-information ... OK
* checking top-level files ... OK
* checking for left-over files ... OK
* checking index information ... OK
* checking package subdirectories ... OK
* checking R files for non-ASCII characters ... OK
* checking R files for syntax errors ... OK
* checking whether the package can be loaded ... OK
* checking whether the package can be loaded with stated dependencies ... OK
* checking whether the package can be unloaded cleanly ... OK
* checking whether the namespace can be loaded with stated dependencies ... OK
* checking whether the namespace can be unloaded cleanly ... OK
* checking loading without being on the library search path ... OK
* checking dependencies in R code ... OK
* checking S3 generic/method consistency ... OK
* checking replacement functions ... OK
* checking foreign function calls ... OK
* checking R code for possible problems ... OK
* checking Rd files ... OK
* checking Rd metadata ... OK
* checking Rd cross-references ... OK
* checking for missing documentation entries ... OK
* checking for code/documentation mismatches ... OK
* checking Rd \usage sections ... OK
* checking Rd contents ... OK
* checking for unstated dependencies in examples ... OK
* checking files in ‘vignettes’ ... OK
* checking examples ... OK
Examples with CPU (user + system) or elapsed time > 5s
user system elapsed
plotCVGEx-CoSIAn-method 124.852 10.010 135.719
plotCVGEx 73.908 4.328 78.946
getGEx-CoSIAn-method 26.020 1.246 29.337
plotDSGEx 25.237 0.504 26.150
plotDSGEx-CoSIAn-method 23.929 1.500 25.789
getTissues 21.964 0.936 23.231
plotSpeciesGEx 16.915 0.327 17.596
plotSpeciesGEx-CoSIAn-method 15.908 0.436 16.696
plotTissueGEx 15.568 0.518 16.444
plotTissueGEx-CoSIAn-method 15.306 0.392 16.056
getGExMetrics-CoSIAn-method 7.105 0.223 7.624
getGExMetrics 6.173 0.172 6.696
* checking for unstated dependencies in vignettes ... OK
* checking package vignettes in ‘inst/doc’ ... OK
* checking running R code from vignettes ...
‘CoSIA_Intro.Rmd’ using ‘UTF-8’... OK
NONE
* checking re-building of vignette outputs ... OK
* checking PDF version of manual ... OK
* DONE
Status: OK
CoSIA.Rcheck/00install.out
############################################################################## ############################################################################## ### ### Running command: ### ### /home/biocbuild/bbs-3.17-bioc/R/bin/R CMD INSTALL CoSIA ### ############################################################################## ############################################################################## * installing to library ‘/home/biocbuild/bbs-3.17-bioc/R/site-library’ * installing *source* package ‘CoSIA’ ... ** using staged installation ** R ** inst ** byte-compile and prepare package for lazy loading ** help *** installing help indices ** building package indices ** installing vignettes ** testing if installed package can be loaded from temporary location ** testing if installed package can be loaded from final location ** testing if installed package keeps a record of temporary installation path * DONE (CoSIA)
CoSIA.Rcheck/CoSIA-Ex.timings
| name | user | system | elapsed | |
| CoSIA-constructor | 0.004 | 0.001 | 0.003 | |
| getConversion-CoSIAn-method | 3.903 | 0.155 | 4.067 | |
| getConversion | 2.254 | 0.025 | 2.278 | |
| getGEx-CoSIAn-method | 26.020 | 1.246 | 29.337 | |
| getGEx | 4.190 | 0.184 | 4.688 | |
| getGExMetrics-CoSIAn-method | 7.105 | 0.223 | 7.624 | |
| getGExMetrics | 6.173 | 0.172 | 6.696 | |
| getTissues | 21.964 | 0.936 | 23.231 | |
| plotCVGEx-CoSIAn-method | 124.852 | 10.010 | 135.719 | |
| plotCVGEx | 73.908 | 4.328 | 78.946 | |
| plotDSGEx-CoSIAn-method | 23.929 | 1.500 | 25.789 | |
| plotDSGEx | 25.237 | 0.504 | 26.150 | |
| plotSpeciesGEx-CoSIAn-method | 15.908 | 0.436 | 16.696 | |
| plotSpeciesGEx | 16.915 | 0.327 | 17.596 | |
| plotTissueGEx-CoSIAn-method | 15.306 | 0.392 | 16.056 | |
| plotTissueGEx | 15.568 | 0.518 | 16.444 | |
| viewCoSIAn-CoSIAn-method | 0.002 | 0.001 | 0.002 | |
| viewCoSIAn | 0.002 | 0.000 | 0.001 | |