| Back to Multiple platform build/check report for BioC 3.17 |
|
This page was generated on 2022-12-01 11:09:33 -0500 (Thu, 01 Dec 2022).
| Hostname | OS | Arch (*) | R version | Installed pkgs |
|---|---|---|---|---|
| nebbiolo1 | Linux (Ubuntu 22.04.1 LTS) | x86_64 | R Under development (unstable) (2022-10-25 r83175) -- "Unsuffered Consequences" | 4462 |
| palomino3 | Windows Server 2022 Datacenter | x64 | R Under development (unstable) (2022-10-11 r83083 ucrt) -- "Unsuffered Consequences" | 4203 |
| merida1 | macOS 10.14.6 Mojave | x86_64 | R Under development (unstable) (2022-11-13 r83342) -- "Unsuffered Consequences" | 4231 |
| Click on any hostname to see more info about the system (e.g. compilers) (*) as reported by 'uname -p', except on Windows and Mac OS X | ||||
|
To the developers/maintainers of the ChIC package: - Please allow up to 24 hours (and sometimes 48 hours) for your latest push to git@git.bioconductor.org:packages/ChIC.git to reflect on this report. See How and When does the builder pull? When will my changes propagate? for more information. - Make sure to use the following settings in order to reproduce any error or warning you see on this page. |
| Package 300/2154 | Hostname | OS / Arch | INSTALL | BUILD | CHECK | BUILD BIN | ||||||||
| ChIC 1.19.0 (landing page) Carmen Maria Livi
| nebbiolo1 | Linux (Ubuntu 22.04.1 LTS) / x86_64 | OK | OK | OK | |||||||||
| palomino3 | Windows Server 2022 Datacenter / x64 | ... NOT SUPPORTED ... | ||||||||||||
| merida1 | macOS 10.14.6 Mojave / x86_64 | OK | OK | OK | OK | |||||||||
| Package: ChIC |
| Version: 1.19.0 |
| Command: /Library/Frameworks/R.framework/Resources/bin/R CMD check --install=check:ChIC.install-out.txt --library=/Library/Frameworks/R.framework/Resources/library --no-vignettes --timings ChIC_1.19.0.tar.gz |
| StartedAt: 2022-11-30 23:27:07 -0500 (Wed, 30 Nov 2022) |
| EndedAt: 2022-11-30 23:33:46 -0500 (Wed, 30 Nov 2022) |
| EllapsedTime: 399.2 seconds |
| RetCode: 0 |
| Status: OK |
| CheckDir: ChIC.Rcheck |
| Warnings: 0 |
############################################################################## ############################################################################## ### ### Running command: ### ### /Library/Frameworks/R.framework/Resources/bin/R CMD check --install=check:ChIC.install-out.txt --library=/Library/Frameworks/R.framework/Resources/library --no-vignettes --timings ChIC_1.19.0.tar.gz ### ############################################################################## ############################################################################## * using log directory ‘/Users/biocbuild/bbs-3.17-bioc/meat/ChIC.Rcheck’ * using R Under development (unstable) (2022-11-13 r83342) * using platform: x86_64-apple-darwin17.0 (64-bit) * using session charset: UTF-8 * using option ‘--no-vignettes’ * checking for file ‘ChIC/DESCRIPTION’ ... OK * this is package ‘ChIC’ version ‘1.19.0’ * package encoding: UTF-8 * checking package namespace information ... OK * checking package dependencies ... OK * checking if this is a source package ... OK * checking if there is a namespace ... OK * checking for hidden files and directories ... NOTE Found the following hidden files and directories: .BBSoptions These were most likely included in error. See section ‘Package structure’ in the ‘Writing R Extensions’ manual. * checking for portable file names ... OK * checking for sufficient/correct file permissions ... OK * checking whether package ‘ChIC’ can be installed ... OK * checking installed package size ... OK * checking package directory ... OK * checking ‘build’ directory ... OK * checking DESCRIPTION meta-information ... OK * checking top-level files ... OK * checking for left-over files ... OK * checking index information ... OK * checking package subdirectories ... OK * checking R files for non-ASCII characters ... OK * checking R files for syntax errors ... OK * checking whether the package can be loaded ... OK * checking whether the package can be loaded with stated dependencies ... OK * checking whether the package can be unloaded cleanly ... OK * checking whether the namespace can be loaded with stated dependencies ... OK * checking whether the namespace can be unloaded cleanly ... OK * checking dependencies in R code ... OK * checking S3 generic/method consistency ... OK * checking replacement functions ... OK * checking foreign function calls ... OK * checking R code for possible problems ... OK * checking Rd files ... OK * checking Rd metadata ... OK * checking Rd cross-references ... OK * checking for missing documentation entries ... OK * checking for code/documentation mismatches ... OK * checking Rd \usage sections ... OK * checking Rd contents ... OK * checking for unstated dependencies in examples ... OK * checking sizes of PDF files under ‘inst/doc’ ... OK * checking files in ‘vignettes’ ... OK * checking examples ... OK * checking for unstated dependencies in vignettes ... OK * checking package vignettes in ‘inst/doc’ ... OK * checking running R code from vignettes ... SKIPPED * checking re-building of vignette outputs ... SKIPPED * checking PDF version of manual ... OK * DONE Status: 1 NOTE See ‘/Users/biocbuild/bbs-3.17-bioc/meat/ChIC.Rcheck/00check.log’ for details.
ChIC.Rcheck/00install.out
############################################################################## ############################################################################## ### ### Running command: ### ### /Library/Frameworks/R.framework/Resources/bin/R CMD INSTALL ChIC ### ############################################################################## ############################################################################## * installing to library ‘/Library/Frameworks/R.framework/Versions/4.3/Resources/library’ * installing *source* package ‘ChIC’ ... ** using staged installation ** R ** inst ** byte-compile and prepare package for lazy loading ** help *** installing help indices ** building package indices ** installing vignettes ** testing if installed package can be loaded from temporary location ** testing if installed package can be loaded from final location ** testing if installed package keeps a record of temporary installation path * DONE (ChIC)
ChIC.Rcheck/ChIC-Ex.timings
| name | user | system | elapsed | |
| chicWrapper | 0.001 | 0.000 | 0.000 | |
| createMetageneProfile | 0.001 | 0.000 | 0.001 | |
| downsample_ChIPpeaks | 0.000 | 0.000 | 0.001 | |
| getCrossCorrelationScores | 0.001 | 0.000 | 0.001 | |
| getPeakCallingScores | 0.001 | 0.000 | 0.001 | |
| listAvailableElements | 0.015 | 0.006 | 0.025 | |
| listDatasets | 1.115 | 0.076 | 1.569 | |
| listMetrics | 1.552 | 0.046 | 2.090 | |
| metagenePlotsForComparison | 0.001 | 0.001 | 0.001 | |
| plotReferenceDistribution | 0.000 | 0.000 | 0.001 | |
| predictionScore | 0.000 | 0.001 | 0.001 | |
| qualityScores_EM | 0.000 | 0.000 | 0.001 | |
| qualityScores_GM | 0.000 | 0.000 | 0.001 | |
| qualityScores_LM | 0.001 | 0.001 | 0.001 | |
| qualityScores_LMgenebody | 0.000 | 0.001 | 0.001 | |
| readBamFile | 0 | 0 | 0 | |
| removeLocalTagAnomalies | 0.000 | 0.000 | 0.001 | |
| tagDensity | 0.000 | 0.001 | 0.000 | |