| Back to Multiple platform build/check report for BioC 3.17: simplified long | 
  | 
This page was generated on 2023-10-16 11:36:53 -0400 (Mon, 16 Oct 2023).
| Hostname | OS | Arch (*) | R version | Installed pkgs | 
|---|---|---|---|---|
| nebbiolo1 | Linux (Ubuntu 22.04.2 LTS) | x86_64 | 4.3.1 (2023-06-16) -- "Beagle Scouts" | 4626 | 
| palomino3 | Windows Server 2022 Datacenter | x64 | 4.3.1 (2023-06-16 ucrt) -- "Beagle Scouts" | 4379 | 
| merida1 | macOS 12.6.4 Monterey | x86_64 | 4.3.1 (2023-06-16) -- "Beagle Scouts" | 4395 | 
| Click on any hostname to see more info about the system (e.g. compilers) (*) as reported by 'uname -p', except on Windows and Mac OS X | ||||
| Package 270/2230 | Hostname | OS / Arch | INSTALL | BUILD | CHECK | BUILD BIN | ||||||||
| CATALYST 1.24.0  (landing page) Helena L. Crowell 
  | nebbiolo1 | Linux (Ubuntu 22.04.2 LTS) / x86_64 | OK | OK | OK | |||||||||
| palomino3 | Windows Server 2022 Datacenter / x64 | OK | OK | OK | OK | |||||||||
| merida1 | macOS 12.6.4 Monterey / x86_64 | OK | OK | OK | OK | |||||||||
| kjohnson2 | macOS 12.6.1 Monterey / arm64 | see weekly results here | ||||||||||||
| 
To the developers/maintainers of the CATALYST package: - Allow up to 24 hours (and sometimes 48 hours) for your latest push to git@git.bioconductor.org:packages/CATALYST.git to reflect on this report. See Troubleshooting Build Report for more information. - Use the following Renviron settings to reproduce errors and warnings. - If 'R CMD check' started to fail recently on the Linux builder(s) over a missing dependency, add the missing dependency to 'Suggests:' in your DESCRIPTION file. See Renviron.bioc for more information.  | 
| Package: CATALYST | 
| Version: 1.24.0 | 
| Command: /Library/Frameworks/R.framework/Resources/bin/R CMD check --install=check:CATALYST.install-out.txt --library=/Library/Frameworks/R.framework/Resources/library --no-vignettes --timings CATALYST_1.24.0.tar.gz | 
| StartedAt: 2023-10-15 23:27:52 -0400 (Sun, 15 Oct 2023) | 
| EndedAt: 2023-10-15 23:55:10 -0400 (Sun, 15 Oct 2023) | 
| EllapsedTime: 1638.2 seconds | 
| RetCode: 0 | 
| Status: OK | 
| CheckDir: CATALYST.Rcheck | 
| Warnings: 0 | 
##############################################################################
##############################################################################
###
### Running command:
###
###   /Library/Frameworks/R.framework/Resources/bin/R CMD check --install=check:CATALYST.install-out.txt --library=/Library/Frameworks/R.framework/Resources/library --no-vignettes --timings CATALYST_1.24.0.tar.gz
###
##############################################################################
##############################################################################
* using log directory ‘/Users/biocbuild/bbs-3.17-bioc/meat/CATALYST.Rcheck’
* using R version 4.3.1 (2023-06-16)
* using platform: x86_64-apple-darwin20 (64-bit)
* R was compiled by
    Apple clang version 14.0.3 (clang-1403.0.22.14.1)
    GNU Fortran (GCC) 12.2.0
* running under: macOS Monterey 12.6.4
* using session charset: UTF-8
* using option ‘--no-vignettes’
* checking for file ‘CATALYST/DESCRIPTION’ ... OK
* checking extension type ... Package
* this is package ‘CATALYST’ version ‘1.24.0’
* package encoding: UTF-8
* checking package namespace information ... OK
* checking package dependencies ... OK
* checking if this is a source package ... OK
* checking if there is a namespace ... OK
* checking for hidden files and directories ... OK
* checking for portable file names ... OK
* checking for sufficient/correct file permissions ... OK
* checking whether package ‘CATALYST’ can be installed ... OK
* checking installed package size ... OK
* checking package directory ... OK
* checking ‘build’ directory ... OK
* checking DESCRIPTION meta-information ... OK
* checking top-level files ... OK
* checking for left-over files ... OK
* checking index information ... OK
* checking package subdirectories ... OK
* checking R files for non-ASCII characters ... OK
* checking R files for syntax errors ... OK
* checking whether the package can be loaded ... OK
* checking whether the package can be loaded with stated dependencies ... OK
* checking whether the package can be unloaded cleanly ... OK
* checking whether the namespace can be loaded with stated dependencies ... OK
* checking whether the namespace can be unloaded cleanly ... OK
* checking dependencies in R code ... NOTE
There are ::: calls to the package's namespace in its code. A package
  almost never needs to use ::: for its own objects:
  ‘.cluster_cols’
* checking S3 generic/method consistency ... OK
* checking replacement functions ... OK
* checking foreign function calls ... OK
* checking R code for possible problems ... OK
* checking Rd files ... OK
* checking Rd metadata ... OK
* checking Rd cross-references ... OK
* checking for missing documentation entries ... OK
* checking for code/documentation mismatches ... OK
* checking Rd \usage sections ... OK
* checking Rd contents ... OK
* checking for unstated dependencies in examples ... OK
* checking contents of ‘data’ directory ... OK
* checking data for non-ASCII characters ... OK
* checking LazyData ... OK
* checking data for ASCII and uncompressed saves ... OK
* checking files in ‘vignettes’ ... OK
* checking examples ... OK
Examples with CPU (user + system) or elapsed time > 5s
                   user system elapsed
plotPbExprs      30.856  1.038  43.740
plotMultiHeatmap 30.722  0.832  41.995
plotDiffHeatmap  26.662  0.796  35.714
sce2fcs          24.036  0.914  31.983
plotDR           21.913  0.838  29.652
plotExprHeatmap  22.048  0.575  28.853
plotClusterExprs 15.541  0.757  22.446
pbMDS            14.970  0.669  20.792
plotAbundances   14.417  0.674  19.755
plotCodes        14.049  0.679  21.401
mergeClusters    13.837  0.521  18.813
SCE-accessors    13.263  0.951  18.747
clrDR            13.503  0.567  18.053
plotFreqHeatmap  13.027  0.741  17.833
plotMahal        12.785  0.144  17.084
filterSCE        12.249  0.503  16.718
compCytof        11.608  0.322  16.545
cluster          10.659  0.517  14.204
extractClusters  10.022  0.629  13.708
plotScatter      10.036  0.167  13.450
plotSpillmat      9.767  0.256  13.322
estCutoffs        9.755  0.133  12.688
plotYields        9.619  0.234  13.597
computeSpillmat   9.242  0.219  12.322
adaptSpillmat     8.795  0.239  11.619
plotExprs         8.877  0.099  11.517
applyCutoffs      7.812  0.101  10.312
runDR             6.493  0.161   8.998
normCytof         5.524  0.063   7.444
plotEvents        5.388  0.041   6.956
assignPrelim      4.592  0.029   5.881
prepData          4.084  0.081   5.698
* checking for unstated dependencies in ‘tests’ ... OK
* checking tests ...
  Running ‘testthat.R’
 OK
* checking for unstated dependencies in vignettes ... OK
* checking package vignettes in ‘inst/doc’ ... OK
* checking running R code from vignettes ... SKIPPED
* checking re-building of vignette outputs ... SKIPPED
* checking PDF version of manual ... OK
* DONE
Status: 1 NOTE
See
  ‘/Users/biocbuild/bbs-3.17-bioc/meat/CATALYST.Rcheck/00check.log’
for details.
CATALYST.Rcheck/00install.out
############################################################################## ############################################################################## ### ### Running command: ### ### /Library/Frameworks/R.framework/Resources/bin/R CMD INSTALL CATALYST ### ############################################################################## ############################################################################## * installing to library ‘/Library/Frameworks/R.framework/Versions/4.3-x86_64/Resources/library’ * installing *source* package ‘CATALYST’ ... ** using staged installation ** R ** data *** moving datasets to lazyload DB ** inst ** byte-compile and prepare package for lazy loading ** help *** installing help indices ** building package indices ** installing vignettes ** testing if installed package can be loaded from temporary location ** testing if installed package can be loaded from final location ** testing if installed package keeps a record of temporary installation path * DONE (CATALYST)
CATALYST.Rcheck/tests/testthat.Rout
R version 4.3.1 (2023-06-16) -- "Beagle Scouts"
Copyright (C) 2023 The R Foundation for Statistical Computing
Platform: x86_64-apple-darwin20 (64-bit)
R is free software and comes with ABSOLUTELY NO WARRANTY.
You are welcome to redistribute it under certain conditions.
Type 'license()' or 'licence()' for distribution details.
R is a collaborative project with many contributors.
Type 'contributors()' for more information and
'citation()' on how to cite R or R packages in publications.
Type 'demo()' for some demos, 'help()' for on-line help, or
'help.start()' for an HTML browser interface to help.
Type 'q()' to quit R.
> library(testthat)
> library(CATALYST)
Loading required package: SingleCellExperiment
Loading required package: SummarizedExperiment
Loading required package: MatrixGenerics
Loading required package: matrixStats
Attaching package: 'MatrixGenerics'
The following objects are masked from 'package:matrixStats':
    colAlls, colAnyNAs, colAnys, colAvgsPerRowSet, colCollapse,
    colCounts, colCummaxs, colCummins, colCumprods, colCumsums,
    colDiffs, colIQRDiffs, colIQRs, colLogSumExps, colMadDiffs,
    colMads, colMaxs, colMeans2, colMedians, colMins, colOrderStats,
    colProds, colQuantiles, colRanges, colRanks, colSdDiffs, colSds,
    colSums2, colTabulates, colVarDiffs, colVars, colWeightedMads,
    colWeightedMeans, colWeightedMedians, colWeightedSds,
    colWeightedVars, rowAlls, rowAnyNAs, rowAnys, rowAvgsPerColSet,
    rowCollapse, rowCounts, rowCummaxs, rowCummins, rowCumprods,
    rowCumsums, rowDiffs, rowIQRDiffs, rowIQRs, rowLogSumExps,
    rowMadDiffs, rowMads, rowMaxs, rowMeans2, rowMedians, rowMins,
    rowOrderStats, rowProds, rowQuantiles, rowRanges, rowRanks,
    rowSdDiffs, rowSds, rowSums2, rowTabulates, rowVarDiffs, rowVars,
    rowWeightedMads, rowWeightedMeans, rowWeightedMedians,
    rowWeightedSds, rowWeightedVars
Loading required package: GenomicRanges
Loading required package: stats4
Loading required package: BiocGenerics
Attaching package: 'BiocGenerics'
The following objects are masked from 'package:stats':
    IQR, mad, sd, var, xtabs
The following objects are masked from 'package:base':
    Filter, Find, Map, Position, Reduce, anyDuplicated, aperm, append,
    as.data.frame, basename, cbind, colnames, dirname, do.call,
    duplicated, eval, evalq, get, grep, grepl, intersect, is.unsorted,
    lapply, mapply, match, mget, order, paste, pmax, pmax.int, pmin,
    pmin.int, rank, rbind, rownames, sapply, setdiff, sort, table,
    tapply, union, unique, unsplit, which.max, which.min
Loading required package: S4Vectors
Attaching package: 'S4Vectors'
The following object is masked from 'package:utils':
    findMatches
The following objects are masked from 'package:base':
    I, expand.grid, unname
Loading required package: IRanges
Loading required package: GenomeInfoDb
Loading required package: Biobase
Welcome to Bioconductor
    Vignettes contain introductory material; view with
    'browseVignettes()'. To cite Bioconductor, see
    'citation("Biobase")', and for packages 'citation("pkgname")'.
Attaching package: 'Biobase'
The following object is masked from 'package:MatrixGenerics':
    rowMedians
The following objects are masked from 'package:matrixStats':
    anyMissing, rowMedians
> 
> test_check("CATALYST")
[ FAIL 0 | WARN 1 | SKIP 0 | PASS 741 ]
[ FAIL 0 | WARN 1 | SKIP 0 | PASS 741 ]
> 
> proc.time()
   user  system elapsed 
382.853   8.883 499.656 
CATALYST.Rcheck/CATALYST-Ex.timings
| name | user | system | elapsed | |
| SCE-accessors | 13.263 | 0.951 | 18.747 | |
| adaptSpillmat | 8.795 | 0.239 | 11.619 | |
| applyCutoffs | 7.812 | 0.101 | 10.312 | |
| assignPrelim | 4.592 | 0.029 | 5.881 | |
| clrDR | 13.503 | 0.567 | 18.053 | |
| cluster | 10.659 | 0.517 | 14.204 | |
| compCytof | 11.608 | 0.322 | 16.545 | |
| computeSpillmat | 9.242 | 0.219 | 12.322 | |
| data | 0.016 | 0.029 | 0.055 | |
| estCutoffs | 9.755 | 0.133 | 12.688 | |
| extractClusters | 10.022 | 0.629 | 13.708 | |
| filterSCE | 12.249 | 0.503 | 16.718 | |
| guessPanel | 0.051 | 0.009 | 0.076 | |
| mergeClusters | 13.837 | 0.521 | 18.813 | |
| normCytof | 5.524 | 0.063 | 7.444 | |
| pbMDS | 14.970 | 0.669 | 20.792 | |
| plotAbundances | 14.417 | 0.674 | 19.755 | |
| plotClusterExprs | 15.541 | 0.757 | 22.446 | |
| plotCodes | 14.049 | 0.679 | 21.401 | |
| plotCounts | 2.686 | 0.030 | 3.661 | |
| plotDR | 21.913 | 0.838 | 29.652 | |
| plotDiffHeatmap | 26.662 | 0.796 | 35.714 | |
| plotEvents | 5.388 | 0.041 | 6.956 | |
| plotExprHeatmap | 22.048 | 0.575 | 28.853 | |
| plotExprs | 8.877 | 0.099 | 11.517 | |
| plotFreqHeatmap | 13.027 | 0.741 | 17.833 | |
| plotMahal | 12.785 | 0.144 | 17.084 | |
| plotMultiHeatmap | 30.722 | 0.832 | 41.995 | |
| plotNRS | 3.349 | 0.051 | 4.614 | |
| plotPbExprs | 30.856 | 1.038 | 43.740 | |
| plotScatter | 10.036 | 0.167 | 13.450 | |
| plotSpillmat | 9.767 | 0.256 | 13.322 | |
| plotYields | 9.619 | 0.234 | 13.597 | |
| prepData | 4.084 | 0.081 | 5.698 | |
| runDR | 6.493 | 0.161 | 8.998 | |
| sce2fcs | 24.036 | 0.914 | 31.983 | |