| Back to Multiple platform build/check report for BioC 3.17: simplified long |
|
This page was generated on 2023-10-16 11:36:53 -0400 (Mon, 16 Oct 2023).
| Hostname | OS | Arch (*) | R version | Installed pkgs |
|---|---|---|---|---|
| nebbiolo1 | Linux (Ubuntu 22.04.2 LTS) | x86_64 | 4.3.1 (2023-06-16) -- "Beagle Scouts" | 4626 |
| palomino3 | Windows Server 2022 Datacenter | x64 | 4.3.1 (2023-06-16 ucrt) -- "Beagle Scouts" | 4379 |
| merida1 | macOS 12.6.4 Monterey | x86_64 | 4.3.1 (2023-06-16) -- "Beagle Scouts" | 4395 |
| Click on any hostname to see more info about the system (e.g. compilers) (*) as reported by 'uname -p', except on Windows and Mac OS X | ||||
| Package 257/2230 | Hostname | OS / Arch | INSTALL | BUILD | CHECK | BUILD BIN | ||||||||
| CAGEfightR 1.20.0 (landing page) Malte Thodberg
| nebbiolo1 | Linux (Ubuntu 22.04.2 LTS) / x86_64 | OK | OK | OK | |||||||||
| palomino3 | Windows Server 2022 Datacenter / x64 | OK | OK | OK | OK | |||||||||
| merida1 | macOS 12.6.4 Monterey / x86_64 | OK | OK | OK | OK | |||||||||
| kjohnson2 | macOS 12.6.1 Monterey / arm64 | see weekly results here | ||||||||||||
|
To the developers/maintainers of the CAGEfightR package: - Allow up to 24 hours (and sometimes 48 hours) for your latest push to git@git.bioconductor.org:packages/CAGEfightR.git to reflect on this report. See Troubleshooting Build Report for more information. - Use the following Renviron settings to reproduce errors and warnings. - If 'R CMD check' started to fail recently on the Linux builder(s) over a missing dependency, add the missing dependency to 'Suggests:' in your DESCRIPTION file. See Renviron.bioc for more information. |
| Package: CAGEfightR |
| Version: 1.20.0 |
| Command: /Library/Frameworks/R.framework/Resources/bin/R CMD check --install=check:CAGEfightR.install-out.txt --library=/Library/Frameworks/R.framework/Resources/library --no-vignettes --timings CAGEfightR_1.20.0.tar.gz |
| StartedAt: 2023-10-15 23:24:08 -0400 (Sun, 15 Oct 2023) |
| EndedAt: 2023-10-15 23:39:14 -0400 (Sun, 15 Oct 2023) |
| EllapsedTime: 906.6 seconds |
| RetCode: 0 |
| Status: OK |
| CheckDir: CAGEfightR.Rcheck |
| Warnings: 0 |
##############################################################################
##############################################################################
###
### Running command:
###
### /Library/Frameworks/R.framework/Resources/bin/R CMD check --install=check:CAGEfightR.install-out.txt --library=/Library/Frameworks/R.framework/Resources/library --no-vignettes --timings CAGEfightR_1.20.0.tar.gz
###
##############################################################################
##############################################################################
* using log directory ‘/Users/biocbuild/bbs-3.17-bioc/meat/CAGEfightR.Rcheck’
* using R version 4.3.1 (2023-06-16)
* using platform: x86_64-apple-darwin20 (64-bit)
* R was compiled by
Apple clang version 14.0.3 (clang-1403.0.22.14.1)
GNU Fortran (GCC) 12.2.0
* running under: macOS Monterey 12.6.4
* using session charset: UTF-8
* using option ‘--no-vignettes’
* checking for file ‘CAGEfightR/DESCRIPTION’ ... OK
* checking extension type ... Package
* this is package ‘CAGEfightR’ version ‘1.20.0’
* package encoding: UTF-8
* checking package namespace information ... OK
* checking package dependencies ... OK
* checking if this is a source package ... OK
* checking if there is a namespace ... OK
* checking for hidden files and directories ... OK
* checking for portable file names ... OK
* checking for sufficient/correct file permissions ... OK
* checking whether package ‘CAGEfightR’ can be installed ... OK
* checking installed package size ... OK
* checking package directory ... OK
* checking ‘build’ directory ... OK
* checking DESCRIPTION meta-information ... OK
* checking top-level files ... OK
* checking for left-over files ... OK
* checking index information ... OK
* checking package subdirectories ... OK
* checking R files for non-ASCII characters ... OK
* checking R files for syntax errors ... OK
* checking whether the package can be loaded ... OK
* checking whether the package can be loaded with stated dependencies ... OK
* checking whether the package can be unloaded cleanly ... OK
* checking whether the namespace can be loaded with stated dependencies ... OK
* checking whether the namespace can be unloaded cleanly ... OK
* checking startup messages can be suppressed ... OK
* checking dependencies in R code ... OK
* checking S3 generic/method consistency ... OK
* checking replacement functions ... OK
* checking foreign function calls ... OK
* checking R code for possible problems ... OK
* checking Rd files ... OK
* checking Rd metadata ... OK
* checking Rd cross-references ... OK
* checking for missing documentation entries ... OK
* checking for code/documentation mismatches ... OK
* checking Rd \usage sections ... OK
* checking Rd contents ... OK
* checking for unstated dependencies in examples ... OK
* checking contents of ‘data’ directory ... OK
* checking data for non-ASCII characters ... OK
* checking LazyData ... OK
* checking data for ASCII and uncompressed saves ... OK
* checking files in ‘vignettes’ ... OK
* checking examples ... OK
Examples with CPU (user + system) or elapsed time > 5s
user system elapsed
findLinks 8.567 1.237 12.203
calcShape 6.330 0.424 8.630
trackCTSS 5.920 0.381 8.064
assignGeneID 5.282 0.218 7.098
trimToPercentiles 4.485 0.132 5.937
* checking for unstated dependencies in vignettes ... OK
* checking package vignettes in ‘inst/doc’ ... OK
* checking running R code from vignettes ... SKIPPED
* checking re-building of vignette outputs ... SKIPPED
* checking PDF version of manual ... OK
* DONE
Status: OK
CAGEfightR.Rcheck/00install.out
############################################################################## ############################################################################## ### ### Running command: ### ### /Library/Frameworks/R.framework/Resources/bin/R CMD INSTALL CAGEfightR ### ############################################################################## ############################################################################## * installing to library ‘/Library/Frameworks/R.framework/Versions/4.3-x86_64/Resources/library’ * installing *source* package ‘CAGEfightR’ ... ** using staged installation ** R ** data *** moving datasets to lazyload DB ** inst ** byte-compile and prepare package for lazy loading ** help *** installing help indices ** building package indices ** installing vignettes ** testing if installed package can be loaded from temporary location ** testing if installed package can be loaded from final location ** testing if installed package keeps a record of temporary installation path * DONE (CAGEfightR)
CAGEfightR.Rcheck/CAGEfightR-Ex.timings
| name | user | system | elapsed | |
| assignGeneID | 5.282 | 0.218 | 7.098 | |
| assignMissingID | 3.194 | 0.046 | 4.170 | |
| assignTxID | 1.661 | 0.041 | 2.161 | |
| assignTxType | 0.001 | 0.002 | 0.002 | |
| balanceBC | 0.001 | 0.000 | 0.001 | |
| balanceD | 0.001 | 0.001 | 0.003 | |
| bwCommonGenome | 0.075 | 0.009 | 0.106 | |
| bwGenomeCompatibility | 0.039 | 0.007 | 0.056 | |
| bwValid | 0.017 | 0.007 | 0.029 | |
| calcBidirectionality | 0.881 | 0.022 | 1.154 | |
| calcComposition | 2.729 | 0.044 | 3.577 | |
| calcPooled | 0.199 | 0.006 | 0.264 | |
| calcShape | 6.330 | 0.424 | 8.630 | |
| calcSupport | 0.216 | 0.006 | 0.268 | |
| calcTPM | 0.255 | 0.006 | 0.316 | |
| calcTotalTags | 0.112 | 0.005 | 0.141 | |
| checkCTSSs | 0.537 | 0.011 | 0.685 | |
| checkPeaked | 0.168 | 0.010 | 0.217 | |
| checkPooled | 0.113 | 0.007 | 0.151 | |
| clusterBidirectionally | 0.000 | 0.001 | 0.001 | |
| clusterUnidirectionally | 3.007 | 0.027 | 4.008 | |
| combineClusters | 1.664 | 0.025 | 2.402 | |
| convertBAM2BigWig | 0.000 | 0.001 | 0.000 | |
| convertBED2BigWig | 0.000 | 0.001 | 0.002 | |
| convertGRanges2GPos | 0.165 | 0.002 | 0.235 | |
| exampleDesign | 0.009 | 0.017 | 0.042 | |
| findLinks | 8.567 | 1.237 | 12.203 | |
| findStretches | 0.884 | 0.145 | 1.325 | |
| quantifyCTSSs | 0.001 | 0.002 | 0.003 | |
| quantifyCTSSs2 | 0.000 | 0.002 | 0.002 | |
| quantifyClusters | 0.824 | 0.118 | 1.219 | |
| quantifyGenes | 2.489 | 0.255 | 3.622 | |
| quickEnhancers | 0.000 | 0.000 | 0.001 | |
| quickGenes | 0 | 0 | 0 | |
| quickTSSs | 0.000 | 0.001 | 0.000 | |
| shapeEntropy | 0.001 | 0.001 | 0.002 | |
| shapeIQR | 0.001 | 0.001 | 0.002 | |
| shapeMean | 0.001 | 0.000 | 0.002 | |
| shapeMultimodality | 0.001 | 0.001 | 0.000 | |
| subsetByBidirectionality | 0.903 | 0.070 | 1.294 | |
| subsetByComposition | 2.441 | 0.060 | 3.207 | |
| subsetBySupport | 0.151 | 0.007 | 0.199 | |
| swapRanges | 0.325 | 0.019 | 0.445 | |
| swapScores | 0.201 | 0.008 | 0.265 | |
| trackBalance | 0.000 | 0.001 | 0.001 | |
| trackCTSS | 5.920 | 0.381 | 8.064 | |
| trackClusters | 3.451 | 0.047 | 4.489 | |
| trackLinks | 2.073 | 0.578 | 2.962 | |
| trimToPeak | 1.809 | 0.248 | 2.647 | |
| trimToPercentiles | 4.485 | 0.132 | 5.937 | |
| tuneTagClustering | 0.000 | 0.001 | 0.002 | |
| utilsAggregateRows | 0.802 | 1.143 | 2.495 | |
| utilsDeStrand | 0.255 | 0.008 | 0.328 | |
| utilsScoreOverlaps | 0.143 | 0.002 | 0.180 | |
| utilsSimplifyTxDb | 0.000 | 0.001 | 0.007 | |