| Back to Multiple platform build/check report for BioC 3.17: simplified long | 
  | 
This page was generated on 2023-10-16 11:36:51 -0400 (Mon, 16 Oct 2023).
| Hostname | OS | Arch (*) | R version | Installed pkgs | 
|---|---|---|---|---|
| nebbiolo1 | Linux (Ubuntu 22.04.2 LTS) | x86_64 | 4.3.1 (2023-06-16) -- "Beagle Scouts" | 4626 | 
| palomino3 | Windows Server 2022 Datacenter | x64 | 4.3.1 (2023-06-16 ucrt) -- "Beagle Scouts" | 4379 | 
| merida1 | macOS 12.6.4 Monterey | x86_64 | 4.3.1 (2023-06-16) -- "Beagle Scouts" | 4395 | 
| Click on any hostname to see more info about the system (e.g. compilers) (*) as reported by 'uname -p', except on Windows and Mac OS X | ||||
| Package 185/2230 | Hostname | OS / Arch | INSTALL | BUILD | CHECK | BUILD BIN | ||||||||
| BiocPkgTools 1.18.1  (landing page) Sean Davis 
  | nebbiolo1 | Linux (Ubuntu 22.04.2 LTS) / x86_64 | OK | OK | WARNINGS | |||||||||
| palomino3 | Windows Server 2022 Datacenter / x64 | OK | OK | WARNINGS | OK | |||||||||
| merida1 | macOS 12.6.4 Monterey / x86_64 | OK | OK | WARNINGS | OK | |||||||||
| kjohnson2 | macOS 12.6.1 Monterey / arm64 | see weekly results here | ||||||||||||
| 
To the developers/maintainers of the BiocPkgTools package: - Allow up to 24 hours (and sometimes 48 hours) for your latest push to git@git.bioconductor.org:packages/BiocPkgTools.git to reflect on this report. See Troubleshooting Build Report for more information. - Use the following Renviron settings to reproduce errors and warnings. - If 'R CMD check' started to fail recently on the Linux builder(s) over a missing dependency, add the missing dependency to 'Suggests:' in your DESCRIPTION file. See Renviron.bioc for more information.  | 
| Package: BiocPkgTools | 
| Version: 1.18.1 | 
| Command: /Library/Frameworks/R.framework/Resources/bin/R CMD check --install=check:BiocPkgTools.install-out.txt --library=/Library/Frameworks/R.framework/Resources/library --no-vignettes --timings BiocPkgTools_1.18.1.tar.gz | 
| StartedAt: 2023-10-15 23:03:47 -0400 (Sun, 15 Oct 2023) | 
| EndedAt: 2023-10-15 23:14:54 -0400 (Sun, 15 Oct 2023) | 
| EllapsedTime: 666.7 seconds | 
| RetCode: 0 | 
| Status: WARNINGS | 
| CheckDir: BiocPkgTools.Rcheck | 
| Warnings: 1 | 
##############################################################################
##############################################################################
###
### Running command:
###
###   /Library/Frameworks/R.framework/Resources/bin/R CMD check --install=check:BiocPkgTools.install-out.txt --library=/Library/Frameworks/R.framework/Resources/library --no-vignettes --timings BiocPkgTools_1.18.1.tar.gz
###
##############################################################################
##############################################################################
* using log directory ‘/Users/biocbuild/bbs-3.17-bioc/meat/BiocPkgTools.Rcheck’
* using R version 4.3.1 (2023-06-16)
* using platform: x86_64-apple-darwin20 (64-bit)
* R was compiled by
    Apple clang version 14.0.3 (clang-1403.0.22.14.1)
    GNU Fortran (GCC) 12.2.0
* running under: macOS Monterey 12.6.4
* using session charset: UTF-8
* using option ‘--no-vignettes’
* checking for file ‘BiocPkgTools/DESCRIPTION’ ... OK
* checking extension type ... Package
* this is package ‘BiocPkgTools’ version ‘1.18.1’
* package encoding: UTF-8
* checking package namespace information ... OK
* checking package dependencies ... OK
* checking if this is a source package ... OK
* checking if there is a namespace ... OK
* checking for hidden files and directories ... OK
* checking for portable file names ... OK
* checking for sufficient/correct file permissions ... OK
* checking whether package ‘BiocPkgTools’ can be installed ... OK
* checking installed package size ... OK
* checking package directory ... OK
* checking ‘build’ directory ... OK
* checking DESCRIPTION meta-information ... OK
* checking top-level files ... OK
* checking for left-over files ... OK
* checking index information ... OK
* checking package subdirectories ... OK
* checking R files for non-ASCII characters ... OK
* checking R files for syntax errors ... OK
* checking whether the package can be loaded ... OK
* checking whether the package can be loaded with stated dependencies ... OK
* checking whether the package can be unloaded cleanly ... OK
* checking whether the namespace can be loaded with stated dependencies ... OK
* checking whether the namespace can be unloaded cleanly ... OK
* checking dependencies in R code ... NOTE
Unexported objects imported by ':::' calls:
  ‘BiocManager:::.repositories’ ‘BiocManager:::.repositories_base’
  ‘BiocManager:::.repositories_bioc’
  ‘BiocManager:::.repository_container_version’
  ‘BiocManager:::.version_bioc’
  See the note in ?`:::` about the use of this operator.
* checking S3 generic/method consistency ... OK
* checking replacement functions ... OK
* checking foreign function calls ... OK
* checking R code for possible problems ... OK
* checking Rd files ... OK
* checking Rd metadata ... OK
* checking Rd cross-references ... OK
* checking for missing documentation entries ... OK
* checking for code/documentation mismatches ... OK
* checking Rd \usage sections ... OK
* checking Rd contents ... OK
* checking for unstated dependencies in examples ... OK
* checking files in ‘vignettes’ ... OK
* checking examples ... WARNING
Found the following significant warnings:
  Warning: 'biocLastBuildDate' is deprecated.
Deprecated functions may be defunct as soon as of the next release of
R.
See ?Deprecated.
Examples with CPU (user + system) or elapsed time > 5s
                              user system elapsed
biocBuildReport              8.475 31.529  64.458
get_bioc_data               19.420  0.720  28.015
firstInBioc                 16.511  0.613  22.946
pkgCombDependencyGain       14.546  0.380  20.621
biocDownloadStats           13.833  0.509  19.405
pkgDepMetrics               12.445  0.191  16.194
class-dependencies          10.840  0.331  15.195
buildPkgDependencyDataFrame  5.093  0.088   6.968
githubDetails                3.163  0.396   5.048
* checking for unstated dependencies in ‘tests’ ... OK
* checking tests ...
  Running ‘testthat.R’
 OK
* checking for unstated dependencies in vignettes ... OK
* checking package vignettes in ‘inst/doc’ ... OK
* checking running R code from vignettes ... SKIPPED
* checking re-building of vignette outputs ... SKIPPED
* checking PDF version of manual ... OK
* DONE
Status: 1 WARNING, 1 NOTE
See
  ‘/Users/biocbuild/bbs-3.17-bioc/meat/BiocPkgTools.Rcheck/00check.log’
for details.
BiocPkgTools.Rcheck/00install.out
############################################################################## ############################################################################## ### ### Running command: ### ### /Library/Frameworks/R.framework/Resources/bin/R CMD INSTALL BiocPkgTools ### ############################################################################## ############################################################################## * installing to library ‘/Library/Frameworks/R.framework/Versions/4.3-x86_64/Resources/library’ * installing *source* package ‘BiocPkgTools’ ... ** using staged installation ** R ** inst ** byte-compile and prepare package for lazy loading ** help *** installing help indices ** building package indices ** installing vignettes ** testing if installed package can be loaded from temporary location ** testing if installed package can be loaded from final location ** testing if installed package keeps a record of temporary installation path * DONE (BiocPkgTools)
BiocPkgTools.Rcheck/tests/testthat.Rout
R version 4.3.1 (2023-06-16) -- "Beagle Scouts"
Copyright (C) 2023 The R Foundation for Statistical Computing
Platform: x86_64-apple-darwin20 (64-bit)
R is free software and comes with ABSOLUTELY NO WARRANTY.
You are welcome to redistribute it under certain conditions.
Type 'license()' or 'licence()' for distribution details.
R is a collaborative project with many contributors.
Type 'contributors()' for more information and
'citation()' on how to cite R or R packages in publications.
Type 'demo()' for some demos, 'help()' for on-line help, or
'help.start()' for an HTML browser interface to help.
Type 'q()' to quit R.
> library(testthat)
> library(BiocPkgTools)
Loading required package: htmlwidgets
> 
> test_check("BiocPkgTools")
trying URL 'https://bioconductor.org/packages/3.17/bioc/vignettes/a4/inst/doc/a4vignette.pdf'
Content type 'application/pdf' length 1305437 bytes (1.2 MB)
==================================================
downloaded 1.2 MB
[ FAIL 0 | WARN 3 | SKIP 0 | PASS 30 ]
[ FAIL 0 | WARN 3 | SKIP 0 | PASS 30 ]
> 
> proc.time()
   user  system elapsed 
 61.542  49.391 179.702 
BiocPkgTools.Rcheck/BiocPkgTools-Ex.timings
| name | user | system | elapsed | |
| BiocPkgTools-deprecated | 0.528 | 0.024 | 0.774 | |
| activitySince | 0.001 | 0.000 | 0.005 | |
| anacondaDownloadStats | 2.655 | 0.066 | 4.210 | |
| biocBuildReport | 8.475 | 31.529 | 64.458 | |
| biocDownloadStats | 13.833 | 0.509 | 19.405 | |
| biocMaintained | 2.869 | 0.109 | 4.257 | |
| biocPkgList | 2.586 | 0.075 | 3.778 | |
| biocPkgRanges | 0 | 0 | 0 | |
| biocRevDepEmail | 2.393 | 0.062 | 4.083 | |
| buildPkgDependencyDataFrame | 5.093 | 0.088 | 6.968 | |
| buildPkgDependencyIgraph | 2.552 | 0.042 | 3.723 | |
| class-dependencies | 10.840 | 0.331 | 15.195 | |
| firstInBioc | 16.511 | 0.613 | 22.946 | |
| generateBiocPkgDOI | 0.000 | 0.000 | 0.001 | |
| getBiocVignette | 2.409 | 0.092 | 3.675 | |
| get_bioc_data | 19.420 | 0.720 | 28.015 | |
| get_cre_orcids | 0.011 | 0.001 | 0.015 | |
| githubDetails | 3.163 | 0.396 | 5.048 | |
| githubURLParts | 2.385 | 0.047 | 3.398 | |
| inducedSubgraphByPkgs | 2.512 | 0.041 | 3.586 | |
| latestPkgStats | 0.001 | 0.000 | 0.001 | |
| orcid_table | 0.000 | 0.001 | 0.001 | |
| pkgBiocDeps | 0.232 | 0.012 | 0.387 | |
| pkgCombDependencyGain | 14.546 | 0.380 | 20.621 | |
| pkgDepImports | 0.389 | 0.002 | 0.461 | |
| pkgDepMetrics | 12.445 | 0.191 | 16.194 | |
| pkgDownloadRank | 2.994 | 0.129 | 3.926 | |
| pkgDownloadStats | 0.201 | 0.027 | 0.479 | |
| problemPage | 0.000 | 0.000 | 0.001 | |
| repositoryStats | 0.144 | 0.007 | 0.375 | |
| subgraphByDegree | 2.411 | 0.052 | 3.389 | |