| Back to Multiple platform build/check report for BioC 3.17: simplified long | 
  | 
This page was generated on 2023-10-16 11:36:52 -0400 (Mon, 16 Oct 2023).
| Hostname | OS | Arch (*) | R version | Installed pkgs | 
|---|---|---|---|---|
| nebbiolo1 | Linux (Ubuntu 22.04.2 LTS) | x86_64 | 4.3.1 (2023-06-16) -- "Beagle Scouts" | 4626 | 
| palomino3 | Windows Server 2022 Datacenter | x64 | 4.3.1 (2023-06-16 ucrt) -- "Beagle Scouts" | 4379 | 
| merida1 | macOS 12.6.4 Monterey | x86_64 | 4.3.1 (2023-06-16) -- "Beagle Scouts" | 4395 | 
| Click on any hostname to see more info about the system (e.g. compilers) (*) as reported by 'uname -p', except on Windows and Mac OS X | ||||
| Package 210/2230 | Hostname | OS / Arch | INSTALL | BUILD | CHECK | BUILD BIN | ||||||||
| BioNAR 1.2.5  (landing page) Anatoly Sorokin 
  | nebbiolo1 | Linux (Ubuntu 22.04.2 LTS) / x86_64 | OK | OK | OK | |||||||||
| palomino3 | Windows Server 2022 Datacenter / x64 | OK | OK | OK | OK | |||||||||
| merida1 | macOS 12.6.4 Monterey / x86_64 | OK | OK | OK | OK | |||||||||
| kjohnson2 | macOS 12.6.1 Monterey / arm64 | see weekly results here | ||||||||||||
| 
To the developers/maintainers of the BioNAR package: - Allow up to 24 hours (and sometimes 48 hours) for your latest push to git@git.bioconductor.org:packages/BioNAR.git to reflect on this report. See Troubleshooting Build Report for more information. - Use the following Renviron settings to reproduce errors and warnings. - If 'R CMD check' started to fail recently on the Linux builder(s) over a missing dependency, add the missing dependency to 'Suggests:' in your DESCRIPTION file. See Renviron.bioc for more information.  | 
| Package: BioNAR | 
| Version: 1.2.5 | 
| Command: /Library/Frameworks/R.framework/Resources/bin/R CMD check --install=check:BioNAR.install-out.txt --library=/Library/Frameworks/R.framework/Resources/library --no-vignettes --timings BioNAR_1.2.5.tar.gz | 
| StartedAt: 2023-10-15 23:09:26 -0400 (Sun, 15 Oct 2023) | 
| EndedAt: 2023-10-15 23:32:18 -0400 (Sun, 15 Oct 2023) | 
| EllapsedTime: 1371.4 seconds | 
| RetCode: 0 | 
| Status: OK | 
| CheckDir: BioNAR.Rcheck | 
| Warnings: 0 | 
##############################################################################
##############################################################################
###
### Running command:
###
###   /Library/Frameworks/R.framework/Resources/bin/R CMD check --install=check:BioNAR.install-out.txt --library=/Library/Frameworks/R.framework/Resources/library --no-vignettes --timings BioNAR_1.2.5.tar.gz
###
##############################################################################
##############################################################################
* using log directory ‘/Users/biocbuild/bbs-3.17-bioc/meat/BioNAR.Rcheck’
* using R version 4.3.1 (2023-06-16)
* using platform: x86_64-apple-darwin20 (64-bit)
* R was compiled by
    Apple clang version 14.0.3 (clang-1403.0.22.14.1)
    GNU Fortran (GCC) 12.2.0
* running under: macOS Monterey 12.6.4
* using session charset: UTF-8
* using option ‘--no-vignettes’
* checking for file ‘BioNAR/DESCRIPTION’ ... OK
* this is package ‘BioNAR’ version ‘1.2.5’
* package encoding: UTF-8
* checking package namespace information ... OK
* checking package dependencies ... OK
* checking if this is a source package ... OK
* checking if there is a namespace ... OK
* checking for hidden files and directories ... OK
* checking for portable file names ... OK
* checking for sufficient/correct file permissions ... OK
* checking whether package ‘BioNAR’ can be installed ... OK
* checking installed package size ... NOTE
  installed size is  6.7Mb
  sub-directories of 1Mb or more:
    extdata   6.1Mb
* checking package directory ... OK
* checking ‘build’ directory ... OK
* checking DESCRIPTION meta-information ... OK
* checking top-level files ... OK
* checking for left-over files ... OK
* checking index information ... OK
* checking package subdirectories ... OK
* checking R files for non-ASCII characters ... OK
* checking R files for syntax errors ... OK
* checking whether the package can be loaded ... OK
* checking whether the package can be loaded with stated dependencies ... OK
* checking whether the package can be unloaded cleanly ... OK
* checking whether the namespace can be loaded with stated dependencies ... OK
* checking whether the namespace can be unloaded cleanly ... OK
* checking dependencies in R code ... NOTE
Package in Depends field not imported from: ‘Rdpack’
  These packages need to be imported from (in the NAMESPACE file)
  for when this namespace is loaded but not attached.
There are ::: calls to the package's namespace in its code. A package
  almost never needs to use ::: for its own objects:
  ‘addNoise’ ‘gofs’ ‘highlightRate’ ‘plotSigmoid’ ‘storeFitInfo’
  ‘storeParInfo’
* checking S3 generic/method consistency ... OK
* checking replacement functions ... OK
* checking foreign function calls ... OK
* checking R code for possible problems ... NOTE
clusterORA : forafun: no visible binding for global variable ‘pathway’
clusterORA : forafun: no visible binding for global variable ‘size’
clusterORA : forafun: no visible binding for global variable ‘overlap’
clusterORA : forafun: no visible binding for global variable ‘pval’
clusterORA : forafun: no visible binding for global variable ‘padj’
clusterORA : forafun: no visible binding for global variable
  ‘overlapGenes’
clusterORA : forafun: no visible binding for global variable ‘FL’
clusterORA : forafun: no visible binding for global variable ‘N’
clusterORA : forafun: no visible binding for global variable ‘Fn’
clusterORA : forafun: no visible binding for global variable ‘Cn’
clusterORA : forafun: no visible binding for global variable ‘Mu’
clusterORA : forafun: no visible binding for global variable ‘OR’
clusterORA : forafun: no visible binding for global variable ‘CIw’
clusterORA : forafun: no visible binding for global variable ‘Fe’
clusterORA : forafun: no visible binding for global variable ‘Fc’
clusterORA : forafun: no visible binding for global variable ‘palt’
plotSigmoid: no visible binding for global variable ‘yiR1’
plotSigmoid: no visible binding for global variable ‘yiR2’
plotSigmoid: no visible binding for global variable ‘yiR3’
plotSigmoid: no visible binding for global variable ‘yiR4’
plotSigmoid: no visible binding for global variable ‘yiR5’
Undefined global functions or variables:
  CIw Cn FL Fc Fe Fn Mu N OR overlap overlapGenes padj palt pathway
  pval size yiR1 yiR2 yiR3 yiR4 yiR5
* checking Rd files ... OK
* checking Rd metadata ... OK
* checking Rd cross-references ... OK
* checking for missing documentation entries ... OK
* checking for code/documentation mismatches ... OK
* checking Rd \usage sections ... OK
* checking Rd contents ... OK
* checking for unstated dependencies in examples ... OK
* checking files in ‘vignettes’ ... OK
* checking examples ... OK
Examples with CPU (user + system) or elapsed time > 5s
                              user system elapsed
calcEntropy                 35.349  2.633  53.861
plotEntropy                 33.814  2.989  49.501
getEntropy                  33.325  3.320  51.599
getCentralityMatrix         30.942  2.577  43.586
getGraphCentralityECDF      29.754  2.585  42.176
annotateTopOntoOVG          28.747  1.984  38.458
annotateSCHanno             22.481  2.015  30.403
normModularity              20.048  2.407  30.350
buildFromSynaptomeByEntrez  19.606  1.935  26.267
buildFromSynaptomeGeneTable 19.448  2.037  27.304
clusteringSummary           21.080  0.109  27.539
calcSparsness               18.653  2.301  28.424
addEdgeAtts                 15.861  2.121  23.371
runPermDisease              10.113  0.176  13.079
annotateGOont                8.769  0.913  12.744
calcAllClustering            6.590  0.038   8.585
annotateGoBP                 6.212  0.327   8.199
annotateGoMF                 5.650  0.257   7.209
annotateGoCC                 5.536  0.244   7.638
FitDegree                    2.784  0.165  16.917
getRandomGraphCentrality     0.669  0.038  29.649
* checking for unstated dependencies in ‘tests’ ... OK
* checking tests ...
  Running ‘testthat.R’
 OK
* checking for unstated dependencies in vignettes ... OK
* checking package vignettes in ‘inst/doc’ ... OK
* checking running R code from vignettes ... SKIPPED
* checking re-building of vignette outputs ... SKIPPED
* checking PDF version of manual ... OK
* DONE
Status: 3 NOTEs
See
  ‘/Users/biocbuild/bbs-3.17-bioc/meat/BioNAR.Rcheck/00check.log’
for details.
BioNAR.Rcheck/00install.out
############################################################################## ############################################################################## ### ### Running command: ### ### /Library/Frameworks/R.framework/Resources/bin/R CMD INSTALL BioNAR ### ############################################################################## ############################################################################## * installing to library ‘/Library/Frameworks/R.framework/Versions/4.3-x86_64/Resources/library’ * installing *source* package ‘BioNAR’ ... ** using staged installation ** R ** inst ** byte-compile and prepare package for lazy loading Using 'localHub=TRUE' If offline, please also see BiocManager vignette section on offline use loading from cache ** help *** installing help indices ** building package indices ** installing vignettes ** testing if installed package can be loaded from temporary location Using 'localHub=TRUE' If offline, please also see BiocManager vignette section on offline use loading from cache ** testing if installed package can be loaded from final location Using 'localHub=TRUE' If offline, please also see BiocManager vignette section on offline use loading from cache ** testing if installed package keeps a record of temporary installation path * DONE (BioNAR)
BioNAR.Rcheck/tests/testthat.Rout
R version 4.3.1 (2023-06-16) -- "Beagle Scouts"
Copyright (C) 2023 The R Foundation for Statistical Computing
Platform: x86_64-apple-darwin20 (64-bit)
R is free software and comes with ABSOLUTELY NO WARRANTY.
You are welcome to redistribute it under certain conditions.
Type 'license()' or 'licence()' for distribution details.
R is a collaborative project with many contributors.
Type 'contributors()' for more information and
'citation()' on how to cite R or R packages in publications.
Type 'demo()' for some demos, 'help()' for on-line help, or
'help.start()' for an HTML browser interface to help.
Type 'q()' to quit R.
> library(testthat)
> library(BioNAR)
Loading required package: igraph
Attaching package: 'igraph'
The following object is masked from 'package:testthat':
    compare
The following objects are masked from 'package:stats':
    decompose, spectrum
The following object is masked from 'package:base':
    union
Loading required package: poweRlaw
Loading required package: latex2exp
Loading required package: RSpectra
Loading required package: Rdpack
Using 'localHub=TRUE'
  If offline, please also see BiocManager vignette section on offline use
loading from cache
Attaching package: 'BioNAR'
The following object is masked from 'package:igraph':
    permute
> 
> test_check("BioNAR")
This graph was created by an old(er) igraph version.
  Call upgrade_graph() on it to use with the current igraph version
  For now we convert it on the fly...
Loading required package: synaptome.data
Loading required package: AnnotationHub
Loading required package: BiocGenerics
Attaching package: 'BiocGenerics'
The following objects are masked from 'package:igraph':
    normalize, path, union
The following objects are masked from 'package:stats':
    IQR, mad, sd, var, xtabs
The following objects are masked from 'package:base':
    Filter, Find, Map, Position, Reduce, anyDuplicated, aperm, append,
    as.data.frame, basename, cbind, colnames, dirname, do.call,
    duplicated, eval, evalq, get, grep, grepl, intersect, is.unsorted,
    lapply, mapply, match, mget, order, paste, pmax, pmax.int, pmin,
    pmin.int, rank, rbind, rownames, sapply, setdiff, sort, table,
    tapply, union, unique, unsplit, which.max, which.min
Loading required package: BiocFileCache
Loading required package: dbplyr
This graph was created by an old(er) igraph version.
  Call upgrade_graph() on it to use with the current igraph version
  For now we convert it on the fly...
This graph was created by an old(er) igraph version.
  Call upgrade_graph() on it to use with the current igraph version
  For now we convert it on the fly...
This graph was created by an old(er) igraph version.
  Call upgrade_graph() on it to use with the current igraph version
  For now we convert it on the fly...
[ FAIL 0 | WARN 0 | SKIP 2 | PASS 109 ]
══ Skipped tests (2) ═══════════════════════════════════════════════════════════
• On CRAN (2): 'test_bridgeness.R:34:5', 'test_bridgeness.R:64:5'
[ FAIL 0 | WARN 0 | SKIP 2 | PASS 109 ]
Deleting unused snapshots:
• bridgeness/entropyplot.svg
• fitdegree/powerfitplot.svg
> 
> proc.time()
   user  system elapsed 
112.985   7.582 184.281 
BioNAR.Rcheck/BioNAR-Ex.timings
| name | user | system | elapsed | |
| FitDegree | 2.784 | 0.165 | 16.917 | |
| addEdgeAtts | 15.861 | 2.121 | 23.371 | |
| annotateGOont | 8.769 | 0.913 | 12.744 | |
| annotateGeneNames | 0.451 | 0.031 | 0.599 | |
| annotateGoBP | 6.212 | 0.327 | 8.199 | |
| annotateGoCC | 5.536 | 0.244 | 7.638 | |
| annotateGoMF | 5.650 | 0.257 | 7.209 | |
| annotatePresynaptic | 2.182 | 0.098 | 2.583 | |
| annotateSCHanno | 22.481 | 2.015 | 30.403 | |
| annotateTopOntoOVG | 28.747 | 1.984 | 38.458 | |
| annotateVertex | 0.007 | 0.001 | 0.009 | |
| applpMatrixToGraph | 0.003 | 0.002 | 0.007 | |
| buildFromSynaptomeByEntrez | 19.606 | 1.935 | 26.267 | |
| buildFromSynaptomeGeneTable | 19.448 | 2.037 | 27.304 | |
| buildNetwork | 0.007 | 0.001 | 0.012 | |
| calcAllClustering | 6.590 | 0.038 | 8.585 | |
| calcBridgeness | 0.186 | 0.009 | 0.247 | |
| calcCentrality | 0.124 | 0.003 | 0.157 | |
| calcCentralityExternalDistances | 0.923 | 0.013 | 1.189 | |
| calcCentralityInternalDistances | 0.981 | 0.042 | 1.295 | |
| calcClustering | 0.010 | 0.002 | 0.013 | |
| calcDiseasePairs | 0.791 | 0.011 | 1.013 | |
| calcEntropy | 35.349 | 2.633 | 53.861 | |
| calcMembership | 0.016 | 0.008 | 0.029 | |
| calcReclusterMatrix | 0.026 | 0.009 | 0.048 | |
| calcSparsness | 18.653 | 2.301 | 28.424 | |
| clusterORA | 0.645 | 0.047 | 0.874 | |
| clusteringSummary | 21.080 | 0.109 | 27.539 | |
| degreeBinnedGDAs | 0.474 | 0.016 | 0.651 | |
| escapeAnnotation | 0.001 | 0.001 | 0.002 | |
| evalCentralitySignificance | 0.931 | 0.015 | 1.244 | |
| findLCC | 0.010 | 0.002 | 0.019 | |
| getAnnotationList | 0.118 | 0.004 | 0.159 | |
| getAnnotationVertexList | 0.145 | 0.026 | 0.237 | |
| getBridgeness | 0.178 | 0.014 | 0.248 | |
| getCentralityMatrix | 30.942 | 2.577 | 43.586 | |
| getClusterSubgraphByID | 0.008 | 0.008 | 0.015 | |
| getClustering | 0.013 | 0.009 | 0.024 | |
| getCommunityGraph | 0.014 | 0.008 | 0.030 | |
| getDType | 0.000 | 0.001 | 0.009 | |
| getDiseases | 0.000 | 0.003 | 0.010 | |
| getEntropy | 33.325 | 3.320 | 51.599 | |
| getEntropyRate | 0.010 | 0.008 | 0.018 | |
| getGNP | 0.004 | 0.011 | 0.020 | |
| getGraphCentralityECDF | 29.754 | 2.585 | 42.176 | |
| getPA | 0.005 | 0.008 | 0.016 | |
| getRandomGraphCentrality | 0.669 | 0.038 | 29.649 | |
| getRobustness | 1.317 | 0.060 | 1.675 | |
| layoutByCluster | 0.122 | 0.010 | 0.162 | |
| layoutByRecluster | 0.247 | 0.010 | 0.315 | |
| makeConsensusMatrix | 1.247 | 0.053 | 1.620 | |
| normModularity | 20.048 | 2.407 | 30.350 | |
| permute | 0.000 | 0.001 | 0.002 | |
| plotBridgeness | 0.946 | 0.036 | 1.468 | |
| plotEntropy | 33.814 | 2.989 | 49.501 | |
| prepareGDA | 0.438 | 0.012 | 0.582 | |
| recluster | 0.021 | 0.008 | 0.036 | |
| removeVertexTerm | 0.003 | 0.007 | 0.015 | |
| runPermDisease | 10.113 | 0.176 | 13.079 | |
| sampleDegBinnedGDA | 0.596 | 0.010 | 0.732 | |
| sampleGraphClust | 0.017 | 0.007 | 0.030 | |
| unescapeAnnotation | 0.001 | 0.002 | 0.003 | |
| zeroNA | 0.001 | 0.001 | 0.001 | |