This page was generated on 2023-04-11 14:00:08 -0400 (Tue, 11 Apr 2023).
|
| Hostname | OS | Arch (*) | R version | Installed pkgs |
|---|---|---|---|---|
| nebbiolo2 | Linux (Ubuntu 20.04.5 LTS) | x86_64 | 4.2.3 (2023-03-15) -- "Shortstop Beagle" | 4502 |
| palomino4 | Windows Server 2022 Datacenter | x64 | 4.2.3 (2023-03-15 ucrt) -- "Shortstop Beagle" | 4282 |
| lconway | macOS 12.5.1 Monterey | x86_64 | 4.2.3 (2023-03-15) -- "Shortstop Beagle" | 4310 |
| Click on any hostname to see more info about the system (e.g. compilers) (*) as reported by 'uname -p', except on Windows and Mac OS X | ||||
A | |||||||||
| QUICK STATS | OS / Arch | INSTALL | BUILD | ||||||||||
| nebbiolo2 | Linux (Ubuntu 20.04.5 LTS) / x86_64 |
|
| ||||||||||
| palomino4 | Windows Server 2022 Datacenter / x64 |
|
| ||||||||||
| lconway | macOS 12.5.1 Monterey / x86_64 |
|
| ||||||||||
| Package 1/28 | Hostname | OS / Arch | INSTALL | BUILD | |||||||||
| annotation 1.22.0 (landing page) Bioconductor Package Maintainer
| nebbiolo2 | Linux (Ubuntu 20.04.5 LTS) / x86_64 | OK | OK | |||||||||
| palomino4 | Windows Server 2022 Datacenter / x64 | OK | OK | ||||||||||
| lconway | macOS 12.5.1 Monterey / x86_64 | OK | OK | ||||||||||
| Package 2/28 | Hostname | OS / Arch | INSTALL | BUILD | |||||||||
| arrays 1.24.0 (landing page) Bioconductor Package Maintainer
| nebbiolo2 | Linux (Ubuntu 20.04.5 LTS) / x86_64 | OK | OK | |||||||||
| palomino4 | Windows Server 2022 Datacenter / x64 | OK | OK | ||||||||||
| lconway | macOS 12.5.1 Monterey / x86_64 | OK | OK | ||||||||||
| Package 3/28 | Hostname | OS / Arch | INSTALL | BUILD | |||||||||
| BiocMetaWorkflow 1.20.0 (landing page) Mike Smith
| nebbiolo2 | Linux (Ubuntu 20.04.5 LTS) / x86_64 | OK | OK | |||||||||
| palomino4 | Windows Server 2022 Datacenter / x64 | OK | OK | ||||||||||
| lconway | macOS 12.5.1 Monterey / x86_64 | OK | OK | ||||||||||
| Package 4/28 | Hostname | OS / Arch | INSTALL | BUILD | |||||||||
| BP4RNAseq 1.8.0 (landing page) Shanwen Sun
| nebbiolo2 | Linux (Ubuntu 20.04.5 LTS) / x86_64 | OK | OK | |||||||||
| palomino4 | Windows Server 2022 Datacenter / x64 | OK | OK | ||||||||||
| lconway | macOS 12.5.1 Monterey / x86_64 | OK | OK | ||||||||||
| Package 5/28 | Hostname | OS / Arch | INSTALL | BUILD | |||||||||
| CAGEWorkflow 1.14.0 (landing page) Malte Thodberg
| nebbiolo2 | Linux (Ubuntu 20.04.5 LTS) / x86_64 | OK | OK | |||||||||
| palomino4 | Windows Server 2022 Datacenter / x64 | ... NOT SUPPORTED ... | |||||||||||
| lconway | macOS 12.5.1 Monterey / x86_64 | OK | OK | ||||||||||
| Package 6/28 | Hostname | OS / Arch | INSTALL | BUILD | |||||||||
| chipseqDB 1.22.0 (landing page) Aaron Lun
| nebbiolo2 | Linux (Ubuntu 20.04.5 LTS) / x86_64 | OK | OK | |||||||||
| palomino4 | Windows Server 2022 Datacenter / x64 | ... NOT SUPPORTED ... | |||||||||||
| lconway | macOS 12.5.1 Monterey / x86_64 | OK | OK | ||||||||||
| Package 7/28 | Hostname | OS / Arch | INSTALL | BUILD | |||||||||
| csawUsersGuide 1.14.0 (landing page) Aaron Lun
| nebbiolo2 | Linux (Ubuntu 20.04.5 LTS) / x86_64 | OK | OK | |||||||||
| palomino4 | Windows Server 2022 Datacenter / x64 | OK | OK | ||||||||||
| lconway | macOS 12.5.1 Monterey / x86_64 | OK | OK | ||||||||||
| Package 8/28 | Hostname | OS / Arch | INSTALL | BUILD | |||||||||
| cytofWorkflow 1.22.0 (landing page) Mark D. Robinson
| nebbiolo2 | Linux (Ubuntu 20.04.5 LTS) / x86_64 | OK | OK | |||||||||
| palomino4 | Windows Server 2022 Datacenter / x64 | OK | OK | ||||||||||
| lconway | macOS 12.5.1 Monterey / x86_64 | OK | OK | ||||||||||
| Package 9/28 | Hostname | OS / Arch | INSTALL | BUILD | |||||||||
| EGSEA123 1.22.0 (landing page) Matthew Ritchie
| nebbiolo2 | Linux (Ubuntu 20.04.5 LTS) / x86_64 | OK | OK | |||||||||
| palomino4 | Windows Server 2022 Datacenter / x64 | OK | OK | ||||||||||
| lconway | macOS 12.5.1 Monterey / x86_64 | OK | OK | ||||||||||
| Package 10/28 | Hostname | OS / Arch | INSTALL | BUILD | |||||||||
| ExpHunterSuite 1.6.2 (landing page) James Perkins
| nebbiolo2 | Linux (Ubuntu 20.04.5 LTS) / x86_64 | OK | OK | |||||||||
| palomino4 | Windows Server 2022 Datacenter / x64 | OK | OK | ||||||||||
| lconway | macOS 12.5.1 Monterey / x86_64 | OK | OK | ||||||||||
| Package 11/28 | Hostname | OS / Arch | INSTALL | BUILD | |||||||||
| ExpressionNormalizationWorkflow 1.24.0 (landing page) Karthikeyan Murugesan
| nebbiolo2 | Linux (Ubuntu 20.04.5 LTS) / x86_64 | OK | OK | |||||||||
| palomino4 | Windows Server 2022 Datacenter / x64 | OK | OK | ||||||||||
| lconway | macOS 12.5.1 Monterey / x86_64 | OK | OK | ||||||||||
| Package 12/28 | Hostname | OS / Arch | INSTALL | BUILD | |||||||||
| fluentGenomics 1.10.0 (landing page) Stuart Lee
| nebbiolo2 | Linux (Ubuntu 20.04.5 LTS) / x86_64 | OK | OK | |||||||||
| palomino4 | Windows Server 2022 Datacenter / x64 | OK | OK | ||||||||||
| lconway | macOS 12.5.1 Monterey / x86_64 | OK | OK | ||||||||||
| Package 13/28 | Hostname | OS / Arch | INSTALL | BUILD | |||||||||
| generegulation 1.22.0 (landing page) Bioconductor Package Maintainer
| nebbiolo2 | Linux (Ubuntu 20.04.5 LTS) / x86_64 | OK | OK | |||||||||
| palomino4 | Windows Server 2022 Datacenter / x64 | OK | OK | ||||||||||
| lconway | macOS 12.5.1 Monterey / x86_64 | OK | OK | ||||||||||
| Package 14/28 | Hostname | OS / Arch | INSTALL | BUILD | |||||||||
| GeoMxWorkflows 1.4.0 (landing page) Jason Reeves
| nebbiolo2 | Linux (Ubuntu 20.04.5 LTS) / x86_64 | OK | OK | |||||||||
| palomino4 | Windows Server 2022 Datacenter / x64 | OK | OK | ||||||||||
| lconway | macOS 12.5.1 Monterey / x86_64 | OK | OK | ||||||||||
| Package 15/28 | Hostname | OS / Arch | INSTALL | BUILD | |||||||||
| highthroughputassays 1.22.0 (landing page) Bioconductor Package Maintainer
| nebbiolo2 | Linux (Ubuntu 20.04.5 LTS) / x86_64 | OK | OK | |||||||||
| palomino4 | Windows Server 2022 Datacenter / x64 | ... NOT SUPPORTED ... | |||||||||||
| lconway | macOS 12.5.1 Monterey / x86_64 | ... NOT SUPPORTED ... | |||||||||||
| Package 16/28 | Hostname | OS / Arch | INSTALL | BUILD | |||||||||
| liftOver 1.22.0 (landing page) Bioconductor Package Maintainer
| nebbiolo2 | Linux (Ubuntu 20.04.5 LTS) / x86_64 | OK | OK | |||||||||
| palomino4 | Windows Server 2022 Datacenter / x64 | OK | OK | ||||||||||
| lconway | macOS 12.5.1 Monterey / x86_64 | OK | OK | ||||||||||
| Package 17/28 | Hostname | OS / Arch | INSTALL | BUILD | |||||||||
| maEndToEnd 2.18.0 (landing page) Stefanie Reisenauer
| nebbiolo2 | Linux (Ubuntu 20.04.5 LTS) / x86_64 | OK | ERROR | |||||||||
| palomino4 | Windows Server 2022 Datacenter / x64 | OK | ERROR | ||||||||||
| lconway | macOS 12.5.1 Monterey / x86_64 | OK | ERROR | ||||||||||
| Package 18/28 | Hostname | OS / Arch | INSTALL | BUILD | |||||||||
| methylationArrayAnalysis 1.22.0 (landing page) Jovana Maksimovic
| nebbiolo2 | Linux (Ubuntu 20.04.5 LTS) / x86_64 | OK | OK | |||||||||
| palomino4 | Windows Server 2022 Datacenter / x64 | OK | OK | ||||||||||
| lconway | macOS 12.5.1 Monterey / x86_64 | OK | OK | ||||||||||
| Package 19/28 | Hostname | OS / Arch | INSTALL | BUILD | |||||||||
| recountWorkflow 1.22.0 (landing page) Leonardo Collado-Torres
| nebbiolo2 | Linux (Ubuntu 20.04.5 LTS) / x86_64 | OK | OK | |||||||||
| palomino4 | Windows Server 2022 Datacenter / x64 | OK | OK | ||||||||||
| lconway | macOS 12.5.1 Monterey / x86_64 | OK | OK | ||||||||||
| Package 20/28 | Hostname | OS / Arch | INSTALL | BUILD | |||||||||
| RNAseq123 1.22.0 (landing page) Matthew Ritchie
| nebbiolo2 | Linux (Ubuntu 20.04.5 LTS) / x86_64 | OK | OK | |||||||||
| palomino4 | Windows Server 2022 Datacenter / x64 | OK | OK | ||||||||||
| lconway | macOS 12.5.1 Monterey / x86_64 | OK | OK | ||||||||||
| Package 21/28 | Hostname | OS / Arch | INSTALL | BUILD | |||||||||
| rnaseqDTU 1.18.0 (landing page) Michael Love
| nebbiolo2 | Linux (Ubuntu 20.04.5 LTS) / x86_64 | OK | OK | |||||||||
| palomino4 | Windows Server 2022 Datacenter / x64 | OK | OK | ||||||||||
| lconway | macOS 12.5.1 Monterey / x86_64 | OK | OK | ||||||||||
| Package 22/28 | Hostname | OS / Arch | INSTALL | BUILD | |||||||||
| rnaseqGene 1.22.0 (landing page) Michael Love
| nebbiolo2 | Linux (Ubuntu 20.04.5 LTS) / x86_64 | OK | OK | |||||||||
| palomino4 | Windows Server 2022 Datacenter / x64 | OK | OK | ||||||||||
| lconway | macOS 12.5.1 Monterey / x86_64 | OK | OK | ||||||||||
| Package 23/28 | Hostname | OS / Arch | INSTALL | BUILD | |||||||||
| RnaSeqGeneEdgeRQL 1.22.0 (landing page) Yunshun Chen
| nebbiolo2 | Linux (Ubuntu 20.04.5 LTS) / x86_64 | OK | OK | |||||||||
| palomino4 | Windows Server 2022 Datacenter / x64 | OK | OK | ||||||||||
| lconway | macOS 12.5.1 Monterey / x86_64 | OK | OK | ||||||||||
| Package 24/28 | Hostname | OS / Arch | INSTALL | BUILD | |||||||||
| sequencing 1.22.0 (landing page) Bioconductor Package Maintainer
| nebbiolo2 | Linux (Ubuntu 20.04.5 LTS) / x86_64 | OK | OK | |||||||||
| palomino4 | Windows Server 2022 Datacenter / x64 | OK | OK | ||||||||||
| lconway | macOS 12.5.1 Monterey / x86_64 | OK | OK | ||||||||||
| Package 25/28 | Hostname | OS / Arch | INSTALL | BUILD | |||||||||
| simpleSingleCell 1.22.0 (landing page) Aaron Lun
| nebbiolo2 | Linux (Ubuntu 20.04.5 LTS) / x86_64 | OK | OK | |||||||||
| palomino4 | Windows Server 2022 Datacenter / x64 | ... NOT SUPPORTED ... | |||||||||||
| lconway | macOS 12.5.1 Monterey / x86_64 | OK | OK | ||||||||||
| Package 26/28 | Hostname | OS / Arch | INSTALL | BUILD | |||||||||
| SingscoreAMLMutations 1.14.0 (landing page) Dharmesh D. Bhuva
| nebbiolo2 | Linux (Ubuntu 20.04.5 LTS) / x86_64 | OK | OK | |||||||||
| palomino4 | Windows Server 2022 Datacenter / x64 | OK | OK | ||||||||||
| lconway | macOS 12.5.1 Monterey / x86_64 | OK | OK | ||||||||||
| Package 27/28 | Hostname | OS / Arch | INSTALL | BUILD | |||||||||
| TCGAWorkflow 1.22.2 (landing page) Tiago Chedraoui Silva
| nebbiolo2 | Linux (Ubuntu 20.04.5 LTS) / x86_64 | OK | ERROR | |||||||||
| palomino4 | Windows Server 2022 Datacenter / x64 | OK | ERROR | ||||||||||
| lconway | macOS 12.5.1 Monterey / x86_64 | OK | ERROR | ||||||||||
| Package 28/28 | Hostname | OS / Arch | INSTALL | BUILD | |||||||||
| variants 1.22.0 (landing page) Bioconductor Package Maintainer
| nebbiolo2 | Linux (Ubuntu 20.04.5 LTS) / x86_64 | OK | OK | |||||||||
| palomino4 | Windows Server 2022 Datacenter / x64 | OK | OK | ||||||||||
| lconway | macOS 12.5.1 Monterey / x86_64 | OK | OK | ||||||||||