| Back to Workflows build report for BioC 3.16 |
This page was generated on 2023-04-11 14:00:08 -0400 (Tue, 11 Apr 2023).
A | |||||||||
| QUICK STATS | OS / Arch | INSTALL | BUILD | ||||||||||
| nebbiolo2 | Linux (Ubuntu 20.04.5 LTS) / x86_64 |
|
| ||||||||||
| palomino4 | Windows Server 2022 Datacenter / x64 |
|
| ||||||||||
| lconway | macOS 12.5.1 Monterey / x86_64 |
|
| ||||||||||
| Package | Maintainer | INSTALL | BUILD | ||||||||||
| 1/28 | annotation 1.22.0 (landing page) | Bioconductor Package Maintainer | OK | OK | |||||||||
| 2/28 | arrays 1.24.0 (landing page) | Bioconductor Package Maintainer | OK | OK | |||||||||
| 3/28 | BiocMetaWorkflow 1.20.0 (landing page) | Mike Smith | OK | OK | |||||||||
| 4/28 | BP4RNAseq 1.8.0 (landing page) | Shanwen Sun | OK | OK | |||||||||
| 5/28 | CAGEWorkflow 1.14.0 (landing page) | Malte Thodberg | OK | OK | |||||||||
| 6/28 | chipseqDB 1.22.0 (landing page) | Aaron Lun | OK | OK | |||||||||
| 7/28 | csawUsersGuide 1.14.0 (landing page) | Aaron Lun | OK | OK | |||||||||
| 8/28 | cytofWorkflow 1.22.0 (landing page) | Mark D. Robinson | OK | OK | |||||||||
| 9/28 | EGSEA123 1.22.0 (landing page) | Matthew Ritchie | OK | OK | |||||||||
| 10/28 | ExpHunterSuite 1.6.2 (landing page) | James Perkins | OK | OK | |||||||||
| 11/28 | ExpressionNormalizationWorkflow 1.24.0 (landing page) | Karthikeyan Murugesan | OK | OK | |||||||||
| 12/28 | fluentGenomics 1.10.0 (landing page) | Stuart Lee | OK | OK | |||||||||
| 13/28 | generegulation 1.22.0 (landing page) | Bioconductor Package Maintainer | OK | OK | |||||||||
| 14/28 | GeoMxWorkflows 1.4.0 (landing page) | Jason Reeves | OK | OK | |||||||||
| 15/28 | highthroughputassays (landing page) | ... NOT SUPPORTED ... | |||||||||||
| 16/28 | liftOver 1.22.0 (landing page) | Bioconductor Package Maintainer | OK | OK | |||||||||
| 17/28 | maEndToEnd 2.18.0 (landing page) | Stefanie Reisenauer | OK | ERROR | |||||||||
| 18/28 | methylationArrayAnalysis 1.22.0 (landing page) | Jovana Maksimovic | OK | OK | |||||||||
| 19/28 | recountWorkflow 1.22.0 (landing page) | Leonardo Collado-Torres | OK | OK | |||||||||
| 20/28 | RNAseq123 1.22.0 (landing page) | Matthew Ritchie | OK | OK | |||||||||
| 21/28 | rnaseqDTU 1.18.0 (landing page) | Michael Love | OK | OK | |||||||||
| 22/28 | rnaseqGene 1.22.0 (landing page) | Michael Love | OK | OK | |||||||||
| 23/28 | RnaSeqGeneEdgeRQL 1.22.0 (landing page) | Yunshun Chen | OK | OK | |||||||||
| 24/28 | sequencing 1.22.0 (landing page) | Bioconductor Package Maintainer | OK | OK | |||||||||
| 25/28 | simpleSingleCell 1.22.0 (landing page) | Aaron Lun | OK | OK | |||||||||
| 26/28 | SingscoreAMLMutations 1.14.0 (landing page) | Dharmesh D. Bhuva | OK | OK | |||||||||
| 27/28 | TCGAWorkflow 1.22.2 (landing page) | Tiago Chedraoui Silva | OK | ERROR | |||||||||
| 28/28 | variants 1.22.0 (landing page) | Bioconductor Package Maintainer | OK | OK | |||||||||