| Back to Mac ARM64 build report for BioC 3.16 |
|
This page was generated on 2023-04-19 11:01:58 -0400 (Wed, 19 Apr 2023).
| Hostname | OS | Arch (*) | R version | Installed pkgs |
|---|---|---|---|---|
| kjohnson | macOS 13.0 Ventura | arm64 | 4.2.2 (2022-10-31) -- "Innocent and Trusting" | 4256 |
| Click on any hostname to see more info about the system (e.g. compilers) (*) as reported by 'uname -p', except on Windows and Mac OS X | ||||
|
To the developers/maintainers of the scMAGeCK package: Make sure to use the following settings in order to reproduce any error or warning you see on this page. |
| Package 1803/2183 | Hostname | OS / Arch | INSTALL | BUILD | BUILD BIN | ||||||||
Xiaolong Cheng
| kjohnson | macOS 13.0 Ventura / arm64 | ERROR | ERROR | skipped | ||||||||
| Package: scMAGeCK |
| Version: 1.10.0 |
| Command: /Library/Frameworks/R.framework/Resources/bin/R CMD build --keep-empty-dirs --no-resave-data scMAGeCK |
| StartedAt: 2023-04-18 05:38:37 -0400 (Tue, 18 Apr 2023) |
| EndedAt: 2023-04-18 05:39:03 -0400 (Tue, 18 Apr 2023) |
| EllapsedTime: 26.2 seconds |
| RetCode: 1 |
| Status: ERROR |
| PackageFile: None |
| PackageFileSize: NA |
##############################################################################
##############################################################################
###
### Running command:
###
### /Library/Frameworks/R.framework/Resources/bin/R CMD build --keep-empty-dirs --no-resave-data scMAGeCK
###
##############################################################################
##############################################################################
* checking for file ‘scMAGeCK/DESCRIPTION’ ... OK
* preparing ‘scMAGeCK’:
* checking DESCRIPTION meta-information ... OK
* installing the package to process help pages
-----------------------------------
* installing *source* package ‘scMAGeCK’ ...
** using staged installation
** R
** inst
** byte-compile and prepare package for lazy loading
** help
*** installing help indices
** building package indices
** installing vignettes
** testing if installed package can be loaded from temporary location
Error: package or namespace load failed for ‘scMAGeCK’ in library.dynam(lib, package, package.lib):
shared object ‘scMAGeCK.so’ not found
Error: loading failed
Execution halted
ERROR: loading failed
* removing ‘/private/tmp/RtmpC4xc9q/Rinst176b55c00a0e1/scMAGeCK’
-----------------------------------
ERROR: package installation failed