| Back to Mac ARM64 build report for BioC 3.16 |
|
This page was generated on 2023-04-19 11:01:57 -0400 (Wed, 19 Apr 2023).
| Hostname | OS | Arch (*) | R version | Installed pkgs |
|---|---|---|---|---|
| kjohnson | macOS 13.0 Ventura | arm64 | 4.2.2 (2022-10-31) -- "Innocent and Trusting" | 4256 |
| Click on any hostname to see more info about the system (e.g. compilers) (*) as reported by 'uname -p', except on Windows and Mac OS X | ||||
|
To the developers/maintainers of the rawrr package: Make sure to use the following settings in order to reproduce any error or warning you see on this page. |
| Package 1597/2183 | Hostname | OS / Arch | INSTALL | BUILD | BUILD BIN | ||||||||
| rawrr 1.6.1 (landing page) Christian Panse
| kjohnson | macOS 13.0 Ventura / arm64 | ERROR | ERROR | skipped | ||||||||
| Package: rawrr |
| Version: 1.6.1 |
| Command: /Library/Frameworks/R.framework/Resources/bin/R CMD build --keep-empty-dirs --no-resave-data rawrr |
| StartedAt: 2023-04-18 00:03:23 -0400 (Tue, 18 Apr 2023) |
| EndedAt: 2023-04-18 00:03:27 -0400 (Tue, 18 Apr 2023) |
| EllapsedTime: 4.3 seconds |
| RetCode: 1 |
| Status: ERROR |
| PackageFile: None |
| PackageFileSize: NA |
##############################################################################
##############################################################################
###
### Running command:
###
### /Library/Frameworks/R.framework/Resources/bin/R CMD build --keep-empty-dirs --no-resave-data rawrr
###
##############################################################################
##############################################################################
* checking for file ‘rawrr/DESCRIPTION’ ... OK
* preparing ‘rawrr’:
* checking DESCRIPTION meta-information ... OK
* installing the package to build vignettes
-----------------------------------
* installing *source* package ‘rawrr’ ...
** using staged installation
** R
** inst
** byte-compile and prepare package for lazy loading
** help
*** installing help indices
** building package indices
** installing vignettes
** testing if installed package can be loaded from temporary location
Error: package or namespace load failed for ‘rawrr’:
.onLoad failed in loadNamespace() for 'rawrr', details:
call: fun(libname, pkgname)
error: The cross platform, open source .NET framework (mono) is not available.
Consider to install 'apt-get install mono-runtime' on Linux
or download/install from https://www.mono-project.com/.
Error: loading failed
Execution halted
ERROR: loading failed
* removing ‘/private/tmp/RtmpA0iZXS/Rinst1611e43b86ee9/rawrr’
-----------------------------------
ERROR: package installation failed