| Back to Mac ARM64 build report for BioC 3.16 |
|
This page was generated on 2023-04-19 11:01:51 -0400 (Wed, 19 Apr 2023).
| Hostname | OS | Arch (*) | R version | Installed pkgs |
|---|---|---|---|---|
| kjohnson | macOS 13.0 Ventura | arm64 | 4.2.2 (2022-10-31) -- "Innocent and Trusting" | 4256 |
| Click on any hostname to see more info about the system (e.g. compilers) (*) as reported by 'uname -p', except on Windows and Mac OS X | ||||
|
To the developers/maintainers of the qvalue package: Make sure to use the following settings in order to reproduce any error or warning you see on this page. |
| Package 1580/2183 | Hostname | OS / Arch | INSTALL | BUILD | BUILD BIN | ||||||||
| qvalue 2.30.0 (landing page) John D. Storey
| kjohnson | macOS 13.0 Ventura / arm64 | OK | OK | OK | ||||||||
| QUICK STATS | OS / Arch | INSTALL | BUILD | BUILD BIN | |||||||||||||
| kjohnson | macOS 13.0 Ventura / arm64 |
|
|
| |||||||||||||
| Package 1/39 | Hostname | OS / Arch | INSTALL | BUILD | BUILD BIN | ||||||||||||
| Anaquin 2.22.0 (landing page) Ted Wong
| kjohnson | macOS 13.0 Ventura / arm64 | OK | OK | OK | ||||||||||||
| Package 2/39 | Hostname | OS / Arch | INSTALL | BUILD | BUILD BIN | ||||||||||||
| anota 1.46.0 (landing page) Ola Larsson
| kjohnson | macOS 13.0 Ventura / arm64 | OK | OK | OK | ||||||||||||
| Package 3/39 | Hostname | OS / Arch | INSTALL | BUILD | BUILD BIN | ||||||||||||
| anota2seq 1.20.0 (landing page) Christian Oertlin
| kjohnson | macOS 13.0 Ventura / arm64 | OK | OK | OK | ||||||||||||
| Package 4/39 | Hostname | OS / Arch | INSTALL | BUILD | BUILD BIN | ||||||||||||
| ChAMP 2.28.0 (landing page) Yuan Tian
| kjohnson | macOS 13.0 Ventura / arm64 | OK | OK | OK | ||||||||||||
| Package 5/39 | Hostname | OS / Arch | INSTALL | BUILD | BUILD BIN | ||||||||||||
| clusterProfiler 4.6.2 (landing page) Guangchuang Yu
| kjohnson | macOS 13.0 Ventura / arm64 | OK | OK | OK | ||||||||||||
| Package 6/39 | Hostname | OS / Arch | INSTALL | BUILD | BUILD BIN | ||||||||||||
| CTSV 1.0.0 (landing page) Jinge Yu Developer
| kjohnson | macOS 13.0 Ventura / arm64 | OK | OK | OK | ||||||||||||
| Package 7/39 | Hostname | OS / Arch | INSTALL | BUILD | BUILD BIN | ||||||||||||
| DEGseq 1.52.0 (landing page) Likun Wang
| kjohnson | macOS 13.0 Ventura / arm64 | OK | OK | OK | ||||||||||||
| Package 8/39 | Hostname | OS / Arch | INSTALL | BUILD | BUILD BIN | ||||||||||||
| derfinder 1.32.0 (landing page) Leonardo Collado-Torres
| kjohnson | macOS 13.0 Ventura / arm64 | OK | OK | OK | ||||||||||||
| Package 9/39 | Hostname | OS / Arch | INSTALL | BUILD | BUILD BIN | ||||||||||||
| DOSE 3.24.2 (landing page) Guangchuang Yu
| kjohnson | macOS 13.0 Ventura / arm64 | OK | OK | OK | ||||||||||||
| Package 10/39 | Hostname | OS / Arch | INSTALL | BUILD | BUILD BIN | ||||||||||||
| DrugVsDisease 2.40.0 (landing page) j. Saez-Rodriguez
| kjohnson | macOS 13.0 Ventura / arm64 | OK | OK | OK | ||||||||||||
| Package 11/39 | Hostname | OS / Arch | INSTALL | BUILD | BUILD BIN | ||||||||||||
| edge 2.30.0 (landing page) John D. Storey
| kjohnson | macOS 13.0 Ventura / arm64 | OK | OK | OK | ||||||||||||
| Package 12/39 | Hostname | OS / Arch | INSTALL | BUILD | BUILD BIN | ||||||||||||
| epihet 1.14.0 (landing page) Xiaowen Chen
| kjohnson | macOS 13.0 Ventura / arm64 | ERROR | ERROR | skipped | ||||||||||||
| Package 13/39 | Hostname | OS / Arch | INSTALL | BUILD | BUILD BIN | ||||||||||||
| erccdashboard 1.32.0 (landing page) Sarah Munro
| kjohnson | macOS 13.0 Ventura / arm64 | OK | OK | OK | ||||||||||||
| Package 14/39 | Hostname | OS / Arch | INSTALL | BUILD | BUILD BIN | ||||||||||||
| EventPointer 3.6.0 (landing page) Juan A. Ferrer-Bonsoms
| kjohnson | macOS 13.0 Ventura / arm64 | OK | OK | OK | ||||||||||||
| Package 15/39 | Hostname | OS / Arch | INSTALL | BUILD | BUILD BIN | ||||||||||||
| FindIT2 1.4.0 (landing page) Guandong Shang
| kjohnson | macOS 13.0 Ventura / arm64 | OK | OK | OK | ||||||||||||
| Package 16/39 | Hostname | OS / Arch | INSTALL | BUILD | BUILD BIN | ||||||||||||
| fishpond 2.4.1 (landing page) Michael Love
| kjohnson | macOS 13.0 Ventura / arm64 | OK | OK | OK | ||||||||||||
| Package 17/39 | Hostname | OS / Arch | INSTALL | BUILD | BUILD BIN | ||||||||||||
| InTAD 1.18.0 (landing page) Konstantin Okonechnikov
| kjohnson | macOS 13.0 Ventura / arm64 | OK | OK | OK | ||||||||||||
| Package 18/39 | Hostname | OS / Arch | INSTALL | BUILD | BUILD BIN | ||||||||||||
| metaseqR2 1.10.0 (landing page) Panagiotis Moulos
| kjohnson | macOS 13.0 Ventura / arm64 | OK | OK | OK | ||||||||||||
| Package 19/39 | Hostname | OS / Arch | INSTALL | BUILD | BUILD BIN | ||||||||||||
| methylKit 1.24.0 (landing page) Altuna Akalin
| kjohnson | macOS 13.0 Ventura / arm64 | OK | OK | OK | ||||||||||||
| Package 20/39 | Hostname | OS / Arch | INSTALL | BUILD | BUILD BIN | ||||||||||||
| MOMA 1.10.0 (landing page) Sunny Jones
| kjohnson | macOS 13.0 Ventura / arm64 | OK | OK | OK | ||||||||||||
| Package 21/39 | Hostname | OS / Arch | INSTALL | BUILD | BUILD BIN | ||||||||||||
| msmsTests 1.36.0 (landing page) Josep Gregori i Font
| kjohnson | macOS 13.0 Ventura / arm64 | OK | OK | OK | ||||||||||||
| Package 22/39 | Hostname | OS / Arch | INSTALL | BUILD | BUILD BIN | ||||||||||||
| MWASTools 1.22.0 (landing page) Andrea Rodriguez-Martinez
| kjohnson | macOS 13.0 Ventura / arm64 | OK | OK | OK | ||||||||||||
| Package 23/39 | Hostname | OS / Arch | INSTALL | BUILD | BUILD BIN | ||||||||||||
| netresponse 1.58.0 (landing page) Leo Lahti
| kjohnson | macOS 13.0 Ventura / arm64 | OK | OK | OK | ||||||||||||
| Package 24/39 | Hostname | OS / Arch | INSTALL | BUILD | BUILD BIN | ||||||||||||
| normr 1.24.0 (landing page) Johannes Helmuth
| kjohnson | macOS 13.0 Ventura / arm64 | OK | OK | OK | ||||||||||||
| Package 25/39 | Hostname | OS / Arch | INSTALL | BUILD | BUILD BIN | ||||||||||||
| OPWeight 1.20.0 (landing page) Mohamad Hasan
| kjohnson | macOS 13.0 Ventura / arm64 | OK | OK | OK | ||||||||||||
| Package 26/39 | Hostname | OS / Arch | INSTALL | BUILD | BUILD BIN | ||||||||||||
| PAST 1.14.0 (landing page) Thrash Adam
| kjohnson | macOS 13.0 Ventura / arm64 | OK | OK | OK | ||||||||||||
| Package 27/39 | Hostname | OS / Arch | INSTALL | BUILD | BUILD BIN | ||||||||||||
| r3Cseq 1.44.0 (landing page) Supat Thongjuea
| kjohnson | macOS 13.0 Ventura / arm64 | OK | OK | OK | ||||||||||||
| Package 28/39 | Hostname | OS / Arch | INSTALL | BUILD | BUILD BIN | ||||||||||||
| RiboDiPA 1.6.0 (landing page) Ji-Ping Wang
| kjohnson | macOS 13.0 Ventura / arm64 | OK | OK | OK | ||||||||||||
| Package 29/39 | Hostname | OS / Arch | INSTALL | BUILD | BUILD BIN | ||||||||||||
| RNAsense 1.12.0 (landing page) Marcus Rosenblatt
| kjohnson | macOS 13.0 Ventura / arm64 | OK | OK | OK | ||||||||||||
| Package 30/39 | Hostname | OS / Arch | INSTALL | BUILD | BUILD BIN | ||||||||||||
| Rnits 1.32.1 (landing page) Dipen P. Sangurdekar
| kjohnson | macOS 13.0 Ventura / arm64 | OK | ERROR | skipped | ||||||||||||
| Package 31/39 | Hostname | OS / Arch | INSTALL | BUILD | BUILD BIN | ||||||||||||
| RolDE 1.2.0 (landing page) Tommi Valikangas
| kjohnson | macOS 13.0 Ventura / arm64 | OK | OK | OK | ||||||||||||
| Package 32/39 | Hostname | OS / Arch | INSTALL | BUILD | BUILD BIN | ||||||||||||
| SDAMS 1.18.0 (landing page) Yuntong Li
| kjohnson | macOS 13.0 Ventura / arm64 | OK | OK | OK | ||||||||||||
| Package 33/39 | Hostname | OS / Arch | INSTALL | BUILD | BUILD BIN | ||||||||||||
| sights 1.24.0 (landing page) Elika Garg
| kjohnson | macOS 13.0 Ventura / arm64 | OK | OK | OK | ||||||||||||
| Package 34/39 | Hostname | OS / Arch | INSTALL | BUILD | BUILD BIN | ||||||||||||
| signatureSearch 1.12.0 (landing page) Brendan Gongol
| kjohnson | macOS 13.0 Ventura / arm64 | OK | OK | OK | ||||||||||||
| Package 35/39 | Hostname | OS / Arch | INSTALL | BUILD | BUILD BIN | ||||||||||||
| subSeq 1.28.0 (landing page) Andrew J. Bass
| kjohnson | macOS 13.0 Ventura / arm64 | OK | OK | OK | ||||||||||||
| Package 36/39 | Hostname | OS / Arch | INSTALL | BUILD | BUILD BIN | ||||||||||||
| synapter 2.22.0 (landing page) Laurent Gatto
| kjohnson | macOS 13.0 Ventura / arm64 | OK | OK | OK | ||||||||||||
| Package 37/39 | Hostname | OS / Arch | INSTALL | BUILD | BUILD BIN | ||||||||||||
| trigger 1.44.0 (landing page) John D. Storey
| kjohnson | macOS 13.0 Ventura / arm64 | OK | OK | OK | ||||||||||||
| Package 38/39 | Hostname | OS / Arch | INSTALL | BUILD | BUILD BIN | ||||||||||||
| vsclust 1.0.0 (landing page) Veit Schwaemmle
| kjohnson | macOS 13.0 Ventura / arm64 | OK | OK | OK | ||||||||||||
| Package 39/39 | Hostname | OS / Arch | INSTALL | BUILD | BUILD BIN | ||||||||||||
| webbioc 1.70.0 (landing page) Colin A. Smith
| kjohnson | macOS 13.0 Ventura / arm64 | OK | OK | OK | ||||||||||||