| Back to Mac ARM64 build report for BioC 3.16 |
|
This page was generated on 2023-02-08 11:02:08 -0500 (Wed, 08 Feb 2023).
| Hostname | OS | Arch (*) | R version | Installed pkgs |
|---|---|---|---|---|
| kjohnson | macOS 13.0 Ventura | arm64 | 4.2.2 (2022-10-31) -- "Innocent and Trusting" | 4240 |
| Click on any hostname to see more info about the system (e.g. compilers) (*) as reported by 'uname -p', except on Windows and Mac OS X | ||||
|
To the developers/maintainers of the ensemblVEP package: Make sure to use the following settings in order to reproduce any error or warning you see on this page. |
| Package 614/2183 | Hostname | OS / Arch | INSTALL | BUILD | BUILD BIN | ||||||||
| ensemblVEP 1.40.0 (landing page) Bioconductor Package Maintainer
| kjohnson | macOS 13.0 Ventura / arm64 | OK | OK | OK | ||||||||
| Package: ensemblVEP |
| Version: 1.40.0 |
| Command: rm -rf ensemblVEP.buildbin-libdir && mkdir ensemblVEP.buildbin-libdir && /Users/biocbuild/BBS/utils/build-universal.sh ensemblVEP_1.40.0.tar.gz /Library/Frameworks/R.framework/Resources/bin/R ensemblVEP.buildbin-libdir |
| StartedAt: 2023-02-07 12:44:20 -0500 (Tue, 07 Feb 2023) |
| EndedAt: 2023-02-07 12:46:12 -0500 (Tue, 07 Feb 2023) |
| EllapsedTime: 111.7 seconds |
| RetCode: 0 |
| Status: OK |
| PackageFile: ensemblVEP_1.40.0.tgz |
| PackageFileSize: 624.5 KiB |
############################################################################## ############################################################################## ### ### Running command: ### ### rm -rf ensemblVEP.buildbin-libdir && mkdir ensemblVEP.buildbin-libdir && /Users/biocbuild/BBS/utils/build-universal.sh ensemblVEP_1.40.0.tar.gz /Library/Frameworks/R.framework/Resources/bin/R ensemblVEP.buildbin-libdir ### ############################################################################## ############################################################################## >>>>>>> >>>>>>> INSTALLATION WITH 'R CMD INSTALL --preclean --no-multiarch --library=ensemblVEP.buildbin-libdir ensemblVEP_1.40.0.tar.gz' >>>>>>> * installing *source* package ‘ensemblVEP’ ... ** using staged installation ** R ** inst ** byte-compile and prepare package for lazy loading ** help *** installing help indices ** building package indices ** installing vignettes ** testing if installed package can be loaded from temporary location ** testing if installed package can be loaded from final location ** testing if installed package keeps a record of temporary installation path * DONE (ensemblVEP)