| Back to Mac ARM64 build report for BioC 3.16 | 
 | 
This page was generated on 2023-04-19 11:01:53 -0400 (Wed, 19 Apr 2023).
| Hostname | OS | Arch (*) | R version | Installed pkgs | 
|---|---|---|---|---|
| kjohnson | macOS 13.0 Ventura | arm64 | 4.2.2 (2022-10-31) -- "Innocent and Trusting" | 4256 | 
| Click on any hostname to see more info about the system (e.g. compilers) (*) as reported by 'uname -p', except on Windows and Mac OS X | ||||
| To the developers/maintainers of the cbpManager package: Make sure to use the following settings in order to reproduce any error or warning you see on this page. | 
| Package 264/2183 | Hostname | OS / Arch | INSTALL | BUILD | BUILD BIN | ||||||||
| cbpManager 1.6.0  (landing page) Arsenij Ustjanzew 
 | kjohnson | macOS 13.0 Ventura / arm64 | OK | OK | OK |  | |||||||
| Package: cbpManager | 
| Version: 1.6.0 | 
| Command: /Library/Frameworks/R.framework/Resources/bin/R CMD INSTALL cbpManager | 
| StartedAt: 2023-04-16 19:03:24 -0400 (Sun, 16 Apr 2023) | 
| EndedAt: 2023-04-16 19:03:39 -0400 (Sun, 16 Apr 2023) | 
| EllapsedTime: 14.8 seconds | 
| RetCode: 0 | 
| Status: OK | 
############################################################################## ############################################################################## ### ### Running command: ### ### /Library/Frameworks/R.framework/Resources/bin/R CMD INSTALL cbpManager ### ############################################################################## ############################################################################## * installing to library ‘/Library/Frameworks/R.framework/Versions/4.2-arm64/Resources/library’ * installing *source* package ‘cbpManager’ ... ** using non-staged installation via StagedInstall field ** R ** inst ** byte-compile and prepare package for lazy loading ** help *** installing help indices ** building package indices ** installing vignettes ** testing if installed package can be loaded * DONE (cbpManager)