| Back to Mac ARM64 build report for BioC 3.16 |
|
This page was generated on 2023-04-19 11:01:59 -0400 (Wed, 19 Apr 2023).
| Hostname | OS | Arch (*) | R version | Installed pkgs |
|---|---|---|---|---|
| kjohnson | macOS 13.0 Ventura | arm64 | 4.2.2 (2022-10-31) -- "Innocent and Trusting" | 4256 |
| Click on any hostname to see more info about the system (e.g. compilers) (*) as reported by 'uname -p', except on Windows and Mac OS X | ||||
|
To the developers/maintainers of the TCGAbiolinksGUI package: Make sure to use the following settings in order to reproduce any error or warning you see on this page. |
| Package 2028/2183 | Hostname | OS / Arch | INSTALL | BUILD | BUILD BIN | ||||||||
Tiago C. Silva
| kjohnson | macOS 13.0 Ventura / arm64 | ERROR | ERROR | skipped | ||||||||
| Package: TCGAbiolinksGUI |
| Version: 1.24.0 |
| Command: /Library/Frameworks/R.framework/Resources/bin/R CMD build --keep-empty-dirs --no-resave-data TCGAbiolinksGUI |
| StartedAt: 2023-04-18 10:22:07 -0400 (Tue, 18 Apr 2023) |
| EndedAt: 2023-04-18 10:22:09 -0400 (Tue, 18 Apr 2023) |
| EllapsedTime: 2.2 seconds |
| RetCode: 1 |
| Status: ERROR |
| PackageFile: None |
| PackageFileSize: NA |
##############################################################################
##############################################################################
###
### Running command:
###
### /Library/Frameworks/R.framework/Resources/bin/R CMD build --keep-empty-dirs --no-resave-data TCGAbiolinksGUI
###
##############################################################################
##############################################################################
* checking for file ‘TCGAbiolinksGUI/DESCRIPTION’ ... OK
* preparing ‘TCGAbiolinksGUI’:
* checking DESCRIPTION meta-information ... OK
* installing the package to build vignettes
-----------------------------------
* installing *source* package ‘TCGAbiolinksGUI’ ...
** using staged installation
** R
Error in parse(outFile) :
/private/tmp/RtmpSeAl7p/Rbuildd7e8b4296fe/TCGAbiolinksGUI/R/zzz.R:28:1: unexpected '}'
27: }
28: }
^
ERROR: unable to collate and parse R files for package ‘TCGAbiolinksGUI’
* removing ‘/private/tmp/RtmpSeAl7p/Rinstd7e840c70378/TCGAbiolinksGUI’
-----------------------------------
ERROR: package installation failed