| Back to Mac ARM64 build report for BioC 3.16 |
|
This page was generated on 2023-03-22 11:02:08 -0400 (Wed, 22 Mar 2023).
| Hostname | OS | Arch (*) | R version | Installed pkgs |
|---|---|---|---|---|
| kjohnson | macOS 13.0 Ventura | arm64 | 4.2.2 (2022-10-31) -- "Innocent and Trusting" | 4252 |
| Click on any hostname to see more info about the system (e.g. compilers) (*) as reported by 'uname -p', except on Windows and Mac OS X | ||||
|
To the developers/maintainers of the SCATE package: Make sure to use the following settings in order to reproduce any error or warning you see on this page. |
| Package 1782/2183 | Hostname | OS / Arch | INSTALL | BUILD | BUILD BIN | ||||||||
| SCATE 1.8.0 (landing page) Wenpin Hou
| kjohnson | macOS 13.0 Ventura / arm64 | OK | OK | OK | ||||||||
| Package: SCATE |
| Version: 1.8.0 |
| Command: rm -rf SCATE.buildbin-libdir && mkdir SCATE.buildbin-libdir && /Users/biocbuild/BBS/utils/build-universal.sh SCATE_1.8.0.tar.gz /Library/Frameworks/R.framework/Resources/bin/R SCATE.buildbin-libdir |
| StartedAt: 2023-03-21 12:42:38 -0400 (Tue, 21 Mar 2023) |
| EndedAt: 2023-03-21 12:44:02 -0400 (Tue, 21 Mar 2023) |
| EllapsedTime: 84.3 seconds |
| RetCode: 0 |
| Status: OK |
| PackageFile: SCATE_1.8.0.tgz |
| PackageFileSize: 318.7 KiB |
############################################################################## ############################################################################## ### ### Running command: ### ### rm -rf SCATE.buildbin-libdir && mkdir SCATE.buildbin-libdir && /Users/biocbuild/BBS/utils/build-universal.sh SCATE_1.8.0.tar.gz /Library/Frameworks/R.framework/Resources/bin/R SCATE.buildbin-libdir ### ############################################################################## ############################################################################## >>>>>>> >>>>>>> INSTALLATION WITH 'R CMD INSTALL --preclean --no-multiarch --library=SCATE.buildbin-libdir SCATE_1.8.0.tar.gz' >>>>>>> * installing *source* package ‘SCATE’ ... ** using staged installation ** R ** inst ** byte-compile and prepare package for lazy loading snapshotDate(): 2022-10-31 ** help *** installing help indices ** building package indices ** installing vignettes ** testing if installed package can be loaded from temporary location snapshotDate(): 2022-10-31 ** testing if installed package can be loaded from final location snapshotDate(): 2022-10-31 ** testing if installed package keeps a record of temporary installation path * DONE (SCATE)